BEGIN:VCALENDAR
VERSION:2.0
PRODID:-//Badan Keuangan dan Aset Daerah - ECPv6.15.16//NONSGML v1.0//EN
CALSCALE:GREGORIAN
METHOD:PUBLISH
X-WR-CALNAME:Badan Keuangan dan Aset Daerah
X-ORIGINAL-URL:https://bkad.slemankab.go.id
X-WR-CALDESC:Events for Badan Keuangan dan Aset Daerah
REFRESH-INTERVAL;VALUE=DURATION:PT1H
X-Robots-Tag:noindex
X-PUBLISHED-TTL:PT1H
BEGIN:VTIMEZONE
TZID:Asia/Krasnoyarsk
BEGIN:STANDARD
TZOFFSETFROM:+0700
TZOFFSETTO:+0700
TZNAME:+07
DTSTART:20190101T000000
END:STANDARD
END:VTIMEZONE
BEGIN:VEVENT
DTSTART;TZID=Asia/Krasnoyarsk:20200714T090000
DTEND;TZID=Asia/Krasnoyarsk:20200714T110000
DTSTAMP:20260424T161831
CREATED:20200709T041955Z
LAST-MODIFIED:20200709T041955Z
UID:3003-1594717200-1594724400@bkad.slemankab.go.id
SUMMARY:Koordinasi Terkait Peta Blok
DESCRIPTION:Ruang Rapat Bidang Dafdatap BKAD Sleman
URL:https://bkad.slemankab.go.id/event/koordinasi-terkait-peta-blok/
LOCATION:Kantor BKAD\, Jl Parasamya No.05\, Sleman\, Yogyakarta\, Indonesia
END:VEVENT
BEGIN:VEVENT
DTSTART;TZID=Asia/Krasnoyarsk:20200709T123000
DTEND;TZID=Asia/Krasnoyarsk:20200709T140000
DTSTAMP:20260424T161832
CREATED:20200709T041803Z
LAST-MODIFIED:20200709T041803Z
UID:3001-1594297800-1594303200@bkad.slemankab.go.id
SUMMARY:Pembahasan Perbup Tata Cara Pemberian Pengurangan Keringanan Pembebasan Retribusi Daerah
DESCRIPTION:Ruang Rapat Bidang Penagihan BKAD Sleman
URL:https://bkad.slemankab.go.id/event/pembahasan-perbup-tata-cara-pemberian-pengurangan-keringanan-pembebasan-retribusi-daerah/
LOCATION:Kantor BKAD\, Jl Parasamya No.05\, Sleman\, Yogyakarta\, Indonesia
END:VEVENT
BEGIN:VEVENT
DTSTART;TZID=Asia/Krasnoyarsk:20200708T100000
DTEND;TZID=Asia/Krasnoyarsk:20200708T120000
DTSTAMP:20260424T161832
CREATED:20200709T041547Z
LAST-MODIFIED:20200709T041547Z
UID:2999-1594202400-1594209600@bkad.slemankab.go.id
SUMMARY:Koordinasi dan Evaluasi Basis Data
DESCRIPTION:Ruang Rapat IIIA Lantai 3 BKAD Sleman
URL:https://bkad.slemankab.go.id/event/koordinasi-dan-evaluasi-basis-data-2/
LOCATION:Kantor BKAD\, Jl Parasamya No.05\, Sleman\, Yogyakarta\, Indonesia
END:VEVENT
BEGIN:VEVENT
DTSTART;TZID=Asia/Krasnoyarsk:20200707T100000
DTEND;TZID=Asia/Krasnoyarsk:20200707T120000
DTSTAMP:20260424T161832
CREATED:20200709T041511Z
LAST-MODIFIED:20200709T041511Z
UID:2997-1594116000-1594123200@bkad.slemankab.go.id
SUMMARY:Koordinasi dan Evaluasi Basis Data
DESCRIPTION:Ruang Rapat IIIA Lantai 3 BKAD Sleman
URL:https://bkad.slemankab.go.id/event/koordinasi-dan-evaluasi-basis-data/
LOCATION:Kantor BKAD\, Jl Parasamya No.05\, Sleman\, Yogyakarta\, Indonesia
END:VEVENT
BEGIN:VEVENT
DTSTART;TZID=Asia/Krasnoyarsk:20200707T090000
DTEND;TZID=Asia/Krasnoyarsk:20200707T120000
DTSTAMP:20260424T161832
CREATED:20200707T014920Z
LAST-MODIFIED:20200707T014920Z
UID:2972-1594112400-1594123200@bkad.slemankab.go.id
SUMMARY:Pelatihan Input Kekurangan/Susulan/Terusan Gaji ASN Tahun 2020
DESCRIPTION:Ruang Rapat IIIB Lantai 3 BKAD Sleman
URL:https://bkad.slemankab.go.id/event/pelatihan-input-kekurangan-susulan-terusan-gaji-asn-tahun-2020-2/
LOCATION:Kantor BKAD\, Jl Parasamya No.05\, Sleman\, Yogyakarta\, Indonesia
END:VEVENT
BEGIN:VEVENT
DTSTART;TZID=Asia/Krasnoyarsk:20200706T090000
DTEND;TZID=Asia/Krasnoyarsk:20200706T120000
DTSTAMP:20260424T161832
CREATED:20200707T014837Z
LAST-MODIFIED:20200707T014837Z
UID:2970-1594026000-1594036800@bkad.slemankab.go.id
SUMMARY:Pelatihan Input Kekurangan/Susulan/Terusan Gaji ASN Tahun 2020
DESCRIPTION:Ruang Rapat IIIB Lantai 3 BKAD Sleman
URL:https://bkad.slemankab.go.id/event/pelatihan-input-kekurangan-susulan-terusan-gaji-asn-tahun-2020/
LOCATION:Kantor BKAD\, Jl Parasamya No.05\, Sleman\, Yogyakarta\, Indonesia
END:VEVENT
BEGIN:VEVENT
DTSTART;TZID=Asia/Krasnoyarsk:20200703T130000
DTEND;TZID=Asia/Krasnoyarsk:20200703T143000
DTSTAMP:20260424T161832
CREATED:20200709T040758Z
LAST-MODIFIED:20200709T040758Z
UID:2991-1593781200-1593786600@bkad.slemankab.go.id
SUMMARY:Rekonsiliasi Pendapatan Bulan Juni 2020
DESCRIPTION:Ruang Rapat Bidang Penagihan
URL:https://bkad.slemankab.go.id/event/rekonsiliasi-pendapatan-bulan-juni-2020/
LOCATION:Kantor BKAD\, Jl Parasamya No.05\, Sleman\, Yogyakarta\, Indonesia
END:VEVENT
BEGIN:VEVENT
DTSTART;TZID=Asia/Krasnoyarsk:20200703T090000
DTEND;TZID=Asia/Krasnoyarsk:20200703T103000
DTSTAMP:20260424T161832
CREATED:20200709T040934Z
LAST-MODIFIED:20200709T040934Z
UID:2993-1593766800-1593772200@bkad.slemankab.go.id
SUMMARY:Koordinasi dan Evaluasi Penyampaian Surat Teguran Pajak Daerah
DESCRIPTION:Ruang Rapat Bidang Dafdatap
URL:https://bkad.slemankab.go.id/event/koordinasi-dan-evaluasi-penyampaian-surat-teguran-pajak-daerah/
LOCATION:Kantor BKAD\, Jl Parasamya No.05\, Sleman\, Yogyakarta\, Indonesia
END:VEVENT
BEGIN:VEVENT
DTSTART;TZID=Asia/Krasnoyarsk:20200702T130000
DTEND;TZID=Asia/Krasnoyarsk:20200702T150000
DTSTAMP:20260424T161832
CREATED:20200709T041210Z
LAST-MODIFIED:20200709T041210Z
UID:2995-1593694800-1593702000@bkad.slemankab.go.id
SUMMARY:Rapat Koordinasi Pencermatan RKB Penanganan Covid-19
DESCRIPTION:Ruang Rapat IIA
URL:https://bkad.slemankab.go.id/event/rapat-koordinasi-pencermatan-rkb-penanganan-covid-19/
LOCATION:Kantor BKAD\, Jl Parasamya No.05\, Sleman\, Yogyakarta\, Indonesia
END:VEVENT
BEGIN:VEVENT
DTSTART;TZID=Asia/Krasnoyarsk:20200702T100000
DTEND;TZID=Asia/Krasnoyarsk:20200702T113000
DTSTAMP:20260424T161832
CREATED:20200709T042136Z
LAST-MODIFIED:20200709T042136Z
UID:3005-1593684000-1593689400@bkad.slemankab.go.id
SUMMARY:Koordinasi Pelaporan Volume MBLB
DESCRIPTION:Ruang Rapat Dafdatap BKAD Sleman
URL:https://bkad.slemankab.go.id/event/koordinasi-pelaporan-volume-mblb/
LOCATION:Kantor BKAD\, Jl Parasamya No.05\, Sleman\, Yogyakarta\, Indonesia
END:VEVENT
BEGIN:VEVENT
DTSTART;TZID=Asia/Krasnoyarsk:20200702T090000
DTEND;TZID=Asia/Krasnoyarsk:20200702T110000
DTSTAMP:20260424T161832
CREATED:20200709T040622Z
LAST-MODIFIED:20200709T040622Z
UID:2989-1593680400-1593687600@bkad.slemankab.go.id
SUMMARY:Koordinasi Persiapan PBB P2 Panutan
DESCRIPTION:Ruang Rapat Bidang Penagihan
URL:https://bkad.slemankab.go.id/event/koordinasi-persiapan-pbb-p2-panutan/
LOCATION:Kantor BKAD\, Jl Parasamya No.05\, Sleman\, Yogyakarta\, Indonesia
END:VEVENT
BEGIN:VEVENT
DTSTART;TZID=Asia/Krasnoyarsk:20200701T130000
DTEND;TZID=Asia/Krasnoyarsk:20200701T150000
DTSTAMP:20260424T161832
CREATED:20200709T040510Z
LAST-MODIFIED:20200709T040510Z
UID:2987-1593608400-1593615600@bkad.slemankab.go.id
SUMMARY:Rapat Koordinasi Menanggapi Surat dari Kemendagri tentang Aplikasi SIPD
DESCRIPTION:Ruang Rapat IIA Lantai 2 BKAD Sleman
URL:https://bkad.slemankab.go.id/event/rapat-koordinasi-menanggapi-surat-dari-kemendagri-tentang-aplikasi-sipd/
LOCATION:Kantor BKAD\, Jl Parasamya No.05\, Sleman\, Yogyakarta\, Indonesia
END:VEVENT
BEGIN:VEVENT
DTSTART;TZID=Asia/Krasnoyarsk:20200630T130000
DTEND;TZID=Asia/Krasnoyarsk:20200630T143000
DTSTAMP:20260424T161832
CREATED:20200709T042321Z
LAST-MODIFIED:20200709T042321Z
UID:3007-1593522000-1593527400@bkad.slemankab.go.id
SUMMARY:Koordinasi Sistem Informasi Penyampaian Surat Teguran Wajib Pajak
DESCRIPTION:Ruang Rapat Bidang Dafdatap BKAD Sleman
URL:https://bkad.slemankab.go.id/event/koordinasi-sistem-informasi-penyampaian-surat-teguran-wajib-pajak/
LOCATION:Kantor BKAD\, Jl Parasamya No.05\, Sleman\, Yogyakarta\, Indonesia
END:VEVENT
BEGIN:VEVENT
DTSTART;TZID=Asia/Krasnoyarsk:20200630T100000
DTEND;TZID=Asia/Krasnoyarsk:20200630T113000
DTSTAMP:20260424T161832
CREATED:20200709T042543Z
LAST-MODIFIED:20200709T042543Z
UID:3009-1593511200-1593516600@bkad.slemankab.go.id
SUMMARY:Evaluasi Penagihan Pajak Daerah Melalui Media STPD
DESCRIPTION:Ruang Rapat Bidang Penagihan BKAD Sleman
URL:https://bkad.slemankab.go.id/event/evaluasi-penagihan-pajak-daerah-melalui-media-stpd/
LOCATION:Kantor BKAD\, Jl Parasamya No.05\, Sleman\, Yogyakarta\, Indonesia
END:VEVENT
BEGIN:VEVENT
DTSTART;TZID=Asia/Krasnoyarsk:20200629T130000
DTEND;TZID=Asia/Krasnoyarsk:20200629T143000
DTSTAMP:20260424T161832
CREATED:20200709T042722Z
LAST-MODIFIED:20200709T042748Z
UID:3011-1593435600-1593441000@bkad.slemankab.go.id
SUMMARY:Rapat Koordinasi BA Rekonsiliasi BPJS Cawu I Tahun 2020
DESCRIPTION:Ruang Rapat IIA BKAD Sleman
URL:https://bkad.slemankab.go.id/event/rapat-koordinasi-ba-rekonsiliasi-bpjs-cawu-i-tahun-2020/
LOCATION:Kantor BKAD\, Jl Parasamya No.05\, Sleman\, Yogyakarta\, Indonesia
END:VEVENT
BEGIN:VEVENT
DTSTART;TZID=Asia/Krasnoyarsk:20200629T100000
DTEND;TZID=Asia/Krasnoyarsk:20200629T120000
DTSTAMP:20260424T161832
CREATED:20200707T014649Z
LAST-MODIFIED:20200707T014649Z
UID:2968-1593424800-1593432000@bkad.slemankab.go.id
SUMMARY:Pembahasan Dasar Hukum Penyaluran Bantuan Sosial Melalui Bank Sleman
DESCRIPTION:Ruang Rapat IIIA Lantai 3 BKAD Sleman
URL:https://bkad.slemankab.go.id/event/pembahasan-dasar-hukum-penyaluran-bantuan-sosial-melalui-bank-sleman/
LOCATION:Kantor BKAD\, Jl Parasamya No.05\, Sleman\, Yogyakarta\, Indonesia
END:VEVENT
BEGIN:VEVENT
DTSTART;TZID=Asia/Krasnoyarsk:20200626T090000
DTEND;TZID=Asia/Krasnoyarsk:20200626T103000
DTSTAMP:20260424T161832
CREATED:20200709T043028Z
LAST-MODIFIED:20200709T043028Z
UID:3013-1593162000-1593167400@bkad.slemankab.go.id
SUMMARY:Rapat Koordinasi Pelaporan SPTPD Pajak Daerah
DESCRIPTION:Ruang Rapat Bidang Dafdatap BKAD Sleman
URL:https://bkad.slemankab.go.id/event/rapat-koordinasi-pelaporan-sptpd-pajak-daerah/
LOCATION:Kantor BKAD\, Jl Parasamya No.05\, Sleman\, Yogyakarta\, Indonesia
END:VEVENT
BEGIN:VEVENT
DTSTART;TZID=Asia/Krasnoyarsk:20200626T083000
DTEND;TZID=Asia/Krasnoyarsk:20200626T100000
DTSTAMP:20260424T161832
CREATED:20200709T043128Z
LAST-MODIFIED:20200709T043128Z
UID:3015-1593160200-1593165600@bkad.slemankab.go.id
SUMMARY:Bimtek Penyusunan Laporan Keuangan Terkait Sumbangan untuk Penanganan Covid-19
DESCRIPTION:Ruang Rapat IIIA BKAD Sleman
URL:https://bkad.slemankab.go.id/event/bimtek-penyusunan-laporan-keuangan-terkait-sumbangan-untuk-penanganan-covid-19/
LOCATION:Kantor BKAD\, Jl Parasamya No.05\, Sleman\, Yogyakarta\, Indonesia
END:VEVENT
BEGIN:VEVENT
DTSTART;TZID=Asia/Krasnoyarsk:20200624T100000
DTEND;TZID=Asia/Krasnoyarsk:20200624T130000
DTSTAMP:20260424T161832
CREATED:20200709T043632Z
LAST-MODIFIED:20200709T043632Z
UID:3017-1592992800-1593003600@bkad.slemankab.go.id
SUMMARY:Rapat Koordinasi BA Rekonsiliasi BPJS Cawu I Tahun 2020
DESCRIPTION:Ruang Rapat IIA BKAD Sleman
URL:https://bkad.slemankab.go.id/event/rapat-koordinasi-ba-rekonsiliasi-bpjs-cawu-i-tahun-2020-2/
LOCATION:Kantor BKAD\, Jl Parasamya No.05\, Sleman\, Yogyakarta\, Indonesia
END:VEVENT
BEGIN:VEVENT
DTSTART;TZID=Asia/Krasnoyarsk:20200623T100000
DTEND;TZID=Asia/Krasnoyarsk:20200623T120000
DTSTAMP:20260424T161832
CREATED:20200707T014536Z
LAST-MODIFIED:20200707T014536Z
UID:2966-1592906400-1592913600@bkad.slemankab.go.id
SUMMARY:Koordinasi Sim Aset terkait Perubahan Kode Barang
DESCRIPTION:Ruang Rapat Bidang Aset
URL:https://bkad.slemankab.go.id/event/koordinasi-sim-aset-terkait-perubahan-kode-barang/
LOCATION:Kantor BKAD\, Jl Parasamya No.05\, Sleman\, Yogyakarta\, Indonesia
END:VEVENT
BEGIN:VEVENT
DTSTART;TZID=Asia/Krasnoyarsk:20200619T090000
DTEND;TZID=Asia/Krasnoyarsk:20200619T103000
DTSTAMP:20260424T161832
CREATED:20200709T043949Z
LAST-MODIFIED:20200709T043949Z
UID:3019-1592557200-1592562600@bkad.slemankab.go.id
SUMMARY:Rapat Evaluasi BPHTB
DESCRIPTION:Ruang Rapat Bidang Dafdatap BKAD Sleman
URL:https://bkad.slemankab.go.id/event/rapat-evaluasi-bphtb/
LOCATION:Kantor BKAD\, Jl Parasamya No.05\, Sleman\, Yogyakarta\, Indonesia
END:VEVENT
BEGIN:VEVENT
DTSTART;TZID=Asia/Krasnoyarsk:20200618T130000
DTEND;TZID=Asia/Krasnoyarsk:20200618T150000
DTSTAMP:20260424T161832
CREATED:20200709T044843Z
LAST-MODIFIED:20200709T044843Z
UID:3024-1592485200-1592492400@bkad.slemankab.go.id
SUMMARY:Rapat Koordinasi Lanjutan Penyusunan NPHD Penyelenggaraan Pemilihan Bupati & Wabup Kab.Sleman Th.2020
DESCRIPTION:Ruang Rapat IIIA BKAD Sleman
URL:https://bkad.slemankab.go.id/event/rapat-koordinasi-lanjutan-penyusunan-nphd-penyelenggaraan-pemilihan-bupati-wabup-kab-sleman-th-2020/
LOCATION:Kantor BKAD\, Jl Parasamya No.05\, Sleman\, Yogyakarta\, Indonesia
END:VEVENT
BEGIN:VEVENT
DTSTART;TZID=Asia/Krasnoyarsk:20200618T100000
DTEND;TZID=Asia/Krasnoyarsk:20200618T113000
DTSTAMP:20260424T161832
CREATED:20200709T044414Z
LAST-MODIFIED:20200709T044421Z
UID:3021-1592474400-1592479800@bkad.slemankab.go.id
SUMMARY:Rapat Koordinasi Pensertifikatan Tanah Hasil Hibah PA Pemkab Sleman
DESCRIPTION:Ruang Rapat Bidang Aset BKAD Sleman
URL:https://bkad.slemankab.go.id/event/rapat-koordinasi-pensertifikatan-tanah-hasil-hibah-pa-pemkab-sleman/
LOCATION:Kantor BKAD\, Jl Parasamya No.05\, Sleman\, Yogyakarta\, Indonesia
END:VEVENT
BEGIN:VEVENT
DTSTART;TZID=Asia/Krasnoyarsk:20200617T100000
DTEND;TZID=Asia/Krasnoyarsk:20200617T113000
DTSTAMP:20260424T161832
CREATED:20200709T045043Z
LAST-MODIFIED:20200709T045043Z
UID:3026-1592388000-1592393400@bkad.slemankab.go.id
SUMMARY:Rapat Koordinasi dan Evaluasi Penyampaian Surat Teguran Pajak Daerah
DESCRIPTION:Ruang Rapat Bidang Dafdatap BKAD Sleman
URL:https://bkad.slemankab.go.id/event/rapat-koordinasi-dan-evaluasi-penyampaian-surat-teguran-pajak-daerah/
LOCATION:Kantor BKAD\, Jl Parasamya No.05\, Sleman\, Yogyakarta\, Indonesia
END:VEVENT
BEGIN:VEVENT
DTSTART;TZID=Asia/Krasnoyarsk:20200616T090000
DTEND;TZID=Asia/Krasnoyarsk:20200616T103000
DTSTAMP:20260424T161832
CREATED:20200709T045204Z
LAST-MODIFIED:20200709T045204Z
UID:3028-1592298000-1592303400@bkad.slemankab.go.id
SUMMARY:Koordinasi SIMPAD
DESCRIPTION:Ruang Rapat Bidang Dafdatap BKAD Sleman
URL:https://bkad.slemankab.go.id/event/koordinasi-simpad/
LOCATION:Kantor BKAD\, Jl Parasamya No.05\, Sleman\, Yogyakarta\, Indonesia
END:VEVENT
BEGIN:VEVENT
DTSTART;TZID=Asia/Krasnoyarsk:20200612T100000
DTEND;TZID=Asia/Krasnoyarsk:20200612T113000
DTSTAMP:20260424T161832
CREATED:20200709T050409Z
LAST-MODIFIED:20200709T050409Z
UID:3032-1591956000-1591961400@bkad.slemankab.go.id
SUMMARY:Rapat Koordinasi Laporan Tahap I DAK Fisik Bidang Kesehatan
DESCRIPTION:Ruang Rapat IIIA BKAD Sleman
URL:https://bkad.slemankab.go.id/event/rapat-koordinasi-laporan-tahap-i-dak-fisik-bidang-kesehatan/
LOCATION:Kantor BKAD\, Jl Parasamya No.05\, Sleman\, Yogyakarta\, Indonesia
END:VEVENT
BEGIN:VEVENT
DTSTART;TZID=Asia/Krasnoyarsk:20200612T090000
DTEND;TZID=Asia/Krasnoyarsk:20200612T113000
DTSTAMP:20260424T161832
CREATED:20200709T045809Z
LAST-MODIFIED:20200709T045809Z
UID:3030-1591952400-1591961400@bkad.slemankab.go.id
SUMMARY:Rapat Koordinasi Lanjutan Pelaksaan Pemilihan Bupati & Wabup Kab.Sleman Th.2020 Pada Masa Tanggap Darurat Bencana Covid-19
DESCRIPTION:Ruang Rapat IIIA BKAD Sleman
URL:https://bkad.slemankab.go.id/event/rapat-koordinasi-lanjutan-pelaksaan-pemilihan-bupati-wabup-kab-sleman-th-2020-pada-masa-tanggap-darurat-bencana-covid-19/
LOCATION:Kantor BKAD\, Jl Parasamya No.05\, Sleman\, Yogyakarta\, Indonesia
END:VEVENT
BEGIN:VEVENT
DTSTART;TZID=Asia/Krasnoyarsk:20200604T090000
DTEND;TZID=Asia/Krasnoyarsk:20200604T113000
DTSTAMP:20260424T161832
CREATED:20200707T014404Z
LAST-MODIFIED:20200707T014404Z
UID:2964-1591261200-1591270200@bkad.slemankab.go.id
SUMMARY:Sosialisasi Pengurangan Pembayaran Pajak Hotel dan Pajak Restoran
DESCRIPTION:Ruang Rapat IIIB Lantai 3 BKAD Sleman
URL:https://bkad.slemankab.go.id/event/sosialisasi-pengurangan-pembayaran-pajak-hotel-dan-pajak-restoran-2/
LOCATION:Kantor BKAD\, Jl Parasamya No.05\, Sleman\, Yogyakarta\, Indonesia
END:VEVENT
BEGIN:VEVENT
DTSTART;TZID=Asia/Krasnoyarsk:20200603T090000
DTEND;TZID=Asia/Krasnoyarsk:20200603T113000
DTSTAMP:20260424T161832
CREATED:20200707T014248Z
LAST-MODIFIED:20200707T014248Z
UID:2962-1591174800-1591183800@bkad.slemankab.go.id
SUMMARY:Sosialisasi Pengurangan Pembayaran Pajak Hotel dan Pajak Restoran
DESCRIPTION:Ruang Rapat IIIB Lantai 3 BKAD Sleman
URL:https://bkad.slemankab.go.id/event/sosialisasi-pengurangan-pembayaran-pajak-hotel-dan-pajak-restoran/
LOCATION:Kantor BKAD\, Jl Parasamya No.05\, Sleman\, Yogyakarta\, Indonesia
END:VEVENT
BEGIN:VEVENT
DTSTART;TZID=Asia/Krasnoyarsk:20200422T130000
DTEND;TZID=Asia/Krasnoyarsk:20200422T150000
DTSTAMP:20260424T161832
CREATED:20200707T014102Z
LAST-MODIFIED:20200707T020109Z
UID:2957-1587560400-1587567600@bkad.slemankab.go.id
SUMMARY:Koordinasi dan tindak lanjut Hasil Rasionalisasi Belanja Tahun 2020
DESCRIPTION:Ruang Rapat IIIA Lantai 3 BKAD Sleman
URL:https://bkad.slemankab.go.id/event/koordinasi-dan-tindak-lanjut-hasil-rasionalisasi-belanja-tahun-2020/
LOCATION:Kantor BKAD\, Jl Parasamya No.05\, Sleman\, Yogyakarta\, Indonesia
END:VEVENT
END:VCALENDAR