BEGIN:VCALENDAR
VERSION:2.0
PRODID:-//Badan Keuangan dan Aset Daerah - ECPv6.15.16//NONSGML v1.0//EN
CALSCALE:GREGORIAN
METHOD:PUBLISH
X-WR-CALNAME:Badan Keuangan dan Aset Daerah
X-ORIGINAL-URL:https://bkad.slemankab.go.id
X-WR-CALDESC:Events for Badan Keuangan dan Aset Daerah
REFRESH-INTERVAL;VALUE=DURATION:PT1H
X-Robots-Tag:noindex
X-PUBLISHED-TTL:PT1H
BEGIN:VTIMEZONE
TZID:Asia/Krasnoyarsk
BEGIN:STANDARD
TZOFFSETFROM:+0700
TZOFFSETTO:+0700
TZNAME:+07
DTSTART:20200101T000000
END:STANDARD
END:VTIMEZONE
BEGIN:VEVENT
DTSTART;TZID=Asia/Krasnoyarsk:20210930T130000
DTEND;TZID=Asia/Krasnoyarsk:20210930T150000
DTSTAMP:20260424T002903
CREATED:20220623T032856Z
LAST-MODIFIED:20220623T032856Z
UID:21252-1633006800-1633014000@bkad.slemankab.go.id
SUMMARY:Rakor Pelaksanaan P APBD
DESCRIPTION:Ruang Rapat IIC BKAD
URL:https://bkad.slemankab.go.id/event/rakor-pelaksanaan-p-apbd/
LOCATION:Ruang Rapat IIC BKAD
END:VEVENT
BEGIN:VEVENT
DTSTART;TZID=Asia/Krasnoyarsk:20210930T120000
DTEND;TZID=Asia/Krasnoyarsk:20210930T140000
DTSTAMP:20260424T002903
CREATED:20220623T020959Z
LAST-MODIFIED:20220623T020959Z
UID:21247-1633003200-1633010400@bkad.slemankab.go.id
SUMMARY:Penandatanganan Perjanjian Hibah dan Serah Terima Bangunan Gedung Pasar Manggung dan Resto Mrican
DESCRIPTION:Ruang Rapat IIA BKAD
URL:https://bkad.slemankab.go.id/event/penandatanganan-perjanjian-hibah-dan-serah-terima-bangunan-gedung-pasar-manggung-dan-resto-mrican/
LOCATION:Ruang Rapat IIA BKAD
END:VEVENT
BEGIN:VEVENT
DTSTART;TZID=Asia/Krasnoyarsk:20210930T100000
DTEND;TZID=Asia/Krasnoyarsk:20210930T120000
DTSTAMP:20260424T002903
CREATED:20220623T020743Z
LAST-MODIFIED:20220623T020743Z
UID:21242-1632996000-1633003200@bkad.slemankab.go.id
SUMMARY:Evaluasi Pembetulan Peta Blok Kapanewon Prambanan
DESCRIPTION:Ruang Rapat Bidang Dafdatap
URL:https://bkad.slemankab.go.id/event/evaluasi-pembetulan-peta-blok-kapanewon-prambanan/
LOCATION:Ruang Rapat Bidang Dafdatap
END:VEVENT
BEGIN:VEVENT
DTSTART;TZID=Asia/Krasnoyarsk:20210929T103000
DTEND;TZID=Asia/Krasnoyarsk:20210929T120000
DTSTAMP:20260424T002903
CREATED:20220623T020250Z
LAST-MODIFIED:20220623T020250Z
UID:21236-1632911400-1632916800@bkad.slemankab.go.id
SUMMARY:Pembahasan Rencana Penghapusan Aset Bangunan Pasar Salakan yang Akan Dipergunakan untuk Mapolsek Kalasan di Lahan Sultan Ground
DESCRIPTION:Ruang Rapat Bidang Aset
URL:https://bkad.slemankab.go.id/event/pembahasan-rencana-penghapusan-aset-bangunan-pasar-salakan-yang-akan-dipergunakan-untuk-mapolsek-kalasan-di-lahan-sultan-ground/
LOCATION:Ruang Rapat Bidang Aset
END:VEVENT
BEGIN:VEVENT
DTSTART;TZID=Asia/Krasnoyarsk:20210929T093000
DTEND;TZID=Asia/Krasnoyarsk:20210929T120000
DTSTAMP:20260424T002903
CREATED:20220623T020427Z
LAST-MODIFIED:20220623T020427Z
UID:21239-1632907800-1632916800@bkad.slemankab.go.id
SUMMARY:Rapat Koordinasi Belanja Hibah Barang dengan Pengadaan Swakelola
DESCRIPTION:Ruang Rapat Akuntansi
URL:https://bkad.slemankab.go.id/event/rapat-koordinasi-belanja-hibah-barang-dengan-pengadaan-swakelola/
LOCATION:Ruang Rapat Bidang Akuntansi
END:VEVENT
BEGIN:VEVENT
DTSTART;TZID=Asia/Krasnoyarsk:20210929T090000
DTEND;TZID=Asia/Krasnoyarsk:20210929T110000
DTSTAMP:20260424T002903
CREATED:20220623T020045Z
LAST-MODIFIED:20220623T020045Z
UID:21234-1632906000-1632913200@bkad.slemankab.go.id
SUMMARY:Evaluasi Penerimaan Pajak Triwulan III dan Evaluasi Target 2022
DESCRIPTION:Ruang Rapat Bidang Penagihan
URL:https://bkad.slemankab.go.id/event/evaluasi-penerimaan-pajak-triwulan-iii-dan-evaluasi-target-2022/
LOCATION:Ruang Rapat Bidang Penagihan
END:VEVENT
BEGIN:VEVENT
DTSTART;TZID=Asia/Krasnoyarsk:20210928T123000
DTEND;TZID=Asia/Krasnoyarsk:20210928T150000
DTSTAMP:20260424T002903
CREATED:20220623T015720Z
LAST-MODIFIED:20220623T015720Z
UID:21232-1632832200-1632841200@bkad.slemankab.go.id
SUMMARY:Koordinasi Pajak MBLB
DESCRIPTION:Ruang Rapat Bidang Dafdatap
URL:https://bkad.slemankab.go.id/event/koordinasi-pajak-mblb-2/
LOCATION:Ruang Rapat Bidang Dafdatap
END:VEVENT
BEGIN:VEVENT
DTSTART;TZID=Asia/Krasnoyarsk:20210928T123000
DTEND;TZID=Asia/Krasnoyarsk:20210928T150000
DTSTAMP:20260424T002903
CREATED:20220623T015618Z
LAST-MODIFIED:20220623T015618Z
UID:21230-1632832200-1632841200@bkad.slemankab.go.id
SUMMARY:Evaluasi Penagihan Pajak Hotel/Penginapan Kaliurang
DESCRIPTION:Rumah Makan Omah Jawi
URL:https://bkad.slemankab.go.id/event/evaluasi-penagihan-pajak-hotel-penginapan-kaliurang-3/
LOCATION:Rumah Makan Omah Jawi
END:VEVENT
BEGIN:VEVENT
DTSTART;TZID=Asia/Krasnoyarsk:20210928T100000
DTEND;TZID=Asia/Krasnoyarsk:20210928T120000
DTSTAMP:20260424T002903
CREATED:20220623T015452Z
LAST-MODIFIED:20220623T015452Z
UID:21226-1632823200-1632830400@bkad.slemankab.go.id
SUMMARY:Rekonsiliasi Bunga Deposito
DESCRIPTION:Ruang Rapat IIA BKAD
URL:https://bkad.slemankab.go.id/event/rekonsiliasi-bunga-deposito-3/
LOCATION:Ruang Rapat IIA BKAD
END:VEVENT
BEGIN:VEVENT
DTSTART;TZID=Asia/Krasnoyarsk:20210928T090000
DTEND;TZID=Asia/Krasnoyarsk:20210928T110000
DTSTAMP:20260424T002903
CREATED:20220623T015231Z
LAST-MODIFIED:20220623T015231Z
UID:21224-1632819600-1632826800@bkad.slemankab.go.id
SUMMARY:Mempersiapkan Jawaban Evaluasi
DESCRIPTION:Ruang Rapat Bidang Anggaran 
URL:https://bkad.slemankab.go.id/event/mempersiapkan-jawaban-evaluasi/
LOCATION:Ruang Rapat Bidang Anggaran
END:VEVENT
BEGIN:VEVENT
DTSTART;TZID=Asia/Krasnoyarsk:20210927T130000
DTEND;TZID=Asia/Krasnoyarsk:20210927T150000
DTSTAMP:20260424T002903
CREATED:20220623T015032Z
LAST-MODIFIED:20220623T015032Z
UID:21216-1632747600-1632754800@bkad.slemankab.go.id
SUMMARY:Rakor:  1.Standar Kompensasi Kerja Non PNS pada BKAD  2.Standar Kompensasi Tenaga Teknis Non PNS pada BPBJ
DESCRIPTION:Ruang Rapat IIIB BKAD
URL:https://bkad.slemankab.go.id/event/rakor-1-standar-kompensasi-kerja-non-pns-pada-bkad-2-standar-kompensasi-tenaga-teknis-non-pns-pada-bpbj/
LOCATION:Ruang Rapat IIIB BKAD Sleman
END:VEVENT
BEGIN:VEVENT
DTSTART;TZID=Asia/Krasnoyarsk:20210927T130000
DTEND;TZID=Asia/Krasnoyarsk:20210927T150000
DTSTAMP:20260424T002903
CREATED:20220623T014454Z
LAST-MODIFIED:20220623T014454Z
UID:21191-1632747600-1632754800@bkad.slemankab.go.id
SUMMARY:Penyusunan Kajian Raperda Retribusi PBG
DESCRIPTION:Ruang Rapat Bidang Penagihan 
URL:https://bkad.slemankab.go.id/event/penyusunan-kajian-raperda-retribusi-pbg/
LOCATION:Ruang Rapat Bidang Penagihan
END:VEVENT
BEGIN:VEVENT
DTSTART;TZID=Asia/Krasnoyarsk:20210924T090000
DTEND;TZID=Asia/Krasnoyarsk:20210924T110000
DTSTAMP:20260424T002903
CREATED:20220623T014155Z
LAST-MODIFIED:20220623T014155Z
UID:21189-1632474000-1632481200@bkad.slemankab.go.id
SUMMARY:Koordinasi Persiapan Acara Pemberian Penghargaan PBB P2 Panutan Tahun 2021
DESCRIPTION:Ruang Rapat Bidang Penagihan
URL:https://bkad.slemankab.go.id/event/koordinasi-persiapan-acara-pemberian-penghargaan-pbb-p2-panutan-tahun-2021-2/
LOCATION:Ruang Rapat Bidang Penagihan
END:VEVENT
BEGIN:VEVENT
DTSTART;TZID=Asia/Krasnoyarsk:20210923T130000
DTEND;TZID=Asia/Krasnoyarsk:20210923T153000
DTSTAMP:20260424T002903
CREATED:20220622T102620Z
LAST-MODIFIED:20220622T102620Z
UID:21177-1632402000-1632411000@bkad.slemankab.go.id
SUMMARY:Rakor Pembahasan Tentang Transparansi Informasi Pengelolaan Keuangan Daerah
DESCRIPTION:Ruang Rapat BPK 
URL:https://bkad.slemankab.go.id/event/rakor-pembahasan-tentang-transparansi-informasi-pengelolaan-keuangan-daerah/
LOCATION:Ruang Rapat BPK
END:VEVENT
BEGIN:VEVENT
DTSTART;TZID=Asia/Krasnoyarsk:20210923T110000
DTEND;TZID=Asia/Krasnoyarsk:20210923T130000
DTSTAMP:20260424T002903
CREATED:20220622T101801Z
LAST-MODIFIED:20220622T101801Z
UID:21170-1632394800-1632402000@bkad.slemankab.go.id
SUMMARY:Klarifikasi Permohonan Keringanan Pajak Restoran
DESCRIPTION:Ruang Rapat Bidang Penagihan
URL:https://bkad.slemankab.go.id/event/klarifikasi-permohonan-keringanan-pajak-restoran-2/
LOCATION:Ruang Rapat Bidang Penagihan
END:VEVENT
BEGIN:VEVENT
DTSTART;TZID=Asia/Krasnoyarsk:20210923T100000
DTEND;TZID=Asia/Krasnoyarsk:20210923T130000
DTSTAMP:20260424T002903
CREATED:20220622T102102Z
LAST-MODIFIED:20220622T102102Z
UID:21172-1632391200-1632402000@bkad.slemankab.go.id
SUMMARY:Evaluasi Peremajaan Gaji ASN
DESCRIPTION:Ruang Gaji BKAD 
URL:https://bkad.slemankab.go.id/event/evaluasi-peremajaan-gaji-asn-2/
LOCATION:Ruang Gaji BKAD
END:VEVENT
BEGIN:VEVENT
DTSTART;TZID=Asia/Krasnoyarsk:20210923T100000
DTEND;TZID=Asia/Krasnoyarsk:20210923T123000
DTSTAMP:20260424T002903
CREATED:20220622T102414Z
LAST-MODIFIED:20220622T102414Z
UID:21175-1632391200-1632400200@bkad.slemankab.go.id
SUMMARY:Rakor Terkait Barang Rusak
DESCRIPTION:Ruang Rapat Bidang Aset
URL:https://bkad.slemankab.go.id/event/rakor-terkait-barang-rusak/
LOCATION:Ruang Rapat Bidang Aset
END:VEVENT
BEGIN:VEVENT
DTSTART;TZID=Asia/Krasnoyarsk:20210922T090000
DTEND;TZID=Asia/Krasnoyarsk:20210922T110000
DTSTAMP:20260424T002903
CREATED:20220622T101621Z
LAST-MODIFIED:20220622T101621Z
UID:21168-1632301200-1632308400@bkad.slemankab.go.id
SUMMARY:Koordinasi Rencana Pemasangan Alat Perekam Transaksi Online
DESCRIPTION:Ruang Rapat Bidang Dafdatap
URL:https://bkad.slemankab.go.id/event/koordinasi-rencana-pemasangan-alat-perekam-transaksi-online/
LOCATION:Ruang Rapat Bidang Dafdatap
END:VEVENT
BEGIN:VEVENT
DTSTART;TZID=Asia/Krasnoyarsk:20210922T080000
DTEND;TZID=Asia/Krasnoyarsk:20210922T170000
DTSTAMP:20260424T002903
CREATED:20220622T101116Z
LAST-MODIFIED:20220622T101116Z
UID:21165-1632297600-1632330000@bkad.slemankab.go.id
SUMMARY:Rapat Koordinasi:  1.Draft Final Tanggapan atas Evaluasi Gubernur Tahap Raperda P APBD TA 2021  2.Tambah Kurang R APBD TA 2022 Pasca Nota Keuangan
DESCRIPTION:Ruang Rapat IIIA BKAD
URL:https://bkad.slemankab.go.id/event/rapat-koordinasi-1-draft-final-tanggapan-atas-evaluasi-gubernur-tahap-raperda-p-apbd-ta-2021-2-tambah-kurang-r-apbd-ta-2022-pasca-nota-keuangan/
LOCATION:Ruang Rapat IIIA BKAD Sleman
END:VEVENT
BEGIN:VEVENT
DTSTART;TZID=Asia/Krasnoyarsk:20210921T130000
DTEND;TZID=Asia/Krasnoyarsk:20210921T150000
DTSTAMP:20260424T002903
CREATED:20220622T100545Z
LAST-MODIFIED:20220622T100545Z
UID:21163-1632229200-1632236400@bkad.slemankab.go.id
SUMMARY:Koordinasi Penyampaian Surat Teguran Wajib Pajak yang Belum Pernah STPD
DESCRIPTION:Ruang Rapat Dafdatap
URL:https://bkad.slemankab.go.id/event/koordinasi-penyampaian-surat-teguran-wajib-pajak-yang-belum-pernah-stpd/
LOCATION:Ruang Rapat Bidang Dafdatap
END:VEVENT
BEGIN:VEVENT
DTSTART;TZID=Asia/Krasnoyarsk:20210921T130000
DTEND;TZID=Asia/Krasnoyarsk:20210921T150000
DTSTAMP:20260424T002903
CREATED:20220622T100327Z
LAST-MODIFIED:20220622T100327Z
UID:21161-1632229200-1632236400@bkad.slemankab.go.id
SUMMARY:Rakor Penyusunan Tanggapan Atas Evaluasi Gubernur Terhadap Raperda Raperbub P APBD 2021
DESCRIPTION:Ruang Rapat IIIA BKAD
URL:https://bkad.slemankab.go.id/event/rakor-penyusunan-tanggapan-atas-evaluasi-gubernur-terhadap-raperda-raperbub-p-apbd-2021/
LOCATION:Ruang Rapat IIIA BKAD
END:VEVENT
BEGIN:VEVENT
DTSTART;TZID=Asia/Krasnoyarsk:20210921T090000
DTEND;TZID=Asia/Krasnoyarsk:20210921T110000
DTSTAMP:20260424T002903
CREATED:20220622T095848Z
LAST-MODIFIED:20220622T095848Z
UID:21159-1632214800-1632222000@bkad.slemankab.go.id
SUMMARY:Koordinasi Persiapan Acara Pemberian Penghargaan PBB P2 Panutan Tahun 2021
DESCRIPTION:Ruang Rapat Bidang Penagihan
URL:https://bkad.slemankab.go.id/event/koordinasi-persiapan-acara-pemberian-penghargaan-pbb-p2-panutan-tahun-2021/
LOCATION:Ruang Rapat Bidang Penagihan
END:VEVENT
BEGIN:VEVENT
DTSTART;TZID=Asia/Krasnoyarsk:20210920T100000
DTEND;TZID=Asia/Krasnoyarsk:20210920T120000
DTSTAMP:20260424T002903
CREATED:20220622T094750Z
LAST-MODIFIED:20220622T094750Z
UID:21143-1632132000-1632139200@bkad.slemankab.go.id
SUMMARY:Rekonsiliasi Bunga Deposito
DESCRIPTION:Ruang Rapat IIA BKAD 
URL:https://bkad.slemankab.go.id/event/rekonsiliasi-bunga-deposito-2/
LOCATION:Ruang Rapat IIA BKAD
END:VEVENT
BEGIN:VEVENT
DTSTART;TZID=Asia/Krasnoyarsk:20210920T090000
DTEND;TZID=Asia/Krasnoyarsk:20210920T110000
DTSTAMP:20260424T002903
CREATED:20220622T095606Z
LAST-MODIFIED:20220622T095606Z
UID:21155-1632128400-1632135600@bkad.slemankab.go.id
SUMMARY:Rakor Lanjutan:  1.HGBN  2. ASB  3.Biaya Pengelolaan Anggaran Fisik Konstruksi 
DESCRIPTION:Ruang Rapat IIIA BKAD 
URL:https://bkad.slemankab.go.id/event/rakor-lanjutan-1-hgbn-2-asb-3-biaya-pengelolaan-anggaran-fisik-konstruksi/
LOCATION:Ruang Rapat IIIA BKAD
END:VEVENT
BEGIN:VEVENT
DTSTART;TZID=Asia/Krasnoyarsk:20210920T090000
DTEND;TZID=Asia/Krasnoyarsk:20210920T110000
DTSTAMP:20260424T002903
CREATED:20220622T095334Z
LAST-MODIFIED:20220622T095334Z
UID:21151-1632128400-1632135600@bkad.slemankab.go.id
SUMMARY:Koordinasi Internal Tim Penagihan Untuk Persiapan Acara Penghargaan PBB P2 Panutan Tahun 2021
DESCRIPTION:Ruang Rapat Bidang Penagihan 
URL:https://bkad.slemankab.go.id/event/koordinasi-internal-tim-penagihan-untuk-persiapan-acara-penghargaan-pbb-p2-panutan-tahun-2021/
LOCATION:Ruang Rapat Bidang Penagihan
END:VEVENT
BEGIN:VEVENT
DTSTART;TZID=Asia/Krasnoyarsk:20210920T080000
DTEND;TZID=Asia/Krasnoyarsk:20210920T170000
DTSTAMP:20260424T002903
CREATED:20220622T095126Z
LAST-MODIFIED:20220622T095126Z
UID:21147-1632124800-1632157200@bkad.slemankab.go.id
SUMMARY:Koordinasi Penyampaian Undangan Pemasangan Alat Perekam Transaksi
DESCRIPTION:Ruang Rapat Dafdatap
URL:https://bkad.slemankab.go.id/event/koordinasi-penyampaian-undangan-pemasangan-alat-perekam-transaksi/
LOCATION:Ruang Rapat Bidang Dafdatap
END:VEVENT
BEGIN:VEVENT
DTSTART;TZID=Asia/Krasnoyarsk:20210917T090000
DTEND;TZID=Asia/Krasnoyarsk:20210917T110000
DTSTAMP:20260424T002903
CREATED:20220622T094534Z
LAST-MODIFIED:20220622T094534Z
UID:21140-1631869200-1631876400@bkad.slemankab.go.id
SUMMARY:Pisah Sambut Pejabat BKAD
DESCRIPTION:Ruang Rapat IIIB BKAD 
URL:https://bkad.slemankab.go.id/event/pisah-sambut-pejabat-bkad/
LOCATION:Ruang Rapat IIIB BKAD Sleman
END:VEVENT
BEGIN:VEVENT
DTSTART;TZID=Asia/Krasnoyarsk:20210916T100000
DTEND;TZID=Asia/Krasnoyarsk:20210916T120000
DTSTAMP:20260424T002903
CREATED:20220622T094256Z
LAST-MODIFIED:20220622T094256Z
UID:21136-1631786400-1631793600@bkad.slemankab.go.id
SUMMARY:Koordinasi dan Evaluasi WA Blast
DESCRIPTION:Ruang Rapat Bidang Dafdatap
URL:https://bkad.slemankab.go.id/event/koordinasi-dan-evaluasi-wa-blast/
LOCATION:Ruang Rapat Bidang Dafdatap
END:VEVENT
BEGIN:VEVENT
DTSTART;TZID=Asia/Krasnoyarsk:20210916T100000
DTEND;TZID=Asia/Krasnoyarsk:20210916T120000
DTSTAMP:20260424T002903
CREATED:20220622T094130Z
LAST-MODIFIED:20220622T094130Z
UID:21128-1631786400-1631793600@bkad.slemankab.go.id
SUMMARY:Rapat Pembinaan Pegawai Sekretariat BKAD
DESCRIPTION:Ruang Rapat IIA BKAD 
URL:https://bkad.slemankab.go.id/event/rapat-pembinaan-pegawai-sekretariat-bkad/
LOCATION:Ruang Rapat IIA BKAD
END:VEVENT
BEGIN:VEVENT
DTSTART;TZID=Asia/Krasnoyarsk:20210916T100000
DTEND;TZID=Asia/Krasnoyarsk:20210916T120000
DTSTAMP:20260424T002903
CREATED:20220622T093856Z
LAST-MODIFIED:20220622T093856Z
UID:21126-1631786400-1631793600@bkad.slemankab.go.id
SUMMARY:Evaluasi Pemeliharaan SIMPAD
DESCRIPTION:Ruang Rapat Bidang Dafdatap
URL:https://bkad.slemankab.go.id/event/evaluasi-pemeliharaan-simpad/
LOCATION:Ruang Rapat Bidang Dafdatap
END:VEVENT
END:VCALENDAR