BEGIN:VCALENDAR
VERSION:2.0
PRODID:-//Badan Keuangan dan Aset Daerah - ECPv6.15.16//NONSGML v1.0//EN
CALSCALE:GREGORIAN
METHOD:PUBLISH
X-WR-CALNAME:Badan Keuangan dan Aset Daerah
X-ORIGINAL-URL:https://bkad.slemankab.go.id
X-WR-CALDESC:Events for Badan Keuangan dan Aset Daerah
REFRESH-INTERVAL;VALUE=DURATION:PT1H
X-Robots-Tag:noindex
X-PUBLISHED-TTL:PT1H
BEGIN:VTIMEZONE
TZID:Asia/Krasnoyarsk
BEGIN:STANDARD
TZOFFSETFROM:+0700
TZOFFSETTO:+0700
TZNAME:+07
DTSTART:20200101T000000
END:STANDARD
END:VTIMEZONE
BEGIN:VEVENT
DTSTART;TZID=Asia/Krasnoyarsk:20210505T090000
DTEND;TZID=Asia/Krasnoyarsk:20210505T110000
DTSTAMP:20260424T143913
CREATED:20210618T075146Z
LAST-MODIFIED:20210618T075146Z
UID:17688-1620205200-1620212400@bkad.slemankab.go.id
SUMMARY:Rapat Koordinasi Penyusunan ABK
DESCRIPTION:Ruang Rapat IIB Lantai 2
URL:https://bkad.slemankab.go.id/event/rapat-koordinasi-penyusunan-abk/
END:VEVENT
BEGIN:VEVENT
DTSTART;TZID=Asia/Krasnoyarsk:20210505T090000
DTEND;TZID=Asia/Krasnoyarsk:20210505T110000
DTSTAMP:20260424T143913
CREATED:20210618T075343Z
LAST-MODIFIED:20210618T075343Z
UID:17690-1620205200-1620212400@bkad.slemankab.go.id
SUMMARY:Rekonsiliasi Pembayaran PBB-P2 Kabupaten Sleman Periode Bulan April 2021
DESCRIPTION:Ruang Rapat Bidang Penagihan
URL:https://bkad.slemankab.go.id/event/rekonsiliasi-pembayaran-pbb-p2-kabupaten-sleman-periode-bulan-april-2021/
END:VEVENT
BEGIN:VEVENT
DTSTART;TZID=Asia/Krasnoyarsk:20210505T100000
DTEND;TZID=Asia/Krasnoyarsk:20210505T120000
DTSTAMP:20260424T143913
CREATED:20210618T075015Z
LAST-MODIFIED:20210618T075015Z
UID:17686-1620208800-1620216000@bkad.slemankab.go.id
SUMMARY:Koordinasi Cek Lapangan BPHTB
DESCRIPTION:Ruang Rapat Dafdatap
URL:https://bkad.slemankab.go.id/event/koordinasi-cek-lapangan-bphtb/
END:VEVENT
BEGIN:VEVENT
DTSTART;TZID=Asia/Krasnoyarsk:20210507T100000
DTEND;TZID=Asia/Krasnoyarsk:20210507T113000
DTSTAMP:20260424T143913
CREATED:20210618T074907Z
LAST-MODIFIED:20210618T074907Z
UID:17684-1620381600-1620387000@bkad.slemankab.go.id
SUMMARY:Koordinasi Pemasangan Alat Perekam Transaksi Online
DESCRIPTION:Ruang Rapat Dafdatap
URL:https://bkad.slemankab.go.id/event/koordinasi-pemasangan-alat-perekam-transaksi-online/
END:VEVENT
BEGIN:VEVENT
DTSTART;TZID=Asia/Krasnoyarsk:20210507T130000
DTEND;TZID=Asia/Krasnoyarsk:20210507T143000
DTSTAMP:20260424T143913
CREATED:20210618T074724Z
LAST-MODIFIED:20210618T074724Z
UID:17682-1620392400-1620397800@bkad.slemankab.go.id
SUMMARY:Koordinasi Realisasi Keuangan Tahap I Dana Keistimewaan
DESCRIPTION:Ruang Rapat IIA Lantai 2
URL:https://bkad.slemankab.go.id/event/koordinasi-realisasi-keuangan-tahap-i-dana-keistimewaan/
END:VEVENT
BEGIN:VEVENT
DTSTART;TZID=Asia/Krasnoyarsk:20210518T090000
DTEND;TZID=Asia/Krasnoyarsk:20210518T103000
DTSTAMP:20260424T143913
CREATED:20210618T074223Z
LAST-MODIFIED:20210618T074223Z
UID:17677-1621328400-1621333800@bkad.slemankab.go.id
SUMMARY:Mekanisme Pencatatan Belanja Hibah
DESCRIPTION:Ruang Rapat Bidang Akuntansi
URL:https://bkad.slemankab.go.id/event/mekanisme-pencatatan-belanja-hibah/
END:VEVENT
BEGIN:VEVENT
DTSTART;TZID=Asia/Krasnoyarsk:20210519T090000
DTEND;TZID=Asia/Krasnoyarsk:20210520T110000
DTSTAMP:20260424T143913
CREATED:20210618T074003Z
LAST-MODIFIED:20210618T074003Z
UID:17673-1621414800-1621508400@bkad.slemankab.go.id
SUMMARY:Rekonsiliasi Aset dan Persediaan Bulan Januari sampai April 2021
DESCRIPTION:Ruang Rapat IIIA Lantai 3
URL:https://bkad.slemankab.go.id/event/rekonsiliasi-aset-dan-persediaan-bulan-januari-sampai-april-2021/
END:VEVENT
BEGIN:VEVENT
DTSTART;TZID=Asia/Krasnoyarsk:20210520T100000
DTEND;TZID=Asia/Krasnoyarsk:20210520T113000
DTSTAMP:20260424T143913
CREATED:20210618T073802Z
LAST-MODIFIED:20210618T073802Z
UID:17671-1621504800-1621510200@bkad.slemankab.go.id
SUMMARY:Koordinasi Pendataan Ruas Jalan
DESCRIPTION:Ruang Rapat Dafdatap
URL:https://bkad.slemankab.go.id/event/koordinasi-pendataan-ruas-jalan/
END:VEVENT
BEGIN:VEVENT
DTSTART;TZID=Asia/Krasnoyarsk:20210521T130000
DTEND;TZID=Asia/Krasnoyarsk:20210521T143000
DTSTAMP:20260424T143913
CREATED:20210618T073629Z
LAST-MODIFIED:20210618T073629Z
UID:17669-1621602000-1621607400@bkad.slemankab.go.id
SUMMARY:Koordinasi Penyusunan Jadwal PAPBD TA 2021 dan APBD TA 2022
DESCRIPTION:Ruang Rapat IIA Lantai 2
URL:https://bkad.slemankab.go.id/event/koordinasi-penyusunan-jadwal-papbd-ta-2021-dan-apbd-ta-2022/
END:VEVENT
BEGIN:VEVENT
DTSTART;TZID=Asia/Krasnoyarsk:20210524T090000
DTEND;TZID=Asia/Krasnoyarsk:20210524T110000
DTSTAMP:20260424T143913
CREATED:20210618T074131Z
LAST-MODIFIED:20210618T074131Z
UID:17675-1621846800-1621854000@bkad.slemankab.go.id
SUMMARY:Rekonsiliasi Aset dan Persediaan Bulan Januari sampai April 2021
DESCRIPTION:Ruang Rapat IIIA Lantai 3
URL:https://bkad.slemankab.go.id/event/rekonsiliasi-aset-dan-persediaan-bulan-januari-sampai-april-2021-2/
END:VEVENT
BEGIN:VEVENT
DTSTART;TZID=Asia/Krasnoyarsk:20210528T080000
DTEND;TZID=Asia/Krasnoyarsk:20210528T100000
DTSTAMP:20260424T143913
CREATED:20210618T073358Z
LAST-MODIFIED:20210618T073358Z
UID:17667-1622188800-1622196000@bkad.slemankab.go.id
SUMMARY:Koordinasi Target RPJMD Tahun 2021-2026 (Indeks Pengelolaan Keuangan Daerah)
DESCRIPTION:
URL:https://bkad.slemankab.go.id/event/koordinasi-target-rpjmd-tahun-2021-2026-indeks-pengelolaan-keuangan-daerah/
END:VEVENT
BEGIN:VEVENT
DTSTART;TZID=Asia/Krasnoyarsk:20210531T100000
DTEND;TZID=Asia/Krasnoyarsk:20210531T113000
DTSTAMP:20260424T143913
CREATED:20210618T073227Z
LAST-MODIFIED:20210618T073227Z
UID:17665-1622455200-1622460600@bkad.slemankab.go.id
SUMMARY:Koordinasi Rencana Pemanfaatan Tanah Pemkab di Lahan Pasar Unggas Prambanan untuk Lokasi PLUT Premium
DESCRIPTION:Ruang Rapat Bidang Aset
URL:https://bkad.slemankab.go.id/event/koordinasi-rencana-pemanfaatan-tanah-pemkab-di-lahan-pasar-unggas-prambanan-untuk-lokasi-plut-premium/
END:VEVENT
BEGIN:VEVENT
DTSTART;TZID=Asia/Krasnoyarsk:20210602T093000
DTEND;TZID=Asia/Krasnoyarsk:20210602T113000
DTSTAMP:20260424T143913
CREATED:20210617T083057Z
LAST-MODIFIED:20210617T083057Z
UID:17646-1622626200-1622633400@bkad.slemankab.go.id
SUMMARY:Rapat Koordinasi Pelaksanaan SHBJ
DESCRIPTION:Ruang Rapat IIIB Lantai 3
URL:https://bkad.slemankab.go.id/event/rapat-koordinasi-pelaksanaan-shbj/
END:VEVENT
BEGIN:VEVENT
DTSTART;TZID=Asia/Krasnoyarsk:20210602T100000
DTEND;TZID=Asia/Krasnoyarsk:20210602T113000
DTSTAMP:20260424T143913
CREATED:20210617T083010Z
LAST-MODIFIED:20210617T083010Z
UID:17644-1622628000-1622633400@bkad.slemankab.go.id
SUMMARY:Koordinasi Rencana PAPBD TA 2021 dan APBD TA 2022
DESCRIPTION:Ruang Rapat IIA Lantai 2
URL:https://bkad.slemankab.go.id/event/koordinasi-rencana-papbd-ta-2021-dan-apbd-ta-2022/
END:VEVENT
BEGIN:VEVENT
DTSTART;TZID=Asia/Krasnoyarsk:20210602T120000
DTEND;TZID=Asia/Krasnoyarsk:20210602T140000
DTSTAMP:20260424T143913
CREATED:20210618T073107Z
LAST-MODIFIED:20210618T073107Z
UID:17663-1622635200-1622642400@bkad.slemankab.go.id
SUMMARY:Koordinasi Pajak Air Tanah
DESCRIPTION:Ruang Rapat IIIA Lantai 3
URL:https://bkad.slemankab.go.id/event/koordinasi-pajak-air-tanah/
END:VEVENT
BEGIN:VEVENT
DTSTART;TZID=Asia/Krasnoyarsk:20210603T100000
DTEND;TZID=Asia/Krasnoyarsk:20210603T113000
DTSTAMP:20260424T143913
CREATED:20210617T082815Z
LAST-MODIFIED:20210617T082815Z
UID:17640-1622714400-1622719800@bkad.slemankab.go.id
SUMMARY:Koordinasi Rencana Penarikan Barang Rusak Berat di SD Negeri Se-Kabupaten Sleman
DESCRIPTION:Ruang Rapat Aset
URL:https://bkad.slemankab.go.id/event/koordinasi-rencana-penarikan-barang-rusak-berat-di-sd-negeri-se-kabupaten-sleman/
END:VEVENT
BEGIN:VEVENT
DTSTART;TZID=Asia/Krasnoyarsk:20210603T123000
DTEND;TZID=Asia/Krasnoyarsk:20210603T150000
DTSTAMP:20260424T143913
CREATED:20210617T083142Z
LAST-MODIFIED:20210617T083142Z
UID:17648-1622723400-1622732400@bkad.slemankab.go.id
SUMMARY:Rekonsiliasi Pendapatan Bulan Mei 2021
DESCRIPTION:Ruang Rapat Penagihan
URL:https://bkad.slemankab.go.id/event/rekonsiliasi-pendapatan-bulan-mei-2021/
END:VEVENT
BEGIN:VEVENT
DTSTART;TZID=Asia/Krasnoyarsk:20210603T130000
DTEND;TZID=Asia/Krasnoyarsk:20210603T143000
DTSTAMP:20260424T143913
CREATED:20210617T082911Z
LAST-MODIFIED:20210617T082911Z
UID:17642-1622725200-1622730600@bkad.slemankab.go.id
SUMMARY:Rakor Persiapan PAPBD TA 2021
DESCRIPTION:Ruang Rapat IIIA lantai 3
URL:https://bkad.slemankab.go.id/event/rakor-persiapan-papbd-ta-2021/
END:VEVENT
BEGIN:VEVENT
DTSTART;TZID=Asia/Krasnoyarsk:20210604T130000
DTEND;TZID=Asia/Krasnoyarsk:20210604T150000
DTSTAMP:20260424T143913
CREATED:20210617T082522Z
LAST-MODIFIED:20210617T082522Z
UID:17636-1622811600-1622818800@bkad.slemankab.go.id
SUMMARY:Rekonsiliasi Pembayaran PBB-P2 Kabupaten Sleman Periode Mei 2021
DESCRIPTION:Ruang Rapat Penagihan
URL:https://bkad.slemankab.go.id/event/rekonsiliasi-pembayaran-pbb-p2-kabupaten-sleman-periode-mei-2021/
END:VEVENT
BEGIN:VEVENT
DTSTART;TZID=Asia/Krasnoyarsk:20210607T090000
DTEND;TZID=Asia/Krasnoyarsk:20210607T113000
DTSTAMP:20260424T143913
CREATED:20210617T081849Z
LAST-MODIFIED:20210617T081849Z
UID:17632-1623056400-1623065400@bkad.slemankab.go.id
SUMMARY:Rapat Koordinasi Lanjutan Alokasi Dana Bagi Hasil Cukai Hasil Tembakau (DBHCHT) TA 2021
DESCRIPTION:Ruang Rapat IIIA Lantai 3
URL:https://bkad.slemankab.go.id/event/rapat-koordinasi-lanjutan-alokasi-dana-bagi-hasil-cukai-hasil-tembakau-dbhcht-ta-2021/
END:VEVENT
BEGIN:VEVENT
DTSTART;TZID=Asia/Krasnoyarsk:20210607T100000
DTEND;TZID=Asia/Krasnoyarsk:20210607T113000
DTSTAMP:20260424T143913
CREATED:20210617T082644Z
LAST-MODIFIED:20210617T082644Z
UID:17638-1623060000-1623065400@bkad.slemankab.go.id
SUMMARY:Koordinasi Pembahasan Rencana Hibah Sumur Bor Dalam Beserta Perlengkapannya Kepada Kalurahan
DESCRIPTION:Ruang Rapat Aset
URL:https://bkad.slemankab.go.id/event/koordinasi-pembahasan-rencana-hibah-sumur-bor-dalam-beserta-perlengkapannya-kepada-kalurahan/
END:VEVENT
BEGIN:VEVENT
DTSTART;TZID=Asia/Krasnoyarsk:20210608T090000
DTEND;TZID=Asia/Krasnoyarsk:20210608T103000
DTSTAMP:20260424T143913
CREATED:20210618T073021Z
LAST-MODIFIED:20210618T073021Z
UID:17661-1623142800-1623148200@bkad.slemankab.go.id
SUMMARY:Sosialisasi Ketetapan Harga Air Baku untuk Pajak Air Tanah Tahun 2021
DESCRIPTION:Ruang Rapat IIIA Lantai 3
URL:https://bkad.slemankab.go.id/event/sosialisasi-ketetapan-harga-air-baku-untuk-pajak-air-tanah-tahun-2021/
END:VEVENT
BEGIN:VEVENT
DTSTART;TZID=Asia/Krasnoyarsk:20210608T090000
DTEND;TZID=Asia/Krasnoyarsk:20210610T113000
DTSTAMP:20260424T143913
CREATED:20210617T082408Z
LAST-MODIFIED:20210617T082408Z
UID:17634-1623142800-1623324600@bkad.slemankab.go.id
SUMMARY:Rekonsiliasi Aset dan Persediaan Bulan Mei 2021
DESCRIPTION:Ruang Rapat IIIB Lantai 3
URL:https://bkad.slemankab.go.id/event/rekonsiliasi-aset-dan-persediaan-bulan-mei-2021/
END:VEVENT
BEGIN:VEVENT
DTSTART;TZID=Asia/Krasnoyarsk:20210609T130000
DTEND;TZID=Asia/Krasnoyarsk:20210609T150000
DTSTAMP:20260424T143913
CREATED:20210617T081342Z
LAST-MODIFIED:20210617T081342Z
UID:17624-1623243600-1623250800@bkad.slemankab.go.id
SUMMARY:Rakor Penyusunan Draft Raperda tentang Pengelolaan Keuangan Perangkat Daerah
DESCRIPTION:Ruang Rapat IIA lantai 2
URL:https://bkad.slemankab.go.id/event/rakor-penyusunan-draft-raperda-tentang-pengelolaan-keuangan-perangkat-daerah/
END:VEVENT
BEGIN:VEVENT
DTSTART;TZID=Asia/Krasnoyarsk:20210610T110000
DTEND;TZID=Asia/Krasnoyarsk:20210610T123000
DTSTAMP:20260424T143913
CREATED:20210617T081619Z
LAST-MODIFIED:20210617T081619Z
UID:17628-1623322800-1623328200@bkad.slemankab.go.id
SUMMARY:Koordinasi Pelaksanaan Tandatangan Elektronik (TTE) dalam SPPT PBB-P2
DESCRIPTION:Ruang Rapat Dafdatap
URL:https://bkad.slemankab.go.id/event/koordinasi-pelaksanaan-tandatangan-elektronik-tte-dalam-sppt-pbb-p2/
END:VEVENT
BEGIN:VEVENT
DTSTART;TZID=Asia/Krasnoyarsk:20210611T083000
DTEND;TZID=Asia/Krasnoyarsk:20210611T100000
DTSTAMP:20260424T143913
CREATED:20210617T081119Z
LAST-MODIFIED:20210617T081119Z
UID:17620-1623400200-1623405600@bkad.slemankab.go.id
SUMMARY:Evaluasi Penagihan dengan Media SPTD
DESCRIPTION:Ruang Rapat Penagihan
URL:https://bkad.slemankab.go.id/event/evaluasi-penagihan-dengan-media-sptd/
END:VEVENT
BEGIN:VEVENT
DTSTART;TZID=Asia/Krasnoyarsk:20210611T090000
DTEND;TZID=Asia/Krasnoyarsk:20210611T103000
DTSTAMP:20260424T143913
CREATED:20210617T081726Z
LAST-MODIFIED:20210617T081726Z
UID:17630-1623402000-1623407400@bkad.slemankab.go.id
SUMMARY:Rapat Rekonstruksi Police Asuransi Jiwasraya ASN Kabupaten Sleman
DESCRIPTION:Ruang Rapat IIIB Lantai 3
URL:https://bkad.slemankab.go.id/event/rapat-rekonstruksi-police-asuransi-jiwasraya-asn-kabupaten-sleman/
END:VEVENT
BEGIN:VEVENT
DTSTART;TZID=Asia/Krasnoyarsk:20210611T130000
DTEND;TZID=Asia/Krasnoyarsk:20210611T150000
DTSTAMP:20260424T143913
CREATED:20210617T081009Z
LAST-MODIFIED:20210617T081009Z
UID:17618-1623416400-1623423600@bkad.slemankab.go.id
SUMMARY:Koordinasi Pelayanan Validasi BPHTB
DESCRIPTION:Hotel Alana Jl. Palagan Tentara Pelajar
URL:https://bkad.slemankab.go.id/event/koordinasi-pelayanan-validasi-bphtb/
END:VEVENT
BEGIN:VEVENT
DTSTART;TZID=Asia/Krasnoyarsk:20210611T130000
DTEND;TZID=Asia/Krasnoyarsk:20210611T150000
DTSTAMP:20260424T143913
CREATED:20210617T081235Z
LAST-MODIFIED:20210617T081235Z
UID:17622-1623416400-1623423600@bkad.slemankab.go.id
SUMMARY:Evaluasi Basis Data dan Ruas Jalan
DESCRIPTION:Ruang Rapat IIIB Lantai 3
URL:https://bkad.slemankab.go.id/event/evaluasi-basis-data-dan-ruas-jalan/
END:VEVENT
BEGIN:VEVENT
DTSTART;TZID=Asia/Krasnoyarsk:20210614T090000
DTEND;TZID=Asia/Krasnoyarsk:20210616T130000
DTSTAMP:20260424T143913
CREATED:20210617T081456Z
LAST-MODIFIED:20210617T081456Z
UID:17626-1623661200-1623848400@bkad.slemankab.go.id
SUMMARY:Evaluasi Peremajaan Gaji ASN
DESCRIPTION:Ruang Rapat IIIB Lantai 3
URL:https://bkad.slemankab.go.id/event/evaluasi-peremajaan-gaji-asn/
END:VEVENT
END:VCALENDAR