BEGIN:VCALENDAR
VERSION:2.0
PRODID:-//Badan Keuangan dan Aset Daerah - ECPv6.15.16//NONSGML v1.0//EN
CALSCALE:GREGORIAN
METHOD:PUBLISH
X-WR-CALNAME:Badan Keuangan dan Aset Daerah
X-ORIGINAL-URL:https://bkad.slemankab.go.id
X-WR-CALDESC:Events for Badan Keuangan dan Aset Daerah
REFRESH-INTERVAL;VALUE=DURATION:PT1H
X-Robots-Tag:noindex
X-PUBLISHED-TTL:PT1H
BEGIN:VTIMEZONE
TZID:Asia/Krasnoyarsk
BEGIN:STANDARD
TZOFFSETFROM:+0700
TZOFFSETTO:+0700
TZNAME:+07
DTSTART:20210101T000000
END:STANDARD
END:VTIMEZONE
BEGIN:VEVENT
DTSTART;TZID=Asia/Krasnoyarsk:20220620T130000
DTEND;TZID=Asia/Krasnoyarsk:20220620T130000
DTSTAMP:20260424T002857
CREATED:20220620T033941Z
LAST-MODIFIED:20220620T033941Z
UID:20720-1655730000-1655730000@bkad.slemankab.go.id
SUMMARY:Rapat Koordinasi DP Korpri Membahas Penyampaian Tali Asih Purna Tugas Semester I\, Penerbitan KTA dan Draft SK Ketua DP tentang Upacara Penghormatan Jenazah Anggota Korpri
DESCRIPTION:Ruang Rapat Arjuna Lt.2 BKPP
URL:https://bkad.slemankab.go.id/event/rapat-koordinasi-dp-korpri-membahas-penyampaian-tali-asih-purna-tugas-semester-i-penerbitan-kta-dan-draft-sk-ketua-dp-tentang-upacara-penghormatan-jenazah-anggota-korpri/
LOCATION:Ruang Rapat Arjuna Lt.2 BKPP
END:VEVENT
BEGIN:VEVENT
DTSTART;TZID=Asia/Krasnoyarsk:20220620T130000
DTEND;TZID=Asia/Krasnoyarsk:20220620T130000
DTSTAMP:20260424T002857
CREATED:20220620T034121Z
LAST-MODIFIED:20220620T034121Z
UID:20727-1655730000-1655730000@bkad.slemankab.go.id
SUMMARY:Rapat Koordinasi Realisasi Pelaksanaan DAK Fisik Tahun 2022
DESCRIPTION:Ruang Rapat Dhandanggula Bappeda Sleman
URL:https://bkad.slemankab.go.id/event/rapat-koordinasi-realisasi-pelaksanaan-dak-fisik-tahun-2022/
LOCATION:Ruang Rapat Dhandanggula Bappeda Sleman
END:VEVENT
BEGIN:VEVENT
DTSTART;TZID=Asia/Krasnoyarsk:20220620T140000
DTEND;TZID=Asia/Krasnoyarsk:20220620T140000
DTSTAMP:20260424T002857
CREATED:20220620T034405Z
LAST-MODIFIED:20220620T034405Z
UID:20730-1655733600-1655733600@bkad.slemankab.go.id
SUMMARY:Rapat Koordinasi Permohonan Dukungan Kegiatan "Sleman Bangkit: UKM Bangkit\, Pariwisata Bangkit\, dan Pecinta Sleman Sejati (PSS) Bangkit"
DESCRIPTION:Sleman Smart Room Dinas Kominfo
URL:https://bkad.slemankab.go.id/event/rapat-koordinasi-permohonan-dukungan-kegiatan-sleman-bangkit-ukm-bangkit-pariwisata-bangkit-dan-pecinta-sleman-sejati-pss-bangkit/
LOCATION:Sleman Smart Room Dinas Kominfo
END:VEVENT
BEGIN:VEVENT
DTSTART;TZID=Asia/Krasnoyarsk:20220621T073000
DTEND;TZID=Asia/Krasnoyarsk:20220621T073000
DTSTAMP:20260424T002857
CREATED:20220621T074325Z
LAST-MODIFIED:20220621T074325Z
UID:20905-1655796600-1655796600@bkad.slemankab.go.id
SUMMARY:Pembekalan PNS Calon Purna Tugas TMT 1 Juni 2023 s.d. 1 Juli 2023 TA 2022 untuk Angkatan VII
DESCRIPTION:Ruang Rapat Bima Lt.III BKPP Sleman
URL:https://bkad.slemankab.go.id/event/pembekalan-pns-calon-purna-tugas-tmt-1-juni-2023-s-d-1-juli-2023-ta-2022-untuk-angkatan-vii-2/
LOCATION:Ruang Rapat Bima Lt.3 BKPP Kab.Sleman
END:VEVENT
BEGIN:VEVENT
DTSTART;TZID=Asia/Krasnoyarsk:20220621T080000
DTEND;TZID=Asia/Krasnoyarsk:20220621T080000
DTSTAMP:20260424T002857
CREATED:20220621T073047Z
LAST-MODIFIED:20220621T073047Z
UID:20888-1655798400-1655798400@bkad.slemankab.go.id
SUMMARY:Pemantauan Pajak MBLB
DESCRIPTION:Pos Argomulyo\, Glagaharjo\, Kepuharjo (Petung\,Jambu)\, Wukirsari (Watuadeg\, Bedoyo)\, Merdikorejo\, Purwobinangun\, Umbulharjo\, Sendangsari
URL:https://bkad.slemankab.go.id/event/pemantauan-pajak-mblb-10/
LOCATION:Pos Argomulyo\, Glagaharjo\, Kepuharjo (Petung\,Jambu)\, Wukirsari (Watuadeg\,Bedoyo)\, Merdikorejo\, Purwobinangun\, Umbulharjo\, Sendangsari
END:VEVENT
BEGIN:VEVENT
DTSTART;TZID=Asia/Krasnoyarsk:20220621T080000
DTEND;TZID=Asia/Krasnoyarsk:20220621T080000
DTSTAMP:20260424T002857
CREATED:20220621T075001Z
LAST-MODIFIED:20220621T075001Z
UID:20916-1655798400-1655798400@bkad.slemankab.go.id
SUMMARY:Pra RUPS BPR Syariah Sleman
DESCRIPTION:Ruang Rapat Praja II Setda Sleman
URL:https://bkad.slemankab.go.id/event/pra-rups-bpr-syariah-sleman/
LOCATION:Ruang Rapat Praja II Setda Sleman
END:VEVENT
BEGIN:VEVENT
DTSTART;TZID=Asia/Krasnoyarsk:20220621T083000
DTEND;TZID=Asia/Krasnoyarsk:20220621T083000
DTSTAMP:20260424T002857
CREATED:20220621T073234Z
LAST-MODIFIED:20220621T073234Z
UID:20890-1655800200-1655800200@bkad.slemankab.go.id
SUMMARY:Sosialisasi Program JKN dan Upaya Pemutakhiran Data Segmen PNS Daerah Kab Sleman
DESCRIPTION:Grand Serela Hotel Yogyakarta
URL:https://bkad.slemankab.go.id/event/sosialisasi-program-jkn-dan-upaya-pemutakhiran-data-segmen-pns-daerah-kab-sleman/
LOCATION:Grand Serela Hotel Yogyakarta
END:VEVENT
BEGIN:VEVENT
DTSTART;TZID=Asia/Krasnoyarsk:20220621T083000
DTEND;TZID=Asia/Krasnoyarsk:20220621T083000
DTSTAMP:20260424T002857
CREATED:20220621T074547Z
LAST-MODIFIED:20220621T074547Z
UID:20908-1655800200-1655800200@bkad.slemankab.go.id
SUMMARY:Rapat Pendampingan Pengisian Aplikasi KENES dan Penyusunan ROPK BKK Kabupaten atau Kota
DESCRIPTION:Ruang Rapat Bimasena Lt.1 Gedung Panjradya Keistimewaan DIY
URL:https://bkad.slemankab.go.id/event/rapat-pendampingan-pengisian-aplikasi-kenes-dan-penyusunan-ropk-bkk-kabupaten-atau-kota/
LOCATION:Ruang Rapat Bimasena Lt.1 Gedung Panjradya Keistimewaan DIY
END:VEVENT
BEGIN:VEVENT
DTSTART;TZID=Asia/Krasnoyarsk:20220621T090000
DTEND;TZID=Asia/Krasnoyarsk:20220621T090000
DTSTAMP:20260424T002857
CREATED:20220621T073444Z
LAST-MODIFIED:20220621T073444Z
UID:20893-1655802000-1655802000@bkad.slemankab.go.id
SUMMARY:Rapat Koordinasi Penanganan Masalah Listrik Gedung Perkantoran BPBD\, Kesbangpol\, dan Gedung Unit 1
DESCRIPTION:Ruang Rapat Bidang Aset
URL:https://bkad.slemankab.go.id/event/rapat-koordinasi-penanganan-masalah-listrik-gedung-perkantoran-bpbd-kesbangpol-dan-gedung-unit-1/
LOCATION:Ruang Rapat Bidang Aset
END:VEVENT
BEGIN:VEVENT
DTSTART;TZID=Asia/Krasnoyarsk:20220621T090000
DTEND;TZID=Asia/Krasnoyarsk:20220621T090000
DTSTAMP:20260424T002857
CREATED:20220621T073821Z
LAST-MODIFIED:20220621T073821Z
UID:20896-1655802000-1655802000@bkad.slemankab.go.id
SUMMARY:Rakor Pengajuan Anggaran Dana Hibah Pemilihan Serentak Tahun 2024
DESCRIPTION:Ruang Rapat IIIB BKAD Sleman
URL:https://bkad.slemankab.go.id/event/rakor-pengajuan-anggaran-dana-hibah-pemilihan-serentak-tahun-2024/
LOCATION:Ruang Rapat IIIB BKAD Sleman
END:VEVENT
BEGIN:VEVENT
DTSTART;TZID=Asia/Krasnoyarsk:20220621T090000
DTEND;TZID=Asia/Krasnoyarsk:20220621T090000
DTSTAMP:20260424T002857
CREATED:20220621T074826Z
LAST-MODIFIED:20220621T074826Z
UID:20913-1655802000-1655802000@bkad.slemankab.go.id
SUMMARY:Bimbingan Teknis Kerjasama Daerah
DESCRIPTION:Westlake Resto
URL:https://bkad.slemankab.go.id/event/bimbingan-teknis-kerjasama-daerah/
LOCATION:Westlake Resto
END:VEVENT
BEGIN:VEVENT
DTSTART;TZID=Asia/Krasnoyarsk:20220621T100000
DTEND;TZID=Asia/Krasnoyarsk:20220621T100000
DTSTAMP:20260424T002857
CREATED:20220621T074109Z
LAST-MODIFIED:20220621T074109Z
UID:20900-1655805600-1655805600@bkad.slemankab.go.id
SUMMARY:Koordinasi Penyelenggaraan Acara Pemberian Penghargaan PBB P2 Panutan Tahun 2022
DESCRIPTION:Ruang Rapat Bidang Penagihan BKAD
URL:https://bkad.slemankab.go.id/event/koordinasi-penyelenggaraan-acara-pemberian-penghargaan-pbb-p2-panutan-tahun-2022/
LOCATION:Ruang Rapat Bidang Penagihan
END:VEVENT
BEGIN:VEVENT
DTSTART;TZID=Asia/Krasnoyarsk:20220621T100000
DTEND;TZID=Asia/Krasnoyarsk:20220621T100000
DTSTAMP:20260424T002857
CREATED:20220621T075412Z
LAST-MODIFIED:20220621T075412Z
UID:20919-1655805600-1655805600@bkad.slemankab.go.id
SUMMARY:Evaluasi Pengisian Data BUMD oleh Ditjen Bina Keuangan Daerah Kemendagri
DESCRIPTION:Ruang Rapat Bagian Perekonomian dan SDA
URL:https://bkad.slemankab.go.id/event/evaluasi-pengisian-data-bumd-oleh-ditjen-bina-keuangan-daerah-kemendagri/
LOCATION:Ruang Rapat Bagian Perekonomian dan SDA
END:VEVENT
BEGIN:VEVENT
DTSTART;TZID=Asia/Krasnoyarsk:20220621T130000
DTEND;TZID=Asia/Krasnoyarsk:20220621T130000
DTSTAMP:20260424T002857
CREATED:20220621T075757Z
LAST-MODIFIED:20220621T075757Z
UID:20924-1655816400-1655816400@bkad.slemankab.go.id
SUMMARY:Rakor Pengakhiran Kerjasama Penggunaan Shelter Covid dan Persiapan Pelepasan Personil
DESCRIPTION:Ruang Rapat Sekda Lt.2 Gedung Baru
URL:https://bkad.slemankab.go.id/event/rakor-pengakhiran-kerjasama-penggunaan-shelter-covid-dan-persiapan-pelepasan-personil/
LOCATION:Ruang Rapat Sekda Lt.2 Gedung Baru
END:VEVENT
BEGIN:VEVENT
DTSTART;TZID=Asia/Krasnoyarsk:20220621T130000
DTEND;TZID=Asia/Krasnoyarsk:20220621T130000
DTSTAMP:20260424T002857
CREATED:20220621T075933Z
LAST-MODIFIED:20220621T075933Z
UID:20927-1655816400-1655816400@bkad.slemankab.go.id
SUMMARY:Rapat Koordinasi Persiapan Venue PORDA Tahun 2022 di Kabupaten Sleman
DESCRIPTION:Ruang Rapat Gelora Pora Dispora
URL:https://bkad.slemankab.go.id/event/rapat-koordinasi-persiapan-venue-porda-tahun-2022-di-kabupaten-sleman/
LOCATION:Ruang Rapat Gelora Pora Dispora
END:VEVENT
BEGIN:VEVENT
DTSTART;TZID=Asia/Krasnoyarsk:20220621T130000
DTEND;TZID=Asia/Krasnoyarsk:20220621T130000
DTSTAMP:20260424T002857
CREATED:20220621T080247Z
LAST-MODIFIED:20220621T080247Z
UID:20930-1655816400-1655816400@bkad.slemankab.go.id
SUMMARY:Rapat Koordinasi Permasalahan Pembayaran Retribusi Parkir ke Rekening Tampungan Retribusi Parkir
DESCRIPTION:Ruang Rapat Wahana Dinas Perhubungan
URL:https://bkad.slemankab.go.id/event/rapat-koordinasi-permasalahan-pembayaran-retribusi-parkir-ke-rekening-tampungan-retribusi-parkir/
LOCATION:Ruang Rapat Wahana Dinas Perhubungan
END:VEVENT
BEGIN:VEVENT
DTSTART;TZID=Asia/Krasnoyarsk:20220622T080000
DTEND;TZID=Asia/Krasnoyarsk:20220622T080000
DTSTAMP:20260424T002857
CREATED:20220622T011523Z
LAST-MODIFIED:20220622T011523Z
UID:20952-1655884800-1655884800@bkad.slemankab.go.id
SUMMARY:Pemantauan Pajak MBLB
DESCRIPTION:Pos Argomulyo\, Glagaharjo\, Kepuharjo (Petung\,Jambu)\, Wukirsari (Watuadeg\, Bedoyo)\, Merdikorejo\, Purwobinangun\, Umbulharjo\, Sendangsari
URL:https://bkad.slemankab.go.id/event/pemantauan-pajak-mblb-11/
LOCATION:Pos Argomulyo\, Glagaharjo\, Kepuharjo (Petung\,Jambu)\, Wukirsari (Watuadeg\,Bedoyo)\, Merdikorejo\, Purwobinangun\, Umbulharjo\, Sendangsari
END:VEVENT
BEGIN:VEVENT
DTSTART;TZID=Asia/Krasnoyarsk:20220622T080000
DTEND;TZID=Asia/Krasnoyarsk:20220622T080000
DTSTAMP:20260424T002857
CREATED:20220622T013318Z
LAST-MODIFIED:20220622T013318Z
UID:20962-1655884800-1655884800@bkad.slemankab.go.id
SUMMARY:Penyerahan Mobil Pelayanan Jemput Bola Didukcapil Kabupaten Sleman dan Penyerahan Dokumen Kependudukan
DESCRIPTION:Balai Kalurahan Sidoarum Godean 
URL:https://bkad.slemankab.go.id/event/penyerahan-mobil-pelayanan-jemput-bola-didukcapil-kabupaten-sleman-dan-penyerahan-dokumen-kependudukan/
LOCATION:Balai Kalurahan Sidoarum Godean
END:VEVENT
BEGIN:VEVENT
DTSTART;TZID=Asia/Krasnoyarsk:20220622T083000
DTEND;TZID=Asia/Krasnoyarsk:20220622T083000
DTSTAMP:20260424T002857
CREATED:20220622T011710Z
LAST-MODIFIED:20220622T011710Z
UID:20954-1655886600-1655886600@bkad.slemankab.go.id
SUMMARY:Sosialisasi Program JKN dan Upaya Pemutakhiran Data Segmen PNS Daerah Kab.Sleman
DESCRIPTION:Grand Serela Hotel
URL:https://bkad.slemankab.go.id/event/sosialisasi-program-jkn-dan-upaya-pemutakhiran-data-segmen-pns-daerah-kab-sleman-2/
LOCATION:Grand Serela Hotel Yogyakarta
END:VEVENT
BEGIN:VEVENT
DTSTART;TZID=Asia/Krasnoyarsk:20220622T090000
DTEND;TZID=Asia/Krasnoyarsk:20220622T090000
DTSTAMP:20260424T002857
CREATED:20220622T011817Z
LAST-MODIFIED:20220622T011817Z
UID:20956-1655888400-1655888400@bkad.slemankab.go.id
SUMMARY:Rapat Pencermatan Anggaran Hibah KPU
DESCRIPTION:Ruang Rapat IIC BKAD
URL:https://bkad.slemankab.go.id/event/rapat-pencermatan-anggaran-hibah-kpu/
LOCATION:Ruang Rapat IIC BKAD
END:VEVENT
BEGIN:VEVENT
DTSTART;TZID=Asia/Krasnoyarsk:20220622T100000
DTEND;TZID=Asia/Krasnoyarsk:20220622T100000
DTSTAMP:20260424T002857
CREATED:20220622T012138Z
LAST-MODIFIED:20220622T012138Z
UID:20958-1655892000-1655892000@bkad.slemankab.go.id
SUMMARY:Evaluasi Penagihan PBB P2 Tahun 2022 dan Tunggakan Tahun 2017-2021
DESCRIPTION:Ruang Rapat Bidang Penagihan
URL:https://bkad.slemankab.go.id/event/evaluasi-penagihan-pbb-p2-tahun-2022-dan-tunggakan-tahun-2017-2021/
LOCATION:Ruang Rapat Bidang Penagihan
END:VEVENT
BEGIN:VEVENT
DTSTART;TZID=Asia/Krasnoyarsk:20220622T100000
DTEND;TZID=Asia/Krasnoyarsk:20220622T100000
DTSTAMP:20260424T002857
CREATED:20220622T012545Z
LAST-MODIFIED:20220622T012545Z
UID:20960-1655892000-1655892000@bkad.slemankab.go.id
SUMMARY:Kunjungan Kerja dari DPRD Kab.Belitung Terkait Penyertaan Modal Daerah
DESCRIPTION:Ruang Rapat IIA BKAD
URL:https://bkad.slemankab.go.id/event/kunjungan-kerja-dari-dprd-kab-belitung-terkait-penyertaan-modal-daerah/
LOCATION:Ruang Rapat IIA BKAD Sleman
END:VEVENT
BEGIN:VEVENT
DTSTART;TZID=Asia/Krasnoyarsk:20220623T080000
DTEND;TZID=Asia/Krasnoyarsk:20220623T150000
DTSTAMP:20260424T002857
CREATED:20220623T012226Z
LAST-MODIFIED:20220623T012226Z
UID:21181-1655971200-1655996400@bkad.slemankab.go.id
SUMMARY:Pemantauan Pajak MBLB
DESCRIPTION:Pos Argomulyo\, Glagaharjo\, Kepuharjo (Petung\,Jambu)\, Wukirsari (Watuadeg\, Bedoyo)\, Merdikorejo\, Purwobinangun\, Umbulharjo\, Sendangsari
URL:https://bkad.slemankab.go.id/event/pemantauan-pajak-mblb-12/
LOCATION:Pos Argomulyo\, Glagaharjo\, Kepuharjo (Petung\,Jambu)\, Wukirsari (Watuadeg\,Bedoyo)\, Merdikorejo\, Purwobinangun\, Umbulharjo\, Sendangsari
END:VEVENT
BEGIN:VEVENT
DTSTART;TZID=Asia/Krasnoyarsk:20220623T100000
DTEND;TZID=Asia/Krasnoyarsk:20220623T100000
DTSTAMP:20260424T002857
CREATED:20220623T012457Z
LAST-MODIFIED:20220623T012457Z
UID:21183-1655978400-1655978400@bkad.slemankab.go.id
SUMMARY:Evaluasi Penagihan PBB P2 Tahun 2022
DESCRIPTION:Ruang Rapat Bidang Penagihan 
URL:https://bkad.slemankab.go.id/event/evaluasi-penagihan-pbb-p2-tahun-2022/
LOCATION:Ruang Rapat Bidang Penagihan
END:VEVENT
BEGIN:VEVENT
DTSTART;TZID=Asia/Krasnoyarsk:20220623T110000
DTEND;TZID=Asia/Krasnoyarsk:20220623T130000
DTSTAMP:20260424T002857
CREATED:20220623T012954Z
LAST-MODIFIED:20220623T012954Z
UID:21185-1655982000-1655989200@bkad.slemankab.go.id
SUMMARY:Kunjungan Kerja dari Sekretariat DPRD Kab.Pacitan terkait Pembahasan Pertanggungjawaban Pelaksanaan APBD Tahun 2021
DESCRIPTION:Ruang Rapat IIIA BKAD
URL:https://bkad.slemankab.go.id/event/kunjungan-kerja-dari-sekretariat-dprd-kab-pacitan-terkait-pembahasan-pertanggungjawaban-pelaksanaan-apbd-tahun-2021/
LOCATION:Ruang Rapat IIIA BKAD
END:VEVENT
BEGIN:VEVENT
DTSTART;TZID=Asia/Krasnoyarsk:20220623T130000
DTEND;TZID=Asia/Krasnoyarsk:20220623T150000
DTSTAMP:20260424T002857
CREATED:20220623T013233Z
LAST-MODIFIED:20220623T013233Z
UID:21187-1655989200-1655996400@bkad.slemankab.go.id
SUMMARY:Rapat Evaluasi Pemungutan Retribusi
DESCRIPTION:Ruang Rapat IIIB BKAD 
URL:https://bkad.slemankab.go.id/event/rapat-evaluasi-pemungutan-retribusi/
LOCATION:Ruang Rapat IIIB BKAD Sleman
END:VEVENT
BEGIN:VEVENT
DTSTART;TZID=Asia/Krasnoyarsk:20220624T073000
DTEND;TZID=Asia/Krasnoyarsk:20220624T150000
DTSTAMP:20260424T002857
CREATED:20220627T074043Z
LAST-MODIFIED:20220627T074043Z
UID:21371-1656055800-1656082800@bkad.slemankab.go.id
SUMMARY:Bimbingan Teknis Pelaporan DAK Non Fisik Penguatan Kapasitas Kelembagaan Sentra Industri Kecil Menengah
DESCRIPTION:Hotel Santika Premiere Kota Harapan Indah Bekasi Jawa Barat
URL:https://bkad.slemankab.go.id/event/bimbingan-teknis-pelaporan-dak-non-fisik-penguatan-kapasitas-kelembagaan-sentra-industri-kecil-menengah/
LOCATION:Hotel Santika Premiere Kota Harapan Indah Bekasi Jawa Barat
END:VEVENT
BEGIN:VEVENT
DTSTART;TZID=Asia/Krasnoyarsk:20220624T080000
DTEND;TZID=Asia/Krasnoyarsk:20220624T103000
DTSTAMP:20260424T002857
CREATED:20220627T074412Z
LAST-MODIFIED:20220627T074412Z
UID:21374-1656057600-1656066600@bkad.slemankab.go.id
SUMMARY:Penandatanganan Data Perorangan Calon Pensiun TMT 1 Februari 2023
DESCRIPTION:R Lobby Pelayanan Kepegawaian Lt.1 BKPP
URL:https://bkad.slemankab.go.id/event/penandatanganan-data-perorangan-calon-pensiun-tmt-1-februari-2023/
LOCATION:R Lobby Pelayanan Kepegawaian Lt.1 BKPP
END:VEVENT
BEGIN:VEVENT
DTSTART;TZID=Asia/Krasnoyarsk:20220624T080000
DTEND;TZID=Asia/Krasnoyarsk:20220624T150000
DTSTAMP:20260424T002857
CREATED:20220627T073058Z
LAST-MODIFIED:20220627T073058Z
UID:21365-1656057600-1656082800@bkad.slemankab.go.id
SUMMARY:Pemantauan Pajak MBLB
DESCRIPTION:Pos Argomulyo\, Glagaharjo\, Kepuharjo (Petung\, Jambu)\, Wukirsari (watuadeg\, Bedoyo)\, Merdikorejo\, Purwobinangun\, Umbulharjo\, Sendangsari
URL:https://bkad.slemankab.go.id/event/pemantauan-pajak-mblb-13/
LOCATION:Pos Argomulyo\, Glagaharjo\, Kepuharjo (Petung\,Jambu)\, Wukirsari (Watuadeg\,Bedoyo)\, Merdikorejo\, Purwobinangun\, Umbulharjo\, Sendangsari
END:VEVENT
BEGIN:VEVENT
DTSTART;TZID=Asia/Krasnoyarsk:20220624T083000
DTEND;TZID=Asia/Krasnoyarsk:20220624T103000
DTSTAMP:20260424T002857
CREATED:20220627T074812Z
LAST-MODIFIED:20220627T074812Z
UID:21377-1656059400-1656066600@bkad.slemankab.go.id
SUMMARY:Rapat Koordinasi Penyusunan Program Pembentukan Peraturan Daerah Tahun 2023 dan Program Pembentukan Peraturan Bupati Tahun 2023
DESCRIPTION:Ruang Rapat III B Lt.3 BKAD Kabupaten Sleman
URL:https://bkad.slemankab.go.id/event/rapat-koordinasi-penyusunan-program-pembentukan-peraturan-daerah-tahun-2023-dan-program-pembentukan-peraturan-bupati-tahun-2023/
LOCATION:Ruang Rapat IIIA Lt.3 BKAD Sleman
END:VEVENT
END:VCALENDAR