BEGIN:VCALENDAR
VERSION:2.0
PRODID:-//Badan Keuangan dan Aset Daerah - ECPv6.15.16//NONSGML v1.0//EN
CALSCALE:GREGORIAN
METHOD:PUBLISH
X-ORIGINAL-URL:https://bkad.slemankab.go.id
X-WR-CALDESC:Events for Badan Keuangan dan Aset Daerah
REFRESH-INTERVAL;VALUE=DURATION:PT1H
X-Robots-Tag:noindex
X-PUBLISHED-TTL:PT1H
BEGIN:VTIMEZONE
TZID:Asia/Krasnoyarsk
BEGIN:STANDARD
TZOFFSETFROM:+0700
TZOFFSETTO:+0700
TZNAME:+07
DTSTART:20210101T000000
END:STANDARD
END:VTIMEZONE
BEGIN:VEVENT
DTSTART;TZID=Asia/Krasnoyarsk:20220216T090000
DTEND;TZID=Asia/Krasnoyarsk:20220216T103000
DTSTAMP:20260425T222108
CREATED:20220221T032801Z
LAST-MODIFIED:20220221T032801Z
UID:19196-1645002000-1645007400@bkad.slemankab.go.id
SUMMARY:Rakor Usulan Standar Harga Satuan Barang dan Jasa
DESCRIPTION:Pada Disnaker\, DPMPTSP\, Disperindag\nRR Bidang Akuntansi
URL:https://bkad.slemankab.go.id/event/rakor-usulan-standar-harga-satuan-barang-dan-jasa-2/
LOCATION:Ruang Rapat Bid. Akuntansi
END:VEVENT
BEGIN:VEVENT
DTSTART;TZID=Asia/Krasnoyarsk:20220216T090000
DTEND;TZID=Asia/Krasnoyarsk:20220216T133000
DTSTAMP:20260425T222108
CREATED:20220221T032433Z
LAST-MODIFIED:20220221T032433Z
UID:19193-1645002000-1645018200@bkad.slemankab.go.id
SUMMARY:Pemantauan Penyampaian SPPT PBB-P2 Tahun 2022
DESCRIPTION:Kalurahan Minomartani\, Candibinangun\, Tirtomartani\, Argomulyo
URL:https://bkad.slemankab.go.id/event/pemantauan-penyampaian-sppt-pbb-p2-tahun-2022-6/
END:VEVENT
BEGIN:VEVENT
DTSTART;TZID=Asia/Krasnoyarsk:20220216T090000
DTEND;TZID=Asia/Krasnoyarsk:20220217T110000
DTSTAMP:20260425T222108
CREATED:20220221T033009Z
LAST-MODIFIED:20220221T034650Z
UID:19198-1645002000-1645095600@bkad.slemankab.go.id
SUMMARY:Sosialisasi SPM Digital Sign
DESCRIPTION:RR IIIB Lt.3 BKAD Sleman
URL:https://bkad.slemankab.go.id/event/sosialisasi-spm-digital-sign/
LOCATION:Ruang Rapat IIIB Lt.3
END:VEVENT
BEGIN:VEVENT
DTSTART;TZID=Asia/Krasnoyarsk:20220216T130000
DTEND;TZID=Asia/Krasnoyarsk:20220216T143000
DTSTAMP:20260425T222108
CREATED:20220221T033312Z
LAST-MODIFIED:20220221T033312Z
UID:19200-1645016400-1645021800@bkad.slemankab.go.id
SUMMARY:Penyusunan Berita Acara Penelitian Penyertaan Modal
DESCRIPTION:Ke Bank Sleman\nRR Bidang Aset BKAD Sleman
URL:https://bkad.slemankab.go.id/event/penyusunan-berita-acara-penelitian-penyertaan-modal/
LOCATION:Ruang Rapat Bid. Aset
END:VEVENT
BEGIN:VEVENT
DTSTART;TZID=Asia/Krasnoyarsk:20220216T130000
DTEND;TZID=Asia/Krasnoyarsk:20220216T143000
DTSTAMP:20260425T222108
CREATED:20220221T033436Z
LAST-MODIFIED:20220221T033436Z
UID:19202-1645016400-1645021800@bkad.slemankab.go.id
SUMMARY:Evaluasi RFK dan Review Renja
DESCRIPTION:RR IIIB Lt.3 BKAD Sleman
URL:https://bkad.slemankab.go.id/event/evaluasi-rfk-dan-review-renja/
LOCATION:Ruang Rapat IIIB Lt.3
END:VEVENT
BEGIN:VEVENT
DTSTART;TZID=Asia/Krasnoyarsk:20220217T090000
DTEND;TZID=Asia/Krasnoyarsk:20220217T140000
DTSTAMP:20260425T222108
CREATED:20220221T034402Z
LAST-MODIFIED:20220221T034402Z
UID:19204-1645088400-1645106400@bkad.slemankab.go.id
SUMMARY:Pemantauan Penyampaian SPPT PBB-P2 Tahun 2022
DESCRIPTION:Kalurahan Sumberejo\, Glagaharjo\, Wonokerto\, Sidomulyo\, Bimomartani
URL:https://bkad.slemankab.go.id/event/pemantauan-penyampaian-sppt-pbb-p2-tahun-2022-7/
END:VEVENT
BEGIN:VEVENT
DTSTART;TZID=Asia/Krasnoyarsk:20220217T130000
DTEND;TZID=Asia/Krasnoyarsk:20220217T143000
DTSTAMP:20260425T222108
CREATED:20220221T034531Z
LAST-MODIFIED:20220221T034531Z
UID:19206-1645102800-1645108200@bkad.slemankab.go.id
SUMMARY:Koordinasi Bimtek Objek Pajak PBB-P2
DESCRIPTION:RR Bidang Dafdatap BKAD Sleman
URL:https://bkad.slemankab.go.id/event/koordinasi-bimtek-objek-pajak-pbb-p2/
LOCATION:Ruang Rapat Bid. Dafdatap
END:VEVENT
BEGIN:VEVENT
DTSTART;TZID=Asia/Krasnoyarsk:20220218T090000
DTEND;TZID=Asia/Krasnoyarsk:20220218T103000
DTSTAMP:20260425T222108
CREATED:20220221T035836Z
LAST-MODIFIED:20220221T035836Z
UID:19210-1645174800-1645180200@bkad.slemankab.go.id
SUMMARY:Koordinasi Penganggaran Terkait PORDA
DESCRIPTION:RR Bidang Anggaran
URL:https://bkad.slemankab.go.id/event/koordinasi-penganggaran-terkait-porda/
LOCATION:Ruang Rapat Bid. Anggaran
END:VEVENT
BEGIN:VEVENT
DTSTART;TZID=Asia/Krasnoyarsk:20220218T090000
DTEND;TZID=Asia/Krasnoyarsk:20220218T110000
DTSTAMP:20260425T222108
CREATED:20220221T040028Z
LAST-MODIFIED:20220221T040134Z
UID:19213-1645174800-1645182000@bkad.slemankab.go.id
SUMMARY:Menerima Kunjungan dari DPRD Kota Malang
DESCRIPTION:RR IIIB Lt.3 BKAD Sleman
URL:https://bkad.slemankab.go.id/event/menerima-kunjungan-dari-dprd-kota-malang/
LOCATION:Ruang Rapat IIIB Lt.3
END:VEVENT
BEGIN:VEVENT
DTSTART;TZID=Asia/Krasnoyarsk:20220218T090000
DTEND;TZID=Asia/Krasnoyarsk:20220218T140000
DTSTAMP:20260425T222108
CREATED:20220221T034848Z
LAST-MODIFIED:20220221T034848Z
UID:19208-1645174800-1645192800@bkad.slemankab.go.id
SUMMARY:Pemantauan Penyampaian SPPT PBB-P2 Tahun 2022
DESCRIPTION:Kalurahan Sukoharjo\, Hargobinangun\, Tamanmartani\, Sidoagung
URL:https://bkad.slemankab.go.id/event/pemantauan-penyampaian-sppt-pbb-p2-tahun-2022-8/
END:VEVENT
BEGIN:VEVENT
DTSTART;TZID=Asia/Krasnoyarsk:20220221T090000
DTEND;TZID=Asia/Krasnoyarsk:20220221T103000
DTSTAMP:20260425T222108
CREATED:20220221T041429Z
LAST-MODIFIED:20220221T041429Z
UID:19217-1645434000-1645439400@bkad.slemankab.go.id
SUMMARY:Tindaklanjut Pemotongan DAU & Input Perubahan Penjabaran APBD
DESCRIPTION:RR IIIB Lt.3 BKAD Sleman
URL:https://bkad.slemankab.go.id/event/tindaklanjut-pemotongan-dau-input-perubahan-penjabaran-apbd/
LOCATION:Ruang Rapat IIIB Lt.3
END:VEVENT
BEGIN:VEVENT
DTSTART;TZID=Asia/Krasnoyarsk:20220221T090000
DTEND;TZID=Asia/Krasnoyarsk:20220221T140000
DTSTAMP:20260425T222108
CREATED:20220221T041212Z
LAST-MODIFIED:20220221T041212Z
UID:19215-1645434000-1645452000@bkad.slemankab.go.id
SUMMARY:Pemantauan Penyampaian SPPT PBB-P2 Tahun 2022
DESCRIPTION:Kalurahan Tridadi\, Sendangrejo\, Gayamharjo\, Sidokarto
URL:https://bkad.slemankab.go.id/event/pemantauan-penyampaian-sppt-pbb-p2-tahun-2022-9/
END:VEVENT
BEGIN:VEVENT
DTSTART;TZID=Asia/Krasnoyarsk:20220222T090000
DTEND;TZID=Asia/Krasnoyarsk:20220222T110000
DTSTAMP:20260425T222108
CREATED:20220222T040850Z
LAST-MODIFIED:20220222T040850Z
UID:19228-1645520400-1645527600@bkad.slemankab.go.id
SUMMARY:Koordinasi Klaim BPJS pada RSUD Prambanan
DESCRIPTION:
URL:https://bkad.slemankab.go.id/event/koordinasi-klaim-bpjs-pada-rsud-prambanan/
LOCATION:Ruang Rapat Bid. Akuntansi
END:VEVENT
BEGIN:VEVENT
DTSTART;TZID=Asia/Krasnoyarsk:20220222T090000
DTEND;TZID=Asia/Krasnoyarsk:20220222T140000
DTSTAMP:20260425T222108
CREATED:20220222T040455Z
LAST-MODIFIED:20220222T040455Z
UID:19226-1645520400-1645538400@bkad.slemankab.go.id
SUMMARY:Pemantauan Penyampaian SPPT PBB P2 Tahun 2022
DESCRIPTION:Kalurahan Sardonoharjo\, Kalitirto\, Sendangsari\, Sambirejo
URL:https://bkad.slemankab.go.id/event/pemantauan-penyampaian-sppt-pbb-p2-tahun-2022-10/
END:VEVENT
BEGIN:VEVENT
DTSTART;TZID=Asia/Krasnoyarsk:20220222T090000
DTEND;TZID=Asia/Krasnoyarsk:20220222T230000
DTSTAMP:20260425T222108
CREATED:20220222T040116Z
LAST-MODIFIED:20220222T040116Z
UID:19224-1645520400-1645570800@bkad.slemankab.go.id
SUMMARY:Refokusing Anggaran 2022
DESCRIPTION:
URL:https://bkad.slemankab.go.id/event/refokusing-anggaran-2022/
LOCATION:Ruang Rapat IIIB Lt.3
END:VEVENT
BEGIN:VEVENT
DTSTART;TZID=Asia/Krasnoyarsk:20220222T130000
DTEND;TZID=Asia/Krasnoyarsk:20220222T150000
DTSTAMP:20260425T222108
CREATED:20220222T035738Z
LAST-MODIFIED:20220222T035738Z
UID:19222-1645534800-1645542000@bkad.slemankab.go.id
SUMMARY:Koordinasi Penagihan PBB P2 Tahun 2022 dan Tunggakan Tahun 2017-2021
DESCRIPTION:
URL:https://bkad.slemankab.go.id/event/koordinasi-penagihan-pbb-p2-tahun-2022-dan-tunggakan-tahun-2017-2021/
LOCATION:Ruang Rapat Bid. Penagihan
END:VEVENT
BEGIN:VEVENT
DTSTART;TZID=Asia/Krasnoyarsk:20220223T090000
DTEND;TZID=Asia/Krasnoyarsk:20220223T110000
DTSTAMP:20260425T222108
CREATED:20220225T041659Z
LAST-MODIFIED:20220225T041659Z
UID:19242-1645606800-1645614000@bkad.slemankab.go.id
SUMMARY:Sosialisasi DAK Fisik Kabupaten Sleman Tahun 2022
DESCRIPTION:RR IIIA Lt.3 BKAD Sleman
URL:https://bkad.slemankab.go.id/event/sosialisasi-dak-fisik-kabupaten-sleman-tahun-2022/
LOCATION:Ruang Rapat IIIA Lt.3
END:VEVENT
BEGIN:VEVENT
DTSTART;TZID=Asia/Krasnoyarsk:20220223T090000
DTEND;TZID=Asia/Krasnoyarsk:20220223T140000
DTSTAMP:20260425T222108
CREATED:20220225T040856Z
LAST-MODIFIED:20220225T040856Z
UID:19232-1645606800-1645624800@bkad.slemankab.go.id
SUMMARY:Pemantauan Penyampaian SPPT PBB-P2 Tahun 2022
DESCRIPTION:Kalurahan Sendangtirto\, Tlogoadi\, Sumberagung\, Sindumartani
URL:https://bkad.slemankab.go.id/event/pemantauan-penyampaian-sppt-pbb-p2-tahun-2022-11/
END:VEVENT
BEGIN:VEVENT
DTSTART;TZID=Asia/Krasnoyarsk:20220223T100000
DTEND;TZID=Asia/Krasnoyarsk:20220223T120000
DTSTAMP:20260425T222108
CREATED:20220225T041024Z
LAST-MODIFIED:20220225T041024Z
UID:19234-1645610400-1645617600@bkad.slemankab.go.id
SUMMARY:Rakor Rekonsiliasi Penyertaan Modal dan Evaluasi Pelaksanaan Pengawasan Eksternal Kualitas Air
DESCRIPTION:RR IIIB Lt.3 BKAD Sleman
URL:https://bkad.slemankab.go.id/event/rakor-rekonsiliasi-penyertaan-modal-dan-evaluasi-pelaksanaan-pengawasan-eksternal-kualitas-air/
LOCATION:Ruang Rapat IIIB Lt.3
END:VEVENT
BEGIN:VEVENT
DTSTART;TZID=Asia/Krasnoyarsk:20220224T090000
DTEND;TZID=Asia/Krasnoyarsk:20220224T103000
DTSTAMP:20260425T222108
CREATED:20220301T082836Z
LAST-MODIFIED:20220301T082836Z
UID:19248-1645693200-1645698600@bkad.slemankab.go.id
SUMMARY:Sosialisasi SPM Digital Sign
DESCRIPTION:RR IIIB Lt.3 BKAD Sleman
URL:https://bkad.slemankab.go.id/event/sosialisasi-spm-digital-sign-2/
LOCATION:Ruang Rapat IIIB Lt.3
END:VEVENT
BEGIN:VEVENT
DTSTART;TZID=Asia/Krasnoyarsk:20220224T090000
DTEND;TZID=Asia/Krasnoyarsk:20220224T133000
DTSTAMP:20260425T222108
CREATED:20220301T082711Z
LAST-MODIFIED:20220301T082711Z
UID:19246-1645693200-1645709400@bkad.slemankab.go.id
SUMMARY:Pemantauan Penyampaian SPPT PBB-P2 Tahun 2022
DESCRIPTION:Kalurahan Margorejo\, Sendangadi\, Madurejo
URL:https://bkad.slemankab.go.id/event/pemantauan-penyampaian-sppt-pbb-p2-tahun-2022-12/
END:VEVENT
BEGIN:VEVENT
DTSTART;TZID=Asia/Krasnoyarsk:20220225T073000
DTEND;TZID=Asia/Krasnoyarsk:20220225T093000
DTSTAMP:20260425T222108
CREATED:20220301T083107Z
LAST-MODIFIED:20220301T083107Z
UID:19252-1645774200-1645781400@bkad.slemankab.go.id
SUMMARY:Pembahasan RKP DBHCHT TA 2022
DESCRIPTION:Zoom Meeting
URL:https://bkad.slemankab.go.id/event/pembahasan-rkp-dbhcht-ta-2022/
LOCATION:Zoom Meeting
END:VEVENT
BEGIN:VEVENT
DTSTART;TZID=Asia/Krasnoyarsk:20220225T090000
DTEND;TZID=Asia/Krasnoyarsk:20220225T103000
DTSTAMP:20260425T222108
CREATED:20220301T083253Z
LAST-MODIFIED:20220301T083253Z
UID:19255-1645779600-1645785000@bkad.slemankab.go.id
SUMMARY:Koordinasi Permohonan Pemindahan Kantor UPT Pendidikan Melati
DESCRIPTION:Jalan Kebon Agung\, Tlogoadi\nRR Bidang Aset BKAD Kabupaten Sleman
URL:https://bkad.slemankab.go.id/event/koordinasi-permohonan-pemindahan-kantor-upt-pendidikan-melati/
LOCATION:Ruang Rapat Bid. Aset
END:VEVENT
BEGIN:VEVENT
DTSTART;TZID=Asia/Krasnoyarsk:20220225T090000
DTEND;TZID=Asia/Krasnoyarsk:20220225T140000
DTSTAMP:20260425T222108
CREATED:20220301T082945Z
LAST-MODIFIED:20220301T082945Z
UID:19250-1645779600-1645797600@bkad.slemankab.go.id
SUMMARY:Pemantauan Penyampaian SPPT PBB-P2 Tahun 2022
DESCRIPTION:Kalurahan Mororejo\, Sinduadi\, Nogotirto\, Sidoarum
URL:https://bkad.slemankab.go.id/event/pemantauan-penyampaian-sppt-pbb-p2-tahun-2022-13/
END:VEVENT
BEGIN:VEVENT
DTSTART;TZID=Asia/Krasnoyarsk:20220301T090000
DTEND;TZID=Asia/Krasnoyarsk:20220301T103000
DTSTAMP:20260425T222108
CREATED:20220301T083638Z
LAST-MODIFIED:20220301T083638Z
UID:19261-1646125200-1646130600@bkad.slemankab.go.id
SUMMARY:Penyusunan Kajian Penyertaan Modal ke Bank Sleman
DESCRIPTION:RR Bidang Aset BKAD Kabupaten Sleman
URL:https://bkad.slemankab.go.id/event/penyusunan-kajian-penyertaan-modal-ke-bank-sleman/
LOCATION:Ruang Rapat Bid. Aset
END:VEVENT
BEGIN:VEVENT
DTSTART;TZID=Asia/Krasnoyarsk:20220301T090000
DTEND;TZID=Asia/Krasnoyarsk:20220301T103000
DTSTAMP:20260425T222108
CREATED:20220301T083752Z
LAST-MODIFIED:20220301T083752Z
UID:19263-1646125200-1646130600@bkad.slemankab.go.id
SUMMARY:Rakor Tunjangan Fungsional Penyuluh Pertanian P3K
DESCRIPTION:RR IIIA Lt.3 BKAD Kabupaten Sleman
URL:https://bkad.slemankab.go.id/event/rakor-tunjangan-fungsional-penyuluh-pertanian-p3k/
LOCATION:Ruang Rapat IIIA Lt.3
END:VEVENT
BEGIN:VEVENT
DTSTART;TZID=Asia/Krasnoyarsk:20220301T090000
DTEND;TZID=Asia/Krasnoyarsk:20220301T140000
DTSTAMP:20260425T222108
CREATED:20220301T083411Z
LAST-MODIFIED:20220301T083411Z
UID:19257-1646125200-1646143200@bkad.slemankab.go.id
SUMMARY:Pemantauan Penyampaian SPPT PBB-P2 Tahun 2022
DESCRIPTION:Kalurahan Harjobinangun\, Selomartani\, Sendangagung\, Sidomoyo
URL:https://bkad.slemankab.go.id/event/pemantauan-penyampaian-sppt-pbb-p2-tahun-2022-14/
END:VEVENT
BEGIN:VEVENT
DTSTART;TZID=Asia/Krasnoyarsk:20220301T130000
DTEND;TZID=Asia/Krasnoyarsk:20220301T143000
DTSTAMP:20260425T222108
CREATED:20220301T083520Z
LAST-MODIFIED:20220301T083520Z
UID:19259-1646139600-1646145000@bkad.slemankab.go.id
SUMMARY:Koordinasi Pelayanan Validasi BPHTB
DESCRIPTION:UC UGM
URL:https://bkad.slemankab.go.id/event/koordinasi-pelayanan-validasi-bphtb-2/
END:VEVENT
BEGIN:VEVENT
DTSTART;TZID=Asia/Krasnoyarsk:20220302T090000
DTEND;TZID=Asia/Krasnoyarsk:20220302T110000
DTSTAMP:20260425T222108
CREATED:20220324T062952Z
LAST-MODIFIED:20220324T062952Z
UID:19454-1646211600-1646218800@bkad.slemankab.go.id
SUMMARY:Rapat Koordinasi Usulan Standar Harga Satuan Barang dan Jasa
DESCRIPTION:RR IIIA Lt.3 BKAD Sleman
URL:https://bkad.slemankab.go.id/event/rapat-koordinasi-usulan-standar-harga-satuan-barang-dan-jasa/
LOCATION:Ruang Rapat IIIA Lt.3
END:VEVENT
BEGIN:VEVENT
DTSTART;TZID=Asia/Krasnoyarsk:20220302T090000
DTEND;TZID=Asia/Krasnoyarsk:20220302T110000
DTSTAMP:20260425T222108
CREATED:20220324T063101Z
LAST-MODIFIED:20220324T063101Z
UID:19456-1646211600-1646218800@bkad.slemankab.go.id
SUMMARY:Rapat Evaluasi Penerimaan Retribusi Daerah
DESCRIPTION:RR IIIB Lt.3 BKAD Sleman
URL:https://bkad.slemankab.go.id/event/rapat-evaluasi-penerimaan-retribusi-daerah/
LOCATION:Ruang Rapat IIIB Lt.3
END:VEVENT
END:VCALENDAR