BEGIN:VCALENDAR
VERSION:2.0
PRODID:-//Badan Keuangan dan Aset Daerah - ECPv6.15.16//NONSGML v1.0//EN
CALSCALE:GREGORIAN
METHOD:PUBLISH
X-ORIGINAL-URL:https://bkad.slemankab.go.id
X-WR-CALDESC:Events for Badan Keuangan dan Aset Daerah
REFRESH-INTERVAL;VALUE=DURATION:PT1H
X-Robots-Tag:noindex
X-PUBLISHED-TTL:PT1H
BEGIN:VTIMEZONE
TZID:Asia/Krasnoyarsk
BEGIN:STANDARD
TZOFFSETFROM:+0700
TZOFFSETTO:+0700
TZNAME:+07
DTSTART:20210101T000000
END:STANDARD
END:VTIMEZONE
BEGIN:VEVENT
DTSTART;TZID=Asia/Krasnoyarsk:20220404T090000
DTEND;TZID=Asia/Krasnoyarsk:20220404T090000
DTSTAMP:20260424T043505
CREATED:20220404T005952Z
LAST-MODIFIED:20220404T005952Z
UID:19601-1649062800-1649062800@bkad.slemankab.go.id
SUMMARY:Rakor Pencermatan Output Rancangan Renja Perangkat Daerah Bid Pemerintahan dan SDM
DESCRIPTION:Aula Pangripta Bappeda Sleman
URL:https://bkad.slemankab.go.id/event/rakor-pencermatan-output-rancangan-renja-perangkat-daerah-bid-pemerintahan-dan-sdm/
END:VEVENT
BEGIN:VEVENT
DTSTART;TZID=Asia/Krasnoyarsk:20220404T123000
DTEND;TZID=Asia/Krasnoyarsk:20220404T123000
DTSTAMP:20260424T043505
CREATED:20220404T005535Z
LAST-MODIFIED:20220404T005535Z
UID:19596-1649075400-1649075400@bkad.slemankab.go.id
SUMMARY:Pertanggungjawaban Pandangan Umum Fraksi DPRD
DESCRIPTION:Ruang Rapat IIA BKAD Sleman
URL:https://bkad.slemankab.go.id/event/pertanggungjawaban-pandangan-umum-fraksi-dprd/
LOCATION:Ruang Rapat IIA BKAD
END:VEVENT
BEGIN:VEVENT
DTSTART;TZID=Asia/Krasnoyarsk:20220404T123000
DTEND;TZID=Asia/Krasnoyarsk:20220404T123000
DTSTAMP:20260424T043505
CREATED:20220404T010224Z
LAST-MODIFIED:20220404T010224Z
UID:19603-1649075400-1649075400@bkad.slemankab.go.id
SUMMARY:Rakor Rehab Menara Masjid Agung\, GOR Pangukan dan Gedung Setda Akibat Puting Beliung
DESCRIPTION:Ruang Rapat Praja V Lt.2 Setda Sleman
URL:https://bkad.slemankab.go.id/event/rakor-rehab-menara-masjid-agung-gor-pangukan-dan-gedung-setda-akibat-puting-beliung/
LOCATION:Ruang Rapat Praja V Lt.2 Setda Sleman
END:VEVENT
BEGIN:VEVENT
DTSTART;TZID=Asia/Krasnoyarsk:20220405T090000
DTEND;TZID=Asia/Krasnoyarsk:20220405T090000
DTSTAMP:20260424T043505
CREATED:20220405T041656Z
LAST-MODIFIED:20220405T041656Z
UID:19617-1649149200-1649149200@bkad.slemankab.go.id
SUMMARY:Pembahasan Piutang Denda Pajak Daerah
DESCRIPTION:Ruang Rapat Bidang Penagihan
URL:https://bkad.slemankab.go.id/event/pembahasan-piutang-denda-pajak-daerah/
LOCATION:Ruang Rapat Bid. Penagihan
END:VEVENT
BEGIN:VEVENT
DTSTART;TZID=Asia/Krasnoyarsk:20220405T090000
DTEND;TZID=Asia/Krasnoyarsk:20220405T090000
DTSTAMP:20260424T043505
CREATED:20220405T042440Z
LAST-MODIFIED:20220405T042440Z
UID:19621-1649149200-1649149200@bkad.slemankab.go.id
SUMMARY:Penyerahan Hasil Evaluasi Akuntabilitas Kinerja dan Pelaksanaan Reformasi Birokrasi Instansi Pemerintah Prov/Kab/Kota Tahun 2021 oleh Kementrian PANRB Secara Virtual
DESCRIPTION:Sleman Smart Room Dinas Kominfo
URL:https://bkad.slemankab.go.id/event/penyerahan-hasil-evaluasi-akuntabilitas-kinerja-dan-pelaksanaan-reformasi-birokrasi-instansi-pemerintah-prov-kab-kota-tahun-2021-oleh-kementrian-panrb-secara-virtual/
LOCATION:Sleman Smart Room Dinas Kominfo
END:VEVENT
BEGIN:VEVENT
DTSTART;TZID=Asia/Krasnoyarsk:20220405T090000
DTEND;TZID=Asia/Krasnoyarsk:20220405T170000
DTSTAMP:20260424T043505
CREATED:20220405T040843Z
LAST-MODIFIED:20220405T040843Z
UID:19613-1649149200-1649178000@bkad.slemankab.go.id
SUMMARY:Rekonsiliasi Perizinan Air Tanah dan Perhitungan Pengambilan Volume Air Tanah
DESCRIPTION:Ruang Rapat Bidang Dafdatap
URL:https://bkad.slemankab.go.id/event/rekonsiliasi-perizinan-air-tanah-dan-perhitungan-pengambilan-volume-air-tanah-3/
LOCATION:Ruang Rapat Bid. Dafdatap
END:VEVENT
BEGIN:VEVENT
DTSTART;TZID=Asia/Krasnoyarsk:20220405T123000
DTEND;TZID=Asia/Krasnoyarsk:20220405T123000
DTSTAMP:20260424T043505
CREATED:20220405T041905Z
LAST-MODIFIED:20220405T041905Z
UID:19619-1649161800-1649161800@bkad.slemankab.go.id
SUMMARY:Rapat Koordinasi Terkait PPG Guru Agama Islam
DESCRIPTION:Ruang Rapat IIC BKAD
URL:https://bkad.slemankab.go.id/event/rapat-koordinasi-terkait-ppg-guru-agama-islam/
LOCATION:Ruang Rapat IIC BKAD Sleman
END:VEVENT
BEGIN:VEVENT
DTSTART;TZID=Asia/Krasnoyarsk:20220405T130000
DTEND;TZID=Asia/Krasnoyarsk:20220405T130000
DTSTAMP:20260424T043505
CREATED:20220405T041131Z
LAST-MODIFIED:20220405T041131Z
UID:19615-1649163600-1649163600@bkad.slemankab.go.id
SUMMARY:Rekonsiliasi Pendapatan dan Piutang Pajak Daerah Maret 2022
DESCRIPTION:Ruang Rapat Bidang Penagihan
URL:https://bkad.slemankab.go.id/event/rekonsiliasi-pendapatan-dan-piutang-pajak-daerah-maret-2022/
LOCATION:Ruang Rapat Bid. Penagihan
END:VEVENT
BEGIN:VEVENT
DTSTART;TZID=Asia/Krasnoyarsk:20220406T090000
DTEND;TZID=Asia/Krasnoyarsk:20220406T090000
DTSTAMP:20260424T043505
CREATED:20220406T015141Z
LAST-MODIFIED:20220406T015141Z
UID:19638-1649235600-1649235600@bkad.slemankab.go.id
SUMMARY:Koordinasi Integrasi Sistem Pengawasan Reklame
DESCRIPTION:Ruang Rapat Bidang Dafdatap
URL:https://bkad.slemankab.go.id/event/koordinasi-integrasi-sistem-pengawasan-reklame/
LOCATION:Ruang Rapat Bidang Dafdatap
END:VEVENT
BEGIN:VEVENT
DTSTART;TZID=Asia/Krasnoyarsk:20220406T090000
DTEND;TZID=Asia/Krasnoyarsk:20220406T090000
DTSTAMP:20260424T043505
CREATED:20220406T020006Z
LAST-MODIFIED:20220406T020006Z
UID:19642-1649235600-1649235600@bkad.slemankab.go.id
SUMMARY:Sosialisasi dan Implementasi SIM Gaji Berbasis Web Based Bagi Pengelola Gaji Kabupaten Sleman
DESCRIPTION:Ruang Rapat IIIA BKAD Sleman
URL:https://bkad.slemankab.go.id/event/sosialisasi-dan-implementasi-sim-gaji-berbasis-web-based-bagi-pengelola-gaji-kabupaten-sleman/
LOCATION:Ruang Rapat IIIA BKAD Sleman
END:VEVENT
BEGIN:VEVENT
DTSTART;TZID=Asia/Krasnoyarsk:20220406T090000
DTEND;TZID=Asia/Krasnoyarsk:20220406T090000
DTSTAMP:20260424T043505
CREATED:20220406T021121Z
LAST-MODIFIED:20220406T021121Z
UID:19651-1649235600-1649235600@bkad.slemankab.go.id
SUMMARY:Rekonsiliasi Aset Tetap dan Persediaan Bulan Januari-Maret 2022
DESCRIPTION:Ruang Rapat Bidang Akuntansi
URL:https://bkad.slemankab.go.id/event/rekonsiliasi-aset-tetap-dan-persediaan-bulan-januari-maret-2022/
LOCATION:Ruang Rapat Bidang Akuntansi
END:VEVENT
BEGIN:VEVENT
DTSTART;TZID=Asia/Krasnoyarsk:20220406T090000
DTEND;TZID=Asia/Krasnoyarsk:20220406T090000
DTSTAMP:20260424T043505
CREATED:20220406T021445Z
LAST-MODIFIED:20220406T021445Z
UID:19654-1649235600-1649235600@bkad.slemankab.go.id
SUMMARY:Rakor Kebijakan Anggaran Terkait Kenaikan BBM dan Tarif PPN
DESCRIPTION:Ruang Rapat IIC BKAD Sleman
URL:https://bkad.slemankab.go.id/event/rakor-kebijakan-anggaran-terkait-kenaikan-bbm-dan-tarif-ppn/
LOCATION:Ruang Rapat IIC BKAD Sleman
END:VEVENT
BEGIN:VEVENT
DTSTART;TZID=Asia/Krasnoyarsk:20220406T100000
DTEND;TZID=Asia/Krasnoyarsk:20220406T100000
DTSTAMP:20260424T043505
CREATED:20220406T020815Z
LAST-MODIFIED:20220406T020815Z
UID:19649-1649239200-1649239200@bkad.slemankab.go.id
SUMMARY:Rakor Rencana Revisi Luas Sertifikat Warga yang Terkena Dampak Perluasan Jalan Depok-Watulangkah
DESCRIPTION:Ruang Rapat Bidang Aset
URL:https://bkad.slemankab.go.id/event/rakor-rencana-revisi-luas-sertifikat-warga-yang-terkena-dampak-perluasan-jalan-depok-watulangkah/
LOCATION:Ruang Rapat Bid. Aset
END:VEVENT
BEGIN:VEVENT
DTSTART;TZID=Asia/Krasnoyarsk:20220406T123000
DTEND;TZID=Asia/Krasnoyarsk:20220406T123000
DTSTAMP:20260424T043505
CREATED:20220406T020425Z
LAST-MODIFIED:20220406T020425Z
UID:19646-1649248200-1649248200@bkad.slemankab.go.id
SUMMARY:Koordinasi Kegiatan Pembinaan Kalurahan Oleh Kejaksaan
DESCRIPTION:Ruang Rapat IIA BKAD Sleman
URL:https://bkad.slemankab.go.id/event/koordinasi-kegiatan-pembinaan-kalurahan-oleh-kejaksaan/
LOCATION:Ruang Rapat IIA BKAD Sleman
END:VEVENT
BEGIN:VEVENT
DTSTART;TZID=Asia/Krasnoyarsk:20220406T123000
DTEND;TZID=Asia/Krasnoyarsk:20220406T123000
DTSTAMP:20260424T043505
CREATED:20220406T021843Z
LAST-MODIFIED:20220406T021843Z
UID:19656-1649248200-1649248200@bkad.slemankab.go.id
SUMMARY:Paparan Grand Design Master Plan Sub Terminal Agribisnis (STA) Tempel
DESCRIPTION:Ruang Rapat Bupati Gedung Baru Setda Kab.Sleman
URL:https://bkad.slemankab.go.id/event/paparan-grand-design-master-plan-sub-terminal-agribisnis-sta-tempel/
LOCATION:Ruang Rapat Bupati Gedung Baru Setda Kab.Sleman
END:VEVENT
BEGIN:VEVENT
DTSTART;TZID=Asia/Krasnoyarsk:20220406T130000
DTEND;TZID=Asia/Krasnoyarsk:20220406T130000
DTSTAMP:20260424T043505
CREATED:20220406T014830Z
LAST-MODIFIED:20220406T014830Z
UID:19636-1649250000-1649250000@bkad.slemankab.go.id
SUMMARY:Rekonsiliasi Pembayaran PBB-P2 Kabupaten Sleman Periode 01-31 Maret 2022
DESCRIPTION:Ruang Rapat Bidang Penagihan
URL:https://bkad.slemankab.go.id/event/rekonsiliasi-pembayaran-pbb-p2-kabupaten-sleman-periode-01-31-maret-2022/
LOCATION:Ruang Rapat Bid. Penagihan
END:VEVENT
BEGIN:VEVENT
DTSTART;TZID=Asia/Krasnoyarsk:20220407T083000
DTEND;TZID=Asia/Krasnoyarsk:20220407T083000
DTSTAMP:20260424T043505
CREATED:20220407T012408Z
LAST-MODIFIED:20220407T012408Z
UID:19659-1649320200-1649320200@bkad.slemankab.go.id
SUMMARY:Rapat Evaluasi Pendataan Ulang Reklame
DESCRIPTION:Ruang Rapat Bidang Dafdatap
URL:https://bkad.slemankab.go.id/event/rapat-evaluasi-pendataan-ulang-reklame/
LOCATION:Ruang Rapat Bidang Dafdatap
END:VEVENT
BEGIN:VEVENT
DTSTART;TZID=Asia/Krasnoyarsk:20220407T090000
DTEND;TZID=Asia/Krasnoyarsk:20220407T090000
DTSTAMP:20260424T043505
CREATED:20220407T013057Z
LAST-MODIFIED:20220407T013057Z
UID:19661-1649322000-1649322000@bkad.slemankab.go.id
SUMMARY:Simulasi E-Bupot SPT Masal Bendahara
DESCRIPTION:Ruang Rapat IIIA BKAD Sleman
URL:https://bkad.slemankab.go.id/event/simulasi-e-bupot-spt-masal-bendahara/
LOCATION:Ruang Rapat IIIA BKAD Sleman
END:VEVENT
BEGIN:VEVENT
DTSTART;TZID=Asia/Krasnoyarsk:20220407T090000
DTEND;TZID=Asia/Krasnoyarsk:20220407T090000
DTSTAMP:20260424T043505
CREATED:20220407T013716Z
LAST-MODIFIED:20220407T013716Z
UID:19663-1649322000-1649322000@bkad.slemankab.go.id
SUMMARY:Kegiatan Sosialisasi dan Implementasi Web Based di Kabupaten Sleman
DESCRIPTION:Ruang Rapat IIIA BKAD Sleman
URL:https://bkad.slemankab.go.id/event/kegiatan-sosialisasi-dan-implementasi-web-based-di-kabupaten-sleman/
LOCATION:Ruang Rapat IIIA BKAD Sleman
END:VEVENT
BEGIN:VEVENT
DTSTART;TZID=Asia/Krasnoyarsk:20220407T090000
DTEND;TZID=Asia/Krasnoyarsk:20220407T090000
DTSTAMP:20260424T043505
CREATED:20220407T015928Z
LAST-MODIFIED:20220407T015928Z
UID:19668-1649322000-1649322000@bkad.slemankab.go.id
SUMMARY:Rapat Koordinasi Usulan Standar Harga Satuan Barang dan Jasa
DESCRIPTION:Ruang Rapat IIA BKAD Sl
URL:https://bkad.slemankab.go.id/event/rapat-koordinasi-usulan-standar-harga-satuan-barang-dan-jasa-2/
LOCATION:Ruang Rapat IIA BKAD Sleman
END:VEVENT
BEGIN:VEVENT
DTSTART;TZID=Asia/Krasnoyarsk:20220407T130000
DTEND;TZID=Asia/Krasnoyarsk:20220407T130000
DTSTAMP:20260424T043505
CREATED:20220407T015136Z
LAST-MODIFIED:20220407T015136Z
UID:19665-1649336400-1649336400@bkad.slemankab.go.id
SUMMARY:Koordinasi Persiapan Kegiatan Penyuluhan Kepada Wajib Pajak Parkir
DESCRIPTION:Ruang Rapat Bidang Penagihan
URL:https://bkad.slemankab.go.id/event/koordinasi-persiapan-kegiatan-penyuluhan-kepada-wajib-pajak-parkir/
LOCATION:Ruang Rapat Bidang Penagihan
END:VEVENT
BEGIN:VEVENT
DTSTART;TZID=Asia/Krasnoyarsk:20220408T090000
DTEND;TZID=Asia/Krasnoyarsk:20220408T090000
DTSTAMP:20260424T043505
CREATED:20220408T011320Z
LAST-MODIFIED:20220408T011320Z
UID:19671-1649408400-1649408400@bkad.slemankab.go.id
SUMMARY:Sosialisasi dan Implementasi SIM Gaji Berbasis Web Based Bagi Pengelola Gaji Kabupaten Sleman
DESCRIPTION:Ruang Rapat IIIA BKAD Sleman
URL:https://bkad.slemankab.go.id/event/sosialisasi-dan-implementasi-sim-gaji-berbasis-web-based-bagi-pengelola-gaji-kabupaten-sleman-2/
LOCATION:Ruang Rapat IIIA BKAD Sleman
END:VEVENT
BEGIN:VEVENT
DTSTART;TZID=Asia/Krasnoyarsk:20220408T090000
DTEND;TZID=Asia/Krasnoyarsk:20220408T090000
DTSTAMP:20260424T043505
CREATED:20220408T012204Z
LAST-MODIFIED:20220408T012204Z
UID:19675-1649408400-1649408400@bkad.slemankab.go.id
SUMMARY:Musyawarah Harga Calon Tanah Pengganti Tanah Kas Desa Kalurahan Glagaharjo Kapanewon Cangkringan
DESCRIPTION:Ruang Rapat Merti Bumi Dipertaru
URL:https://bkad.slemankab.go.id/event/musyawarah-harga-calon-tanah-pengganti-tanah-kas-desa-kalurahan-glagaharjo-kapanewon-cangkringan/
LOCATION:Ruang Rapat Merti Bumi Dipertaru
END:VEVENT
BEGIN:VEVENT
DTSTART;TZID=Asia/Krasnoyarsk:20220408T090000
DTEND;TZID=Asia/Krasnoyarsk:20220408T090000
DTSTAMP:20260424T043505
CREATED:20220408T012914Z
LAST-MODIFIED:20220408T012914Z
UID:19681-1649408400-1649408400@bkad.slemankab.go.id
SUMMARY:Rapat Koordinasi Rencana Pengadaan Material Jalur Evakuasi pada Sub Kegiatan Penguatan Kapasitas Kawasan untuk Pencegahan dan Kesiapsiagaan
DESCRIPTION:Ruang Rapat B BPBD Kab.Sleman
URL:https://bkad.slemankab.go.id/event/rapat-koordinasi-rencana-pengadaan-material-jalur-evakuasi-pada-sub-kegiatan-penguatan-kapasitas-kawasan-untuk-pencegahan-dan-kesiapsiagaan/
LOCATION:Ruang Rapat B BPBD Kab.Sleman
END:VEVENT
BEGIN:VEVENT
DTSTART;TZID=Asia/Krasnoyarsk:20220408T123000
DTEND;TZID=Asia/Krasnoyarsk:20220408T123000
DTSTAMP:20260424T043505
CREATED:20220408T012536Z
LAST-MODIFIED:20220408T012536Z
UID:19678-1649421000-1649421000@bkad.slemankab.go.id
SUMMARY:Rakor Menanggapi Rencana Monitoring Program Pencegahan Korupsi Terkait Barang dan Jasa dari Dit.Korsup III KPK
DESCRIPTION:Ruang Rapat Sembada Setda Kab.Sleman
URL:https://bkad.slemankab.go.id/event/rakor-menanggapi-rencana-monitoring-program-pencegahan-korupsi-terkait-barang-dan-jasa-dari-dit-korsup-iii-kpk/
LOCATION:Ruang Rapat Sembada Setda Kab.Sleman
END:VEVENT
BEGIN:VEVENT
DTSTART;TZID=Asia/Krasnoyarsk:20220408T130000
DTEND;TZID=Asia/Krasnoyarsk:20220408T130000
DTSTAMP:20260424T043505
CREATED:20220408T011907Z
LAST-MODIFIED:20220408T011907Z
UID:19673-1649422800-1649422800@bkad.slemankab.go.id
SUMMARY:Penyampaian Hasil Rapat Kerja dalam Sinkronisasi Jawaban Bupati atas PUF Terhadap Raperda\, Permintaan Persetujuan DPRD\, Penandatanganan MOU Raperda Pertanggungjawaban APBD TA 2021 dan Pendapat Akhir Bupati
DESCRIPTION:Ruang Rapat Paripurna DPRD Kabupaten Sleman
URL:https://bkad.slemankab.go.id/event/penyampaian-hasil-rapat-kerja-dalam-sinkronisasi-jawaban-bupati-atas-puf-terhadap-raperda-permintaan-persetujuan-dprd-penandatanganan-mou-raperda-pertanggungjawaban-apbd-ta-2021-dan-pendapat-akhir-b/
LOCATION:Ruang Rapat Paripurna DPRD Kabupaten Sleman
END:VEVENT
BEGIN:VEVENT
DTSTART;TZID=Asia/Krasnoyarsk:20220411T073000
DTEND;TZID=Asia/Krasnoyarsk:20220411T080000
DTSTAMP:20260424T043505
CREATED:20220411T011403Z
LAST-MODIFIED:20220411T011403Z
UID:19694-1649662200-1649664000@bkad.slemankab.go.id
SUMMARY:Apel Pagi
DESCRIPTION:Halaman BKAD Sleman
URL:https://bkad.slemankab.go.id/event/apel-pagi-4/
LOCATION:Halaman Depan BKAD
END:VEVENT
BEGIN:VEVENT
DTSTART;TZID=Asia/Krasnoyarsk:20220411T090000
DTEND;TZID=Asia/Krasnoyarsk:20220411T090000
DTSTAMP:20260424T043505
CREATED:20220411T012313Z
LAST-MODIFIED:20220411T012313Z
UID:19697-1649667600-1649667600@bkad.slemankab.go.id
SUMMARY:Entry Revisi APBD Tahun Anggaran 2022
DESCRIPTION:Ruang Rapat IIIB BKAD Sleman
URL:https://bkad.slemankab.go.id/event/entry-revisi-apbd-tahun-anggaran-2022/
LOCATION:Ruang Rapat IIIB BKAD Sleman
END:VEVENT
BEGIN:VEVENT
DTSTART;TZID=Asia/Krasnoyarsk:20220411T090000
DTEND;TZID=Asia/Krasnoyarsk:20220411T090000
DTSTAMP:20260424T043505
CREATED:20220411T014646Z
LAST-MODIFIED:20220411T014646Z
UID:19705-1649667600-1649667600@bkad.slemankab.go.id
SUMMARY:Evaluasi Rekon Aset Tetap dan Persediaan Bulan Januari\, Februari\, dan Maret 2022
DESCRIPTION:Ruang Rapat Bidang Aset
URL:https://bkad.slemankab.go.id/event/evaluasi-rekon-aset-tetap-dan-persediaan-bulan-januari-februari-dan-maret-2022/
LOCATION:Ruang Rapat Bid. Aset
END:VEVENT
BEGIN:VEVENT
DTSTART;TZID=Asia/Krasnoyarsk:20220411T090000
DTEND;TZID=Asia/Krasnoyarsk:20220411T090000
DTSTAMP:20260424T043505
CREATED:20220411T015302Z
LAST-MODIFIED:20220411T015302Z
UID:19707-1649667600-1649667600@bkad.slemankab.go.id
SUMMARY:Kunjungan Kerja Sekretariat Daerah Kabupaten Kapuas Terkait Pemberian Hibah dan Bantuan Sosial yang Bersumber dari APBD
DESCRIPTION:Ruang Rapat IIIA BKAD Sleman
URL:https://bkad.slemankab.go.id/event/kunjungan-kerja-sekretariat-daerah-kabupaten-kapuas-terkait-pemberian-hibah-dan-bantuan-sosial-yang-bersumber-dari-apbd/
LOCATION:Ruang Rapat IIIA BKAD Sleman
END:VEVENT
END:VCALENDAR