BEGIN:VCALENDAR
VERSION:2.0
PRODID:-//Badan Keuangan dan Aset Daerah - ECPv6.15.16//NONSGML v1.0//EN
CALSCALE:GREGORIAN
METHOD:PUBLISH
X-WR-CALNAME:Badan Keuangan dan Aset Daerah
X-ORIGINAL-URL:https://bkad.slemankab.go.id
X-WR-CALDESC:Events for Badan Keuangan dan Aset Daerah
REFRESH-INTERVAL;VALUE=DURATION:PT1H
X-Robots-Tag:noindex
X-PUBLISHED-TTL:PT1H
BEGIN:VTIMEZONE
TZID:Asia/Krasnoyarsk
BEGIN:STANDARD
TZOFFSETFROM:+0700
TZOFFSETTO:+0700
TZNAME:+07
DTSTART:20190101T000000
END:STANDARD
END:VTIMEZONE
BEGIN:VEVENT
DTSTART;TZID=Asia/Krasnoyarsk:20200212T083000
DTEND;TZID=Asia/Krasnoyarsk:20200212T113000
DTSTAMP:20260425T214254
CREATED:20200626T065806Z
LAST-MODIFIED:20200626T065806Z
UID:2876-1581496200-1581507000@bkad.slemankab.go.id
SUMMARY:Sosialisasi Penghasilan Tidak Kena Pajak (PTKP)
DESCRIPTION:Terkait PPh 21 Gaji dan Distribusi Formulir 1721-A2\nRuang Rapat IIIB Lantai 3 BKAD Sleman
URL:https://bkad.slemankab.go.id/event/sosialisasi-penghasilan-tidak-kena-pajak-ptkp-2/
LOCATION:Kantor BKAD\, Jl Parasamya No.05\, Sleman\, Yogyakarta\, Indonesia
END:VEVENT
BEGIN:VEVENT
DTSTART;TZID=Asia/Krasnoyarsk:20200211T083000
DTEND;TZID=Asia/Krasnoyarsk:20200211T113000
DTSTAMP:20260425T214254
CREATED:20200626T070043Z
LAST-MODIFIED:20200626T070043Z
UID:2880-1581409800-1581420600@bkad.slemankab.go.id
SUMMARY:Rekonsiliasi Aset Tetap dan Persediaan Bulan Januari 2020
DESCRIPTION:Ruang Rapat IIIA Lantai 3 BKAD Sleman
URL:https://bkad.slemankab.go.id/event/rekonsiliasi-aset-tetap-dan-persediaan-bulan-januari-2020-2/
LOCATION:Kantor BKAD\, Jl Parasamya No.05\, Sleman\, Yogyakarta\, Indonesia
END:VEVENT
BEGIN:VEVENT
DTSTART;TZID=Asia/Krasnoyarsk:20200211T083000
DTEND;TZID=Asia/Krasnoyarsk:20200211T113000
DTSTAMP:20260425T214254
CREATED:20200626T065637Z
LAST-MODIFIED:20200626T065637Z
UID:2874-1581409800-1581420600@bkad.slemankab.go.id
SUMMARY:Sosialisasi Penghasilan Tidak Kena Pajak (PTKP)
DESCRIPTION:Terkait PPh 21 Gaji dan Distribusi Formulir 1721-A2\nRuang Rapat IIIB Lantai 3 BKAD Sleman
URL:https://bkad.slemankab.go.id/event/sosialisasi-penghasilan-tidak-kena-pajak-ptkp/
LOCATION:Kantor BKAD\, Jl Parasamya No.05\, Sleman\, Yogyakarta\, Indonesia
END:VEVENT
BEGIN:VEVENT
DTSTART;TZID=Asia/Krasnoyarsk:20200210T083000
DTEND;TZID=Asia/Krasnoyarsk:20200210T113000
DTSTAMP:20260425T214254
CREATED:20200626T065931Z
LAST-MODIFIED:20200626T065931Z
UID:2878-1581323400-1581334200@bkad.slemankab.go.id
SUMMARY:Rekonsiliasi Aset Tetap dan Persediaan Bulan Januari 2020
DESCRIPTION:Ruang Rapat IIIA Lantai 3 BKAD Sleman
URL:https://bkad.slemankab.go.id/event/rekonsiliasi-aset-tetap-dan-persediaan-bulan-januari-2020/
LOCATION:Kantor BKAD\, Jl Parasamya No.05\, Sleman\, Yogyakarta\, Indonesia
END:VEVENT
BEGIN:VEVENT
DTSTART;TZID=Asia/Krasnoyarsk:20200130T083000
DTEND;TZID=Asia/Krasnoyarsk:20200130T113000
DTSTAMP:20260425T214254
CREATED:20200626T064552Z
LAST-MODIFIED:20200626T065337Z
UID:2870-1580373000-1580383800@bkad.slemankab.go.id
SUMMARY:Rakor Kick off meeting Pelaksanaan Verifikasi SR Program SAIIG Tahap II
DESCRIPTION:Ruang Rapat IIIA Lantai 3 BKAD Sleman
URL:https://bkad.slemankab.go.id/event/rakor-kick-off-meeting-pelaksanaan-verifikasi-sr-program-saiig-tahap-ii/
LOCATION:Kantor BKAD\, Jl Parasamya No.05\, Sleman\, Yogyakarta\, Indonesia
END:VEVENT
BEGIN:VEVENT
DTSTART;TZID=Asia/Krasnoyarsk:20200130T080000
DTEND;TZID=Asia/Krasnoyarsk:20200130T150000
DTSTAMP:20260425T214254
CREATED:20200626T064657Z
LAST-MODIFIED:20200626T065354Z
UID:2872-1580371200-1580396400@bkad.slemankab.go.id
SUMMARY:Penyerahan Kendaraan Dinas Roda Dua
DESCRIPTION:Stadion Maguwoharjo Depok Sleman
URL:https://bkad.slemankab.go.id/event/penyerahan-kendaraan-dinas-roda-dua/
LOCATION:Kantor BKAD\, Jl Parasamya No.05\, Sleman\, Yogyakarta\, Indonesia
END:VEVENT
BEGIN:VEVENT
DTSTART;TZID=Asia/Krasnoyarsk:20200129T083000
DTEND;TZID=Asia/Krasnoyarsk:20200129T233000
DTSTAMP:20260425T214254
CREATED:20200626T063840Z
LAST-MODIFIED:20200626T064255Z
UID:2860-1580286600-1580340600@bkad.slemankab.go.id
SUMMARY:Rakor Pengelola Gaji Evaluasi 2019 & Rencana Kerja 2020
DESCRIPTION:Ruang Rapat IIIA Lantai 3 BKAD Sleman
URL:https://bkad.slemankab.go.id/event/rakor-pengelola-gaji-evaluasi-2019-rencana-kerja-2020-2/
LOCATION:Kantor BKAD\, Jl Parasamya No.05\, Sleman\, Yogyakarta\, Indonesia
END:VEVENT
BEGIN:VEVENT
DTSTART;TZID=Asia/Krasnoyarsk:20200129T083000
DTEND;TZID=Asia/Krasnoyarsk:20200129T113000
DTSTAMP:20260425T214254
CREATED:20200626T064107Z
LAST-MODIFIED:20200626T065421Z
UID:2862-1580286600-1580297400@bkad.slemankab.go.id
SUMMARY:Sosialisasi PMK No.139/PMK.07/19
DESCRIPTION:Tentang Pengelolaan Dana Bagi Hasil\, Dana Alokasi Umum\, dan Dana Otonomi Khusus\nRuang Rapat IIIB Lantai 3 BKAD Sleman
URL:https://bkad.slemankab.go.id/event/sosialisasi-pmk-no-139-pmk-07-19-3/
LOCATION:Kantor BKAD\, Jl Parasamya No.05\, Sleman\, Yogyakarta\, Indonesia
END:VEVENT
BEGIN:VEVENT
DTSTART;TZID=Asia/Krasnoyarsk:20200128T083000
DTEND;TZID=Asia/Krasnoyarsk:20200128T113000
DTSTAMP:20260425T214254
CREATED:20200626T063559Z
LAST-MODIFIED:20200626T065443Z
UID:2858-1580200200-1580211000@bkad.slemankab.go.id
SUMMARY:Sosialisasi PMK No.139/PMK.07/19
DESCRIPTION:Tentang Pengelolaan Dana Bagi Hasil\, Dana Alokasi Umum\, dan Dana Otonomi Khusus\nRuang Rapat IIIA Lantai 3 BKAD Sleman
URL:https://bkad.slemankab.go.id/event/sosialisasi-pmk-no-139-pmk-07-19-2/
LOCATION:Kantor BKAD\, Jl Parasamya No.05\, Sleman\, Yogyakarta\, Indonesia
END:VEVENT
BEGIN:VEVENT
DTSTART;TZID=Asia/Krasnoyarsk:20200128T083000
DTEND;TZID=Asia/Krasnoyarsk:20200128T113000
DTSTAMP:20260425T214254
CREATED:20200626T063005Z
LAST-MODIFIED:20200626T064915Z
UID:2852-1580200200-1580211000@bkad.slemankab.go.id
SUMMARY:Rakor Pengelola Gaji Evaluasi 2019 & Rencana Kerja 2020
DESCRIPTION:Ruang Rapat IIIA Lantai 3 BKAD Sleman
URL:https://bkad.slemankab.go.id/event/rakor-pengelola-gaji-evaluasi-2019-rencana-kerja-2020/
LOCATION:Kantor BKAD\, Jl Parasamya No.05\, Sleman\, Yogyakarta\, Indonesia
END:VEVENT
BEGIN:VEVENT
DTSTART;TZID=Asia/Krasnoyarsk:20200127T083000
DTEND;TZID=Asia/Krasnoyarsk:20200127T113000
DTSTAMP:20260425T214254
CREATED:20200626T063253Z
LAST-MODIFIED:20200626T064852Z
UID:2855-1580113800-1580124600@bkad.slemankab.go.id
SUMMARY:Sosialisasi PMK No.139/PMK.07/19
DESCRIPTION:Tentang Pengelolaan Dana Bagi Hasil\, Dana Alokasi Umum\, dan Dana Otonomi Khusus\nRuang Rapat IIIB Lantai 3 BKAD Sleman
URL:https://bkad.slemankab.go.id/event/sosialisasi-pmk-no-139-pmk-07-19/
LOCATION:Kantor BKAD\, Jl Parasamya No.05\, Sleman\, Yogyakarta\, Indonesia
END:VEVENT
BEGIN:VEVENT
DTSTART;TZID=Asia/Krasnoyarsk:20200124T083000
DTEND;TZID=Asia/Krasnoyarsk:20200124T103000
DTSTAMP:20260425T214254
CREATED:20200626T064414Z
LAST-MODIFIED:20200626T064833Z
UID:2868-1579854600-1579861800@bkad.slemankab.go.id
SUMMARY:Koordinasi Persiapan Aplikasi Penganggaran Siadinda 2021
DESCRIPTION:Ruang Rapat IIIB Lantai 3 BKAD Sleman
URL:https://bkad.slemankab.go.id/event/koordinasi-persiapan-aplikasi-penganggaran-siadinda-2021/
LOCATION:Kantor BKAD\, Jl Parasamya No.05\, Sleman\, Yogyakarta\, Indonesia
END:VEVENT
BEGIN:VEVENT
DTSTART;TZID=Asia/Krasnoyarsk:20200102T083000
DTEND;TZID=Asia/Krasnoyarsk:20200102T150000
DTSTAMP:20260425T214254
CREATED:20200626T062320Z
LAST-MODIFIED:20200626T064808Z
UID:2846-1577953800-1577977200@bkad.slemankab.go.id
SUMMARY:Penyampaian SPPT PBB 2020
DESCRIPTION:Pendopo Rumah Dinas Bupati Sleman
URL:https://bkad.slemankab.go.id/event/penyampaian-sppt-pbb-2020/
LOCATION:Kantor BKAD\, Jl Parasamya No.05\, Sleman\, Yogyakarta\, Indonesia
END:VEVENT
END:VCALENDAR