BEGIN:VCALENDAR
VERSION:2.0
PRODID:-//Badan Keuangan dan Aset Daerah - ECPv6.15.16//NONSGML v1.0//EN
CALSCALE:GREGORIAN
METHOD:PUBLISH
X-WR-CALNAME:Badan Keuangan dan Aset Daerah
X-ORIGINAL-URL:https://bkad.slemankab.go.id
X-WR-CALDESC:Events for Badan Keuangan dan Aset Daerah
REFRESH-INTERVAL;VALUE=DURATION:PT1H
X-Robots-Tag:noindex
X-PUBLISHED-TTL:PT1H
BEGIN:VTIMEZONE
TZID:Asia/Krasnoyarsk
BEGIN:STANDARD
TZOFFSETFROM:+0700
TZOFFSETTO:+0700
TZNAME:+07
DTSTART:20210101T000000
END:STANDARD
END:VTIMEZONE
BEGIN:VEVENT
DTSTART;TZID=Asia/Krasnoyarsk:20220204T090000
DTEND;TZID=Asia/Krasnoyarsk:20220204T140000
DTSTAMP:20260424T013413
CREATED:20220211T024757Z
LAST-MODIFIED:20220211T024757Z
UID:19133-1643965200-1643983200@bkad.slemankab.go.id
SUMMARY:Pemantauan Penyampaian SPPT PBB-P2 Tahun 2022
DESCRIPTION:Kalurahan Margomulyo\, Podokerjo\, Donokerto\, Caturharjo
URL:https://bkad.slemankab.go.id/event/pemantauan-penyampaian-sppt-pbb-p2-tahun-2022/
END:VEVENT
BEGIN:VEVENT
DTSTART;TZID=Asia/Krasnoyarsk:20220204T130000
DTEND;TZID=Asia/Krasnoyarsk:20220204T143000
DTSTAMP:20260424T013413
CREATED:20220210T083908Z
LAST-MODIFIED:20220210T083908Z
UID:19118-1643979600-1643985000@bkad.slemankab.go.id
SUMMARY:Entry Rencana Kegiatan dan Anggaran TA 2023
DESCRIPTION:RR IIIA Lt.3 BKAD Sleman
URL:https://bkad.slemankab.go.id/event/entry-rencana-kegiatan-dan-anggaran-ta-2023/
LOCATION:Ruang Rapat IIIA Lt.3
END:VEVENT
BEGIN:VEVENT
DTSTART;TZID=Asia/Krasnoyarsk:20220207T090000
DTEND;TZID=Asia/Krasnoyarsk:20220207T103000
DTSTAMP:20260424T013413
CREATED:20220211T022957Z
LAST-MODIFIED:20220211T022957Z
UID:19120-1644224400-1644229800@bkad.slemankab.go.id
SUMMARY:Finalisasi Perbup tentang Badan Layanan Umum Daerah (BULD)
DESCRIPTION:RR IIIA Lt.3 BKAD Sleman
URL:https://bkad.slemankab.go.id/event/finalisasi-perbup-tentang-badan-layanan-umum-daerah-buld/
LOCATION:Ruang Rapat IIIA Lt.3
END:VEVENT
BEGIN:VEVENT
DTSTART;TZID=Asia/Krasnoyarsk:20220207T090000
DTEND;TZID=Asia/Krasnoyarsk:20220207T103000
DTSTAMP:20260424T013413
CREATED:20220211T023119Z
LAST-MODIFIED:20220211T023119Z
UID:19122-1644224400-1644229800@bkad.slemankab.go.id
SUMMARY:Rekonsiliasi Pendapatan Pajak Daerah Januari 2022
DESCRIPTION:RR Bidang Penagihan
URL:https://bkad.slemankab.go.id/event/rekonsiliasi-pendapatan-pajak-daerah-januari-2022/
LOCATION:Ruang Rapat Bid. Penagihan
END:VEVENT
BEGIN:VEVENT
DTSTART;TZID=Asia/Krasnoyarsk:20220208T090000
DTEND;TZID=Asia/Krasnoyarsk:20220208T103000
DTSTAMP:20260424T013413
CREATED:20220211T023256Z
LAST-MODIFIED:20220211T023256Z
UID:19124-1644310800-1644316200@bkad.slemankab.go.id
SUMMARY:Rakor Tindak Lanjut Pemotongan DAU
DESCRIPTION:RR IIIA Lt.3 BKAD Sleman
URL:https://bkad.slemankab.go.id/event/rakor-tindak-lanjut-pemotongan-dau/
LOCATION:Ruang Rapat IIIA Lt.3
END:VEVENT
BEGIN:VEVENT
DTSTART;TZID=Asia/Krasnoyarsk:20220208T090000
DTEND;TZID=Asia/Krasnoyarsk:20220208T140000
DTSTAMP:20260424T013413
CREATED:20220211T025009Z
LAST-MODIFIED:20220211T025009Z
UID:19135-1644310800-1644328800@bkad.slemankab.go.id
SUMMARY:Pemantauan Penyampaian SPPT PBB-P2 Tahun 2022
DESCRIPTION:Kalurahan Banyurejo\, Bangunkerto\, Sinduharjo\, Margoluwih
URL:https://bkad.slemankab.go.id/event/pemantauan-penyampaian-sppt-pbb-p2-tahun-2022-2/
END:VEVENT
BEGIN:VEVENT
DTSTART;TZID=Asia/Krasnoyarsk:20220208T100000
DTEND;TZID=Asia/Krasnoyarsk:20220208T120000
DTSTAMP:20260424T013413
CREATED:20220211T030837Z
LAST-MODIFIED:20220211T030837Z
UID:19145-1644314400-1644321600@bkad.slemankab.go.id
SUMMARY:Evaluasi Penagihan Tunggakan PBB-P2 Tahun 2022
DESCRIPTION:Wilayah Kalurahan Sinduadi Kapanewon Mlati dan Wilayah Kalurahan Caturtunggal Kapanewon Depok\nRR Bidang Penagihan
URL:https://bkad.slemankab.go.id/event/evaluasi-penagihan-tunggakan-pbb-p2-tahun-2022/
LOCATION:Ruang Rapat Bid. Penagihan
END:VEVENT
BEGIN:VEVENT
DTSTART;TZID=Asia/Krasnoyarsk:20220208T130000
DTEND;TZID=Asia/Krasnoyarsk:20220208T140000
DTSTAMP:20260424T013413
CREATED:20220211T023651Z
LAST-MODIFIED:20220211T023651Z
UID:19128-1644325200-1644328800@bkad.slemankab.go.id
SUMMARY:Koordinasi Persiapan Pelaksanaan Dana Keistimewaan TA 2022
DESCRIPTION:RR IIA Lt.2 BKAD Sleman
URL:https://bkad.slemankab.go.id/event/koordinasi-persiapan-pelaksanaan-dana-keistimewaan-ta-2022/
LOCATION:Ruang Rapat IIA Lt.2
END:VEVENT
BEGIN:VEVENT
DTSTART;TZID=Asia/Krasnoyarsk:20220208T130000
DTEND;TZID=Asia/Krasnoyarsk:20220208T140000
DTSTAMP:20260424T013413
CREATED:20220211T023848Z
LAST-MODIFIED:20220211T023848Z
UID:19131-1644325200-1644328800@bkad.slemankab.go.id
SUMMARY:Rakor Usulan Rencana Kebutuhan Belanja Penggunaan Tidak Terduga
DESCRIPTION:Untuk Penanganan Pandemi Covid-19 TA 2022\nRR Bidang Akuntansi
URL:https://bkad.slemankab.go.id/event/rakor-usulan-rencana-kebutuhan-belanja-penggunaan-tidak-terduga/
LOCATION:Ruang Rapat Bid. Akuntansi
END:VEVENT
BEGIN:VEVENT
DTSTART;TZID=Asia/Krasnoyarsk:20220208T130000
DTEND;TZID=Asia/Krasnoyarsk:20220208T143000
DTSTAMP:20260424T013413
CREATED:20220211T023444Z
LAST-MODIFIED:20220211T023444Z
UID:19126-1644325200-1644330600@bkad.slemankab.go.id
SUMMARY:Rekonsiliasi Pembayaran PBB-P2 Kab. Sleman
DESCRIPTION:Periode 01-31 Januari 2022\nRR Bidang Penagihan
URL:https://bkad.slemankab.go.id/event/rekonsiliasi-pembayaran-pbb-p2-kab-sleman/
LOCATION:Ruang Rapat Bid. Penagihan
END:VEVENT
BEGIN:VEVENT
DTSTART;TZID=Asia/Krasnoyarsk:20220209T083000
DTEND;TZID=Asia/Krasnoyarsk:20220209T100000
DTSTAMP:20260424T013413
CREATED:20220211T031044Z
LAST-MODIFIED:20220211T031044Z
UID:19147-1644395400-1644400800@bkad.slemankab.go.id
SUMMARY:Penatausahaan Penerimaan Pendapatan Daerah
DESCRIPTION:RR IIIA Lt.3 BKAD Sleman
URL:https://bkad.slemankab.go.id/event/penatausahaan-penerimaan-pendapatan-daerah/
LOCATION:Ruang Rapat IIIA Lt.3
END:VEVENT
BEGIN:VEVENT
DTSTART;TZID=Asia/Krasnoyarsk:20220209T090000
DTEND;TZID=Asia/Krasnoyarsk:20220209T110000
DTSTAMP:20260424T013413
CREATED:20220211T030323Z
LAST-MODIFIED:20220211T030407Z
UID:19143-1644397200-1644404400@bkad.slemankab.go.id
SUMMARY:Koordinasi & Sosialisasi Perbub No.2 Tahun 2022
DESCRIPTION:Tentang Perubahan Atas Perbup No 8.1 Tahun 2020 Tentang Pengelolaan BMD\nRR Bidang Aset
URL:https://bkad.slemankab.go.id/event/koordinasi-sosialisasi-perbub-no-2-tahun-2022/
LOCATION:Ruang Rapat Bid. Aset
END:VEVENT
BEGIN:VEVENT
DTSTART;TZID=Asia/Krasnoyarsk:20220209T090000
DTEND;TZID=Asia/Krasnoyarsk:20220209T140000
DTSTAMP:20260424T013413
CREATED:20220211T025157Z
LAST-MODIFIED:20220211T025157Z
UID:19137-1644397200-1644415200@bkad.slemankab.go.id
SUMMARY:Pemantauan Penyampaian SPPT PBB-P2 Tahun 2022
DESCRIPTION:Kalurahan Margoagung\, Banyuraden\, Sidorejo\, Umbulmartani
URL:https://bkad.slemankab.go.id/event/pemantauan-penyampaian-sppt-pbb-p2-tahun-2022-3/
END:VEVENT
BEGIN:VEVENT
DTSTART;TZID=Asia/Krasnoyarsk:20220209T100000
DTEND;TZID=Asia/Krasnoyarsk:20220209T113000
DTSTAMP:20260424T013413
CREATED:20220211T031203Z
LAST-MODIFIED:20220211T031203Z
UID:19149-1644400800-1644406200@bkad.slemankab.go.id
SUMMARY:Rapat Koordinasi Pengelola Keuangan
DESCRIPTION:RR Bidang Akuntansi
URL:https://bkad.slemankab.go.id/event/rapat-koordinasi-pengelola-keuangan/
LOCATION:Ruang Rapat Bid. Akuntansi
END:VEVENT
BEGIN:VEVENT
DTSTART;TZID=Asia/Krasnoyarsk:20220209T100000
DTEND;TZID=Asia/Krasnoyarsk:20220209T120000
DTSTAMP:20260424T013413
CREATED:20220211T031724Z
LAST-MODIFIED:20220211T031724Z
UID:19151-1644400800-1644408000@bkad.slemankab.go.id
SUMMARY:Evaluasi Penagihan Tunggakan PBB-P2 Th. 2022
DESCRIPTION:Wilayah Kalurahan Sinduadi Kapanewon Mlati dan Wilayah Kalurahan Caturtunggal Kapanewon Depok\nRR Bidang Penagihan
URL:https://bkad.slemankab.go.id/event/evaluasi-penagihan-tunggakan-pbb-p2-th-2022/
LOCATION:Ruang Rapat Bid. Penagihan
END:VEVENT
BEGIN:VEVENT
DTSTART;TZID=Asia/Krasnoyarsk:20220209T123000
DTEND;TZID=Asia/Krasnoyarsk:20220209T133000
DTSTAMP:20260424T013413
CREATED:20220211T025359Z
LAST-MODIFIED:20220211T025359Z
UID:19139-1644409800-1644413400@bkad.slemankab.go.id
SUMMARY:Pembahasan Piutang Jamkesmas RSUD Sleman
DESCRIPTION:RR Bidang Akuntansi
URL:https://bkad.slemankab.go.id/event/pembahasan-piutang-jamkesmas-rsud-sleman/
LOCATION:Ruang Rapat Bid. Akuntansi
END:VEVENT
BEGIN:VEVENT
DTSTART;TZID=Asia/Krasnoyarsk:20220209T130000
DTEND;TZID=Asia/Krasnoyarsk:20220209T140000
DTSTAMP:20260424T013413
CREATED:20220211T025533Z
LAST-MODIFIED:20220211T025533Z
UID:19141-1644411600-1644415200@bkad.slemankab.go.id
SUMMARY:Penyusunan Berita Acara Penelitian Penyertaan Modal ke Bank Sleman
DESCRIPTION:RR Bidang Aset
URL:https://bkad.slemankab.go.id/event/penyusunan-berita-acara-penelitian-penyertaan-modal-ke-bank-sleman/
LOCATION:Ruang Rapat Bid. Aset
END:VEVENT
BEGIN:VEVENT
DTSTART;TZID=Asia/Krasnoyarsk:20220210T090000
DTEND;TZID=Asia/Krasnoyarsk:20220210T110000
DTSTAMP:20260424T013413
CREATED:20220211T032325Z
LAST-MODIFIED:20220211T032325Z
UID:19155-1644483600-1644490800@bkad.slemankab.go.id
SUMMARY:Rakor Usulan Standar Harga Satuan Barang dan Jasa
DESCRIPTION:Pada Disbud\, Sekwan\, Dinkes\, Disperindag\nRR IIIB Lt.3 BKAD Sleman
URL:https://bkad.slemankab.go.id/event/rakor-usulan-standar-harga-satuan-barang-dan-jasa/
LOCATION:Ruang Rapat IIIB Lt.3
END:VEVENT
BEGIN:VEVENT
DTSTART;TZID=Asia/Krasnoyarsk:20220210T090000
DTEND;TZID=Asia/Krasnoyarsk:20220210T140000
DTSTAMP:20260424T013413
CREATED:20220211T031936Z
LAST-MODIFIED:20220211T031936Z
UID:19153-1644483600-1644501600@bkad.slemankab.go.id
SUMMARY:Pemantauan Penyampaian SPPT PBB-P2 Th. 2022
DESCRIPTION:Kalurahan Tambakrejo\, Sidoluhur\, Triharjo\, Sumberadi\, Condongcatur
URL:https://bkad.slemankab.go.id/event/pemantauan-penyampaian-sppt-pbb-p2-th-2022/
END:VEVENT
BEGIN:VEVENT
DTSTART;TZID=Asia/Krasnoyarsk:20220210T100000
DTEND;TZID=Asia/Krasnoyarsk:20220210T113000
DTSTAMP:20260424T013413
CREATED:20220211T032632Z
LAST-MODIFIED:20220211T033934Z
UID:19159-1644487200-1644492600@bkad.slemankab.go.id
SUMMARY:Menerima Kunjungan Kerja dari Bapenda Kabupaten Purwakarta
DESCRIPTION:RR IIIA Lt.3 BKAD Sleman
URL:https://bkad.slemankab.go.id/event/kunjungan-kerja-dari-bapenda-kabupaten-purwakarta/
LOCATION:Ruang Rapat IIIA Lt.3
END:VEVENT
BEGIN:VEVENT
DTSTART;TZID=Asia/Krasnoyarsk:20220210T100000
DTEND;TZID=Asia/Krasnoyarsk:20220210T120000
DTSTAMP:20260424T013413
CREATED:20220211T032454Z
LAST-MODIFIED:20220211T032454Z
UID:19157-1644487200-1644494400@bkad.slemankab.go.id
SUMMARY:Evaluasi Pembuatan Billing pada Akun MPN G3
DESCRIPTION:RR IIIA Lt.3 BKAD Sleman
URL:https://bkad.slemankab.go.id/event/evaluasi-pembuatan-billing-pada-akun-mpn-g3/
LOCATION:Ruang Rapat IIIA Lt.3
END:VEVENT
BEGIN:VEVENT
DTSTART;TZID=Asia/Krasnoyarsk:20220211T083000
DTEND;TZID=Asia/Krasnoyarsk:20220211T093000
DTSTAMP:20260424T013413
CREATED:20220211T065446Z
LAST-MODIFIED:20220211T065446Z
UID:19164-1644568200-1644571800@bkad.slemankab.go.id
SUMMARY:Penatausahaan Penerimaan Pendapatan Daerah
DESCRIPTION:RR IIIA Lt.3 BKAD Sleman
URL:https://bkad.slemankab.go.id/event/penatausahaan-penerimaan-pendapatan-daerah-2/
LOCATION:Ruang Rapat IIIA Lt.3
END:VEVENT
BEGIN:VEVENT
DTSTART;TZID=Asia/Krasnoyarsk:20220211T090000
DTEND;TZID=Asia/Krasnoyarsk:20220211T103000
DTSTAMP:20260424T013413
CREATED:20220211T065706Z
LAST-MODIFIED:20220211T065706Z
UID:19168-1644570000-1644575400@bkad.slemankab.go.id
SUMMARY:Paparan Sistem Pajak Daerah
DESCRIPTION:RR Bidang Dafdatap
URL:https://bkad.slemankab.go.id/event/paparan-sistem-pajak-daerah/
LOCATION:Ruang Rapat Bid. Dafdatap
END:VEVENT
BEGIN:VEVENT
DTSTART;TZID=Asia/Krasnoyarsk:20220211T090000
DTEND;TZID=Asia/Krasnoyarsk:20220211T140000
DTSTAMP:20260424T013413
CREATED:20220211T065330Z
LAST-MODIFIED:20220211T065330Z
UID:19162-1644570000-1644588000@bkad.slemankab.go.id
SUMMARY:Pemantauan Penyampaian SPPT PBB-P2 Th. 2022
DESCRIPTION:Kalurahan Sumbersari\, Purwobinangun\, Wukirsari
URL:https://bkad.slemankab.go.id/event/pemantauan-penyampaian-sppt-pbb-p2-th-2022-2/
END:VEVENT
BEGIN:VEVENT
DTSTART;TZID=Asia/Krasnoyarsk:20220211T130000
DTEND;TZID=Asia/Krasnoyarsk:20220211T140000
DTSTAMP:20260424T013413
CREATED:20220211T065600Z
LAST-MODIFIED:20220211T065600Z
UID:19166-1644584400-1644588000@bkad.slemankab.go.id
SUMMARY:Evaluasi Pembuatan Billing pada Akun MPN G3
DESCRIPTION:RR IIIA Lt.3 BKAD Sleman
URL:https://bkad.slemankab.go.id/event/evaluasi-pembuatan-billing-pada-akun-mpn-g3-2/
LOCATION:Ruang Rapat IIIA Lt.3
END:VEVENT
BEGIN:VEVENT
DTSTART;TZID=Asia/Krasnoyarsk:20220214T090000
DTEND;TZID=Asia/Krasnoyarsk:20220214T140000
DTSTAMP:20260424T013413
CREATED:20220215T072659Z
LAST-MODIFIED:20220215T072659Z
UID:19179-1644829200-1644847200@bkad.slemankab.go.id
SUMMARY:Pemantauan Penyampaian SPPT PBB-P2 Tahun 2022
DESCRIPTION:Kalurahan Trimulyo\, Tegalrejo\, Kepuharjo\, Maguwoharjo\, Wedomartani
URL:https://bkad.slemankab.go.id/event/pemantauan-penyampaian-sppt-pbb-p2-tahun-2022-4/
END:VEVENT
BEGIN:VEVENT
DTSTART;TZID=Asia/Krasnoyarsk:20220214T130000
DTEND;TZID=Asia/Krasnoyarsk:20220214T143000
DTSTAMP:20260424T013413
CREATED:20220215T072413Z
LAST-MODIFIED:20220215T072413Z
UID:19177-1644843600-1644849000@bkad.slemankab.go.id
SUMMARY:Rapat Pembahasan Pemakaian Belanja Jaring Pengaman Sosial untuk Pembayaran Klaim BPJS pada RSUD Selam
DESCRIPTION:RR IIIA Lt.3 BKAD Sleman
URL:https://bkad.slemankab.go.id/event/rapat-pembahasan-pemakaian-belanja-jaring-pengaman-sosial-untuk-pembayaran-klaim-bpjs-pada-rsud-selam/
LOCATION:Ruang Rapat IIIA Lt.3
END:VEVENT
BEGIN:VEVENT
DTSTART;TZID=Asia/Krasnoyarsk:20220215T090000
DTEND;TZID=Asia/Krasnoyarsk:20220215T140000
DTSTAMP:20260424T013413
CREATED:20220215T073234Z
LAST-MODIFIED:20220215T073234Z
UID:19181-1644915600-1644933600@bkad.slemankab.go.id
SUMMARY:Pemantauan Penyampaian SPPT PBB-P2 Tahun 2022
DESCRIPTION:Kalurahan Pandowoharjo\, Jogotirto\, Umbulharjo\, Girikerto\, Wukirharjo\, Widodomartani
URL:https://bkad.slemankab.go.id/event/pemantauan-penyampaian-sppt-pbb-p2-tahun-2022-5/
END:VEVENT
BEGIN:VEVENT
DTSTART;TZID=Asia/Krasnoyarsk:20220215T130000
DTEND;TZID=Asia/Krasnoyarsk:20220215T143000
DTSTAMP:20260424T013413
CREATED:20220215T073443Z
LAST-MODIFIED:20220215T073443Z
UID:19183-1644930000-1644935400@bkad.slemankab.go.id
SUMMARY:Rakor Tindak Lanjut Supervisi KPK terkait Optimalisasi Penerimaan Pajak Daerah dari Sektor Pajak Air Tanah
DESCRIPTION:RR IIIA Lt.3 BKAD Sleman
URL:https://bkad.slemankab.go.id/event/rakor-tindak-lanjut-supervisi-kpk-terkait-optimalisasi-penerimaan-pajak-daerah-dari-sektor-pajak-air-tanah/
LOCATION:Ruang Rapat IIIA Lt.3
END:VEVENT
BEGIN:VEVENT
DTSTART;TZID=Asia/Krasnoyarsk:20220216T090000
DTEND;TZID=Asia/Krasnoyarsk:20220216T103000
DTSTAMP:20260424T013413
CREATED:20220221T032801Z
LAST-MODIFIED:20220221T032801Z
UID:19196-1645002000-1645007400@bkad.slemankab.go.id
SUMMARY:Rakor Usulan Standar Harga Satuan Barang dan Jasa
DESCRIPTION:Pada Disnaker\, DPMPTSP\, Disperindag\nRR Bidang Akuntansi
URL:https://bkad.slemankab.go.id/event/rakor-usulan-standar-harga-satuan-barang-dan-jasa-2/
LOCATION:Ruang Rapat Bid. Akuntansi
END:VEVENT
END:VCALENDAR