BEGIN:VCALENDAR
VERSION:2.0
PRODID:-//Badan Keuangan dan Aset Daerah - ECPv6.15.16//NONSGML v1.0//EN
CALSCALE:GREGORIAN
METHOD:PUBLISH
X-WR-CALNAME:Badan Keuangan dan Aset Daerah
X-ORIGINAL-URL:https://bkad.slemankab.go.id
X-WR-CALDESC:Events for Badan Keuangan dan Aset Daerah
REFRESH-INTERVAL;VALUE=DURATION:PT1H
X-Robots-Tag:noindex
X-PUBLISHED-TTL:PT1H
BEGIN:VTIMEZONE
TZID:Asia/Krasnoyarsk
BEGIN:STANDARD
TZOFFSETFROM:+0700
TZOFFSETTO:+0700
TZNAME:+07
DTSTART:20200101T000000
END:STANDARD
END:VTIMEZONE
BEGIN:VEVENT
DTSTART;TZID=Asia/Krasnoyarsk:20210721T090000
DTEND;TZID=Asia/Krasnoyarsk:20210721T120000
DTSTAMP:20260424T044938
CREATED:20220620T072752Z
LAST-MODIFIED:20220622T034433Z
UID:20807-1626858000-1626868800@bkad.slemankab.go.id
SUMMARY:Rapat Pembahasan : 1. Standar Kompensasi Kerja Tenaga pada Bidang Pertanian 2. Standar Uang Transport untuk Petugas pada Bidang Perhubungan 3. Standar Honorarium Narasumber di BKPP
DESCRIPTION:Zoom Meeting
URL:https://bkad.slemankab.go.id/event/rapat-pembahasan-1-standar-kompensasi-kerja-tenaga-pada-bidang-pertanian-2-standar-uang-transport-untuk-petugas-pada-bidang-perhubungan-3-standar-honorarium-narasumber-di-bkpp/
LOCATION:Zoom Meeting
END:VEVENT
BEGIN:VEVENT
DTSTART;TZID=Asia/Krasnoyarsk:20210721T090000
DTEND;TZID=Asia/Krasnoyarsk:20210721T090000
DTSTAMP:20260424T044938
CREATED:20220620T073157Z
LAST-MODIFIED:20220620T073157Z
UID:20818-1626858000-1626858000@bkad.slemankab.go.id
SUMMARY:Klarifikasi Permohonan Pengurangan Pajak Reklame
DESCRIPTION:Ruang Rapat Bidang Penagihan
URL:https://bkad.slemankab.go.id/event/klarifikasi-permohonan-pengurangan-pajak-reklame-7/
LOCATION:Ruang Rapat Bidang Penagihan
END:VEVENT
BEGIN:VEVENT
DTSTART;TZID=Asia/Krasnoyarsk:20210719T093000
DTEND;TZID=Asia/Krasnoyarsk:20210719T113000
DTSTAMP:20260424T044938
CREATED:20220622T040234Z
LAST-MODIFIED:20220622T040234Z
UID:21003-1626687000-1626694200@bkad.slemankab.go.id
SUMMARY:
DESCRIPTION:Rapat Koordinasi Membahas : \n\nUsulan Permohonan Dana Darurat Untuk Penanganan Covid 19\nRevisi APBD ke 10 dalam rangka Refocusing 
URL:https://bkad.slemankab.go.id/event/21003/
LOCATION:Ruang Rapat IIIA BKAD
END:VEVENT
BEGIN:VEVENT
DTSTART;TZID=Asia/Krasnoyarsk:20210715T130000
DTEND;TZID=Asia/Krasnoyarsk:20210715T150000
DTSTAMP:20260424T044938
CREATED:20220620T072322Z
LAST-MODIFIED:20220622T034022Z
UID:20800-1626354000-1626361200@bkad.slemankab.go.id
SUMMARY:Koordinasi Penyusunan Laporan Piutang Pajak Daerah Semester I Tahun 2021
DESCRIPTION:Ruang Rapat Bidang Penagihan
URL:https://bkad.slemankab.go.id/event/koordinasi-penyusunan-laporan-piutang-pajak-daerah-semester-i-tahun-2021/
LOCATION:Ruang Rapat Bidang Penagihan
END:VEVENT
BEGIN:VEVENT
DTSTART;TZID=Asia/Krasnoyarsk:20210713T090000
DTEND;TZID=Asia/Krasnoyarsk:20210713T090000
DTSTAMP:20260424T044938
CREATED:20220620T072146Z
LAST-MODIFIED:20220620T072146Z
UID:20791-1626166800-1626166800@bkad.slemankab.go.id
SUMMARY:Rakor Standar Kompensasi Kerja Tenaga Kesehatan dan Non Kesehatan RS Khusus Darurat Covid 19 dan Kompensasi Kerja Tenaga pada Bidang Pertanian
DESCRIPTION:Zoom Meeting
URL:https://bkad.slemankab.go.id/event/rakor-standar-kompensasi-kerja-tenaga-kesehatan-dan-non-kesehatan-rs-khusus-darurat-covid-19-dan-kompensasi-kerja-tenaga-pada-bidang-pertanian/
LOCATION:Zoom Meeting
END:VEVENT
BEGIN:VEVENT
DTSTART;TZID=Asia/Krasnoyarsk:20210712T100000
DTEND;TZID=Asia/Krasnoyarsk:20210712T120000
DTSTAMP:20260424T044938
CREATED:20220620T071913Z
LAST-MODIFIED:20220620T071913Z
UID:20789-1626084000-1626091200@bkad.slemankab.go.id
SUMMARY:Koordinasi Kegiatan Bidang Penagihan dan Pengembangan Bulan Juli 2021
DESCRIPTION:Ruang Rapat Bidang Penagihan
URL:https://bkad.slemankab.go.id/event/koordinasi-kegiatan-bidang-penagihan-dan-pengembangan-bulan-juli-2021/
LOCATION:Ruang Rapat Bidang Penagihan
END:VEVENT
BEGIN:VEVENT
DTSTART;TZID=Asia/Krasnoyarsk:20210709T090000
DTEND;TZID=Asia/Krasnoyarsk:20210709T110000
DTSTAMP:20260424T044938
CREATED:20220620T071608Z
LAST-MODIFIED:20220620T071608Z
UID:20787-1625821200-1625828400@bkad.slemankab.go.id
SUMMARY:Rapat Evaluasi RKB BTT
DESCRIPTION:Zoom Cloud Meeting
URL:https://bkad.slemankab.go.id/event/rapat-evaluasi-rkb-btt/
LOCATION:Zoom Cloud Meeting
END:VEVENT
BEGIN:VEVENT
DTSTART;TZID=Asia/Krasnoyarsk:20210708T110000
DTEND;TZID=Asia/Krasnoyarsk:20210708T110000
DTSTAMP:20260424T044938
CREATED:20220620T071445Z
LAST-MODIFIED:20220622T033830Z
UID:20785-1625742000-1625742000@bkad.slemankab.go.id
SUMMARY:Koordinasi Perhitungan Penghargaan Atas Kinerja Tim Intensifikasi PBB-P2 Tingkat Kalurahan
DESCRIPTION:Ruang Rapat Bidang Penagihan
URL:https://bkad.slemankab.go.id/event/koordinasi-perhitungan-penghargaan-atas-kinerja-tim-intensifikasi-pbb-p2-tingkat-kalurahan/
LOCATION:Ruang Rapat Bidang Penagihan
END:VEVENT
BEGIN:VEVENT
DTSTART;TZID=Asia/Krasnoyarsk:20210706T100000
DTEND;TZID=Asia/Krasnoyarsk:20210706T120000
DTSTAMP:20260424T044938
CREATED:20220620T071014Z
LAST-MODIFIED:20220620T071014Z
UID:20778-1625565600-1625572800@bkad.slemankab.go.id
SUMMARY:Koordinasi Piutang Pajak Hotel
DESCRIPTION:Ruang Rapat Bidang Penagihan
URL:https://bkad.slemankab.go.id/event/koordinasi-piutang-pajak-hotel/
LOCATION:Ruang Rapat Bidang Penagihan
END:VEVENT
BEGIN:VEVENT
DTSTART;TZID=Asia/Krasnoyarsk:20210706T090000
DTEND;TZID=Asia/Krasnoyarsk:20210706T110000
DTSTAMP:20260424T044938
CREATED:20220620T071313Z
LAST-MODIFIED:20220620T071313Z
UID:20783-1625562000-1625569200@bkad.slemankab.go.id
SUMMARY:Rakor Pencermatan RAB Rumah Sakit Darurat Covid Bulan Juli
DESCRIPTION:Zoom Cloud Meeting\nBidang Anggaran
URL:https://bkad.slemankab.go.id/event/rakor-pencermatan-rab-rumah-sakit-darurat-covid-bulan-juli/
LOCATION:Zoom Cloud Meeting
END:VEVENT
BEGIN:VEVENT
DTSTART;TZID=Asia/Krasnoyarsk:20210705T130000
DTEND;TZID=Asia/Krasnoyarsk:20210705T150000
DTSTAMP:20260424T044938
CREATED:20220620T050843Z
LAST-MODIFIED:20220620T050843Z
UID:20765-1625490000-1625497200@bkad.slemankab.go.id
SUMMARY:Rekonsiliasi Pembayaran PBB-P2 Kabupaten Sleman Periode 01-30 Juni 2021
DESCRIPTION:Ruang Rapat Bidang Penagihan
URL:https://bkad.slemankab.go.id/event/rekonsiliasi-pembayaran-pbb-p2-kabupaten-sleman-periode-01-30-juni-2021/
LOCATION:Ruang Rapat Bidang Penagihan
END:VEVENT
BEGIN:VEVENT
DTSTART;TZID=Asia/Krasnoyarsk:20210705T123000
DTEND;TZID=Asia/Krasnoyarsk:20210705T150000
DTSTAMP:20260424T044938
CREATED:20220620T051124Z
LAST-MODIFIED:20220620T051124Z
UID:20767-1625488200-1625497200@bkad.slemankab.go.id
SUMMARY:Rapat Koordinasi RAB PPKM 2021
DESCRIPTION:Zoom Cloud Meeting\nBidang Anggaran
URL:https://bkad.slemankab.go.id/event/rapat-koordinasi-rab-ppkm-2021/
LOCATION:Zoom Cloud Meeting
END:VEVENT
BEGIN:VEVENT
DTSTART;TZID=Asia/Krasnoyarsk:20210705T100000
DTEND;TZID=Asia/Krasnoyarsk:20210705T120000
DTSTAMP:20260424T044938
CREATED:20220620T051253Z
LAST-MODIFIED:20220620T051253Z
UID:20770-1625479200-1625486400@bkad.slemankab.go.id
SUMMARY:Koordinasi Penyampaian Surat Edaran Untuk Pajak Restoran dan Reklame
DESCRIPTION:Ruang Rapat Bidang Dafdatap
URL:https://bkad.slemankab.go.id/event/koordinasi-penyampaian-surat-edaran-untuk-pajak-restoran-dan-reklame/
LOCATION:Ruang Rapat Bidang Dafdatap
END:VEVENT
BEGIN:VEVENT
DTSTART;TZID=Asia/Krasnoyarsk:20210702T130000
DTEND;TZID=Asia/Krasnoyarsk:20210702T150000
DTSTAMP:20260424T044938
CREATED:20220620T071127Z
LAST-MODIFIED:20220620T071127Z
UID:20780-1625230800-1625238000@bkad.slemankab.go.id
SUMMARY:Rekonsiliasi Pendapatan Bulan Juni 2021
DESCRIPTION:Ruang Rapat Bidang Penagihan
URL:https://bkad.slemankab.go.id/event/rekonsiliasi-pendapatan-bulan-juni-2021-2/
LOCATION:Ruang Rapat Bidang Penagihan
END:VEVENT
BEGIN:VEVENT
DTSTART;TZID=Asia/Krasnoyarsk:20210702T130000
DTEND;TZID=Asia/Krasnoyarsk:20210702T150000
DTSTAMP:20260424T044938
CREATED:20220620T050628Z
LAST-MODIFIED:20220620T050628Z
UID:20763-1625230800-1625238000@bkad.slemankab.go.id
SUMMARY:Rekonsiliasi Pendapatan Bulan Juni 2021
DESCRIPTION:Ruang Rapat Bidang Penagihan
URL:https://bkad.slemankab.go.id/event/rekonsiliasi-pendapatan-bulan-juni-2021/
LOCATION:Ruang Rapat 2 (Bidang Penagihan dan Pengembangan)
END:VEVENT
BEGIN:VEVENT
DTSTART;TZID=Asia/Krasnoyarsk:20210628T110000
DTEND;TZID=Asia/Krasnoyarsk:20210628T140000
DTSTAMP:20260424T044938
CREATED:20220620T050446Z
LAST-MODIFIED:20220620T050446Z
UID:20761-1624878000-1624888800@bkad.slemankab.go.id
SUMMARY:Evaluasi Penagihan Pajak Hotel/Penginapan Kaliurang
DESCRIPTION:Rumah Makan Omah Jawi
URL:https://bkad.slemankab.go.id/event/evaluasi-penagihan-pajak-hotel-penginapan-kaliurang-2/
LOCATION:Rumah Makan Omah Jawi
END:VEVENT
BEGIN:VEVENT
DTSTART;TZID=Asia/Krasnoyarsk:20210625T130000
DTEND;TZID=Asia/Krasnoyarsk:20210625T143000
DTSTAMP:20260424T044938
CREATED:20220620T050302Z
LAST-MODIFIED:20220620T050302Z
UID:20759-1624626000-1624631400@bkad.slemankab.go.id
SUMMARY:Evaluasi Pelayanan dan Pendafataran
DESCRIPTION:Ruang Rapat Bidang Dafdatap
URL:https://bkad.slemankab.go.id/event/evaluasi-pelayanan-dan-pendafataran/
LOCATION:Ruang Rapat Bidang Dafdatap
END:VEVENT
BEGIN:VEVENT
DTSTART;TZID=Asia/Krasnoyarsk:20210625T100000
DTEND;TZID=Asia/Krasnoyarsk:20210625T120000
DTSTAMP:20260424T044938
CREATED:20220620T050122Z
LAST-MODIFIED:20220620T050122Z
UID:20757-1624615200-1624622400@bkad.slemankab.go.id
SUMMARY:Koordinasi dan Evaluasi Pemanfaatan WA Blaster
DESCRIPTION:Penyampaian teguran pajak daerah dan penyampaian informasi pelayanan PBB\nRuang Rapat Bidang Dafdatap
URL:https://bkad.slemankab.go.id/event/koordinasi-dan-evaluasi-pemanfaatan-wa-blaster/
LOCATION:Ruang Rapat Bidang Dafdatap
END:VEVENT
BEGIN:VEVENT
DTSTART;TZID=Asia/Krasnoyarsk:20210622T100000
DTEND;TZID=Asia/Krasnoyarsk:20210623T113000
DTSTAMP:20260424T044938
CREATED:20210618T072613Z
LAST-MODIFIED:20210618T072613Z
UID:17659-1624356000-1624447800@bkad.slemankab.go.id
SUMMARY:Koordinasi Hasil Pemantauan Pajak Restoran
DESCRIPTION:Ruang Dafdatap
URL:https://bkad.slemankab.go.id/event/koordinasi-hasil-pemantauan-pajak-restoran-2/
END:VEVENT
BEGIN:VEVENT
DTSTART;TZID=Asia/Krasnoyarsk:20210621T100000
DTEND;TZID=Asia/Krasnoyarsk:20210621T120000
DTSTAMP:20260424T044938
CREATED:20210617T080430Z
LAST-MODIFIED:20210617T080430Z
UID:17610-1624269600-1624276800@bkad.slemankab.go.id
SUMMARY:Evaluasi Intensifikasi Penagihan PBB-P2
DESCRIPTION:Ruang Rapat IIIA Lantai 3
URL:https://bkad.slemankab.go.id/event/evaluasi-intensifikasi-penagihan-pbb-p2/
END:VEVENT
BEGIN:VEVENT
DTSTART;TZID=Asia/Krasnoyarsk:20210618T123000
DTEND;TZID=Asia/Krasnoyarsk:20210618T150000
DTSTAMP:20260424T044938
CREATED:20210617T075151Z
LAST-MODIFIED:20210617T075151Z
UID:17596-1624019400-1624028400@bkad.slemankab.go.id
SUMMARY:Koordinasi Penyampaian Teguran Reklame
DESCRIPTION:Ruang Rapat Dafdatap
URL:https://bkad.slemankab.go.id/event/koordinasi-penyampaian-teguran-reklame/
END:VEVENT
BEGIN:VEVENT
DTSTART;TZID=Asia/Krasnoyarsk:20210618T100000
DTEND;TZID=Asia/Krasnoyarsk:20210618T120000
DTSTAMP:20260424T044938
CREATED:20210617T075344Z
LAST-MODIFIED:20210617T075344Z
UID:17598-1624010400-1624017600@bkad.slemankab.go.id
SUMMARY:Pemeliharaan SIMPAD
DESCRIPTION:Ruang Rapat Dafdatap
URL:https://bkad.slemankab.go.id/event/pemeliharaan-simpad/
END:VEVENT
BEGIN:VEVENT
DTSTART;TZID=Asia/Krasnoyarsk:20210617T123000
DTEND;TZID=Asia/Krasnoyarsk:20210617T143000
DTSTAMP:20260424T044938
CREATED:20210617T075948Z
LAST-MODIFIED:20210617T075948Z
UID:17602-1623933000-1623940200@bkad.slemankab.go.id
SUMMARY:Koordinasi Penganggaran Pembayaran Sewa Tanah Kas Desa untuk Bangunan SD dan SMP Negeri
DESCRIPTION:Ruang Rapat Aset
URL:https://bkad.slemankab.go.id/event/koordinasi-penganggaran-pembayaran-sewa-tanah-kas-desa-untuk-bangunan-sd-dan-smp-negeri/
END:VEVENT
BEGIN:VEVENT
DTSTART;TZID=Asia/Krasnoyarsk:20210617T090000
DTEND;TZID=Asia/Krasnoyarsk:20210617T110000
DTSTAMP:20260424T044938
CREATED:20210617T080221Z
LAST-MODIFIED:20210617T080221Z
UID:17606-1623920400-1623927600@bkad.slemankab.go.id
SUMMARY:Sosialisasi Perbup No.24 Tahun 2021 tentang Perhitungan Pajak Reklame
DESCRIPTION:Ruang Rapat IIIA Lantai 3
URL:https://bkad.slemankab.go.id/event/sosialisasi-perbup-no-24-tahun-2021-tentang-perhitungan-pajak-reklame/
END:VEVENT
BEGIN:VEVENT
DTSTART;TZID=Asia/Krasnoyarsk:20210616T100000
DTEND;TZID=Asia/Krasnoyarsk:20210616T120000
DTSTAMP:20260424T044938
CREATED:20210617T075749Z
LAST-MODIFIED:20210617T075749Z
UID:17600-1623837600-1623844800@bkad.slemankab.go.id
SUMMARY:Koordinasi Penagihan PBB-P2 Menara Komunikasi Telkomsel di Kabupaten Sleman
DESCRIPTION:Ruang Rapat Penagihan
URL:https://bkad.slemankab.go.id/event/koordinasi-penagihan-pbb-p2-menara-komunikasi-telkomsel-di-kabupaten-sleman/
END:VEVENT
BEGIN:VEVENT
DTSTART;TZID=Asia/Krasnoyarsk:20210616T090000
DTEND;TZID=Asia/Krasnoyarsk:20210616T120000
DTSTAMP:20260424T044938
CREATED:20210617T080849Z
LAST-MODIFIED:20210617T080849Z
UID:17616-1623834000-1623844800@bkad.slemankab.go.id
SUMMARY:Koordinasi Hasil Pemantauan Pajak Restoran
DESCRIPTION:Ruang Rapat Dafdatap
URL:https://bkad.slemankab.go.id/event/koordinasi-hasil-pemantauan-pajak-restoran/
END:VEVENT
BEGIN:VEVENT
DTSTART;TZID=Asia/Krasnoyarsk:20210616T090000
DTEND;TZID=Asia/Krasnoyarsk:20210616T103000
DTSTAMP:20260424T044938
CREATED:20210617T080736Z
LAST-MODIFIED:20210617T080736Z
UID:17614-1623834000-1623839400@bkad.slemankab.go.id
SUMMARY:Koordinasi dan Pembinaan Pegawai Non PNS
DESCRIPTION:Ruang Rapat IIIB Lantai 3
URL:https://bkad.slemankab.go.id/event/koordinasi-dan-pembinaan-pegawai-non-pns/
END:VEVENT
BEGIN:VEVENT
DTSTART;TZID=Asia/Krasnoyarsk:20210615T090000
DTEND;TZID=Asia/Krasnoyarsk:20210615T110000
DTSTAMP:20260424T044938
CREATED:20210617T080613Z
LAST-MODIFIED:20210617T080613Z
UID:17612-1623747600-1623754800@bkad.slemankab.go.id
SUMMARY:Rakor Ketersediaan Anggaran Penanganan Pandemi Covid-19 sampai Desember 2021
DESCRIPTION:Ruang Rapat IIIA Lantai 3
URL:https://bkad.slemankab.go.id/event/rakor-ketersediaan-anggaran-penanganan-pandemi-covid-19-sampai-desember-2021/
END:VEVENT
BEGIN:VEVENT
DTSTART;TZID=Asia/Krasnoyarsk:20210615T090000
DTEND;TZID=Asia/Krasnoyarsk:20210615T110000
DTSTAMP:20260424T044938
CREATED:20210617T080328Z
LAST-MODIFIED:20210617T080328Z
UID:17608-1623747600-1623754800@bkad.slemankab.go.id
SUMMARY:Rapat Perbup tentang Penempatan dan Pencairan Deposito
DESCRIPTION:Ruang Rapat IIA Lantai 2
URL:https://bkad.slemankab.go.id/event/rapat-perbup-tentang-penempatan-dan-pencairan-deposito/
END:VEVENT
BEGIN:VEVENT
DTSTART;TZID=Asia/Krasnoyarsk:20210614T110000
DTEND;TZID=Asia/Krasnoyarsk:20210614T123000
DTSTAMP:20260424T044938
CREATED:20210617T080054Z
LAST-MODIFIED:20210617T080054Z
UID:17604-1623668400-1623673800@bkad.slemankab.go.id
SUMMARY:Rapat Koordinasi Pensertifikatan Tanah Jalan
DESCRIPTION:Ruang Rapat Aset
URL:https://bkad.slemankab.go.id/event/rapat-koordinasi-pensertifikatan-tanah-jalan/
END:VEVENT
END:VCALENDAR