BEGIN:VCALENDAR
VERSION:2.0
PRODID:-//Badan Keuangan dan Aset Daerah - ECPv6.15.16//NONSGML v1.0//EN
CALSCALE:GREGORIAN
METHOD:PUBLISH
X-ORIGINAL-URL:https://bkad.slemankab.go.id
X-WR-CALDESC:Events for Badan Keuangan dan Aset Daerah
REFRESH-INTERVAL;VALUE=DURATION:PT1H
X-Robots-Tag:noindex
X-PUBLISHED-TTL:PT1H
BEGIN:VTIMEZONE
TZID:Asia/Krasnoyarsk
BEGIN:STANDARD
TZOFFSETFROM:+0700
TZOFFSETTO:+0700
TZNAME:+07
DTSTART:20200101T000000
END:STANDARD
END:VTIMEZONE
BEGIN:VEVENT
DTSTART;TZID=Asia/Krasnoyarsk:20210809T100000
DTEND;TZID=Asia/Krasnoyarsk:20210809T120000
DTSTAMP:20260424T044938
CREATED:20220621T082937Z
LAST-MODIFIED:20220622T035148Z
UID:20941-1628503200-1628510400@bkad.slemankab.go.id
SUMMARY:Evaluasi Kegiatan Basis Data
DESCRIPTION:RR III B BKAD
URL:https://bkad.slemankab.go.id/event/evaluasi-kegiatan-basis-data-4/
LOCATION:Ruang Rapat IIIB BKAD Sleman
END:VEVENT
BEGIN:VEVENT
DTSTART;TZID=Asia/Krasnoyarsk:20210810T100000
DTEND;TZID=Asia/Krasnoyarsk:20210810T120000
DTSTAMP:20260424T044938
CREATED:20220621T083041Z
LAST-MODIFIED:20220622T035245Z
UID:20943-1628589600-1628596800@bkad.slemankab.go.id
SUMMARY:Koordinasi Penghapusan Jembatan Lemahbang
DESCRIPTION:RR Bidang Aset
URL:https://bkad.slemankab.go.id/event/koordinasi-penghapusan-jembatan-lemahbang/
LOCATION:Ruang Rapat Bidang Aset
END:VEVENT
BEGIN:VEVENT
DTSTART;TZID=Asia/Krasnoyarsk:20210810T110000
DTEND;TZID=Asia/Krasnoyarsk:20210810T130000
DTSTAMP:20260424T044938
CREATED:20220621T083153Z
LAST-MODIFIED:20220622T035008Z
UID:20945-1628593200-1628600400@bkad.slemankab.go.id
SUMMARY:Pembahasan Rencana Pembangunan Mapolsek Kalasan di Lahan SG eks Pasar Salakan Selomartani
DESCRIPTION:RR III A BKAD
URL:https://bkad.slemankab.go.id/event/pembahasan-rencana-pembangunan-mapolsek-kalasan-di-lahan-sg-eks-pasar-salakan-selomartani/
LOCATION:Ruang Rapat IIIA BKAD
END:VEVENT
BEGIN:VEVENT
DTSTART;TZID=Asia/Krasnoyarsk:20210812T090000
DTEND;TZID=Asia/Krasnoyarsk:20210812T120000
DTSTAMP:20260424T044938
CREATED:20220622T025300Z
LAST-MODIFIED:20220622T034345Z
UID:20979-1628758800-1628769600@bkad.slemankab.go.id
SUMMARY:Penyerahan Sertifikat Warga Yang Telah di Revisi Luasnya oleh Kantor Pertanahan Kab Sleman Untuk Pelepasan Hak Sebagian Tanah Yang Akan Digunakan untuk Pembangunan Jalan dan Oprit Jembatan Candi Gebang
DESCRIPTION:RR Bidang Aset\n\n\n\n\n\n\n 
URL:https://bkad.slemankab.go.id/event/penyerahan-sertifikat-warga-yang-telah-di-revisi-luasnya-oleh-kantor-pertanahan-kab-sleman-untuk-pelepasan-hak-sebagian-tanah-yang-akan-digunakan-untuk-pembangunan-jalan-dan-oprit-jembatan-candi-geban/
LOCATION:Ruang Rapat Bidang Aset
END:VEVENT
BEGIN:VEVENT
DTSTART;TZID=Asia/Krasnoyarsk:20210812T093000
DTEND;TZID=Asia/Krasnoyarsk:20210812T113000
DTSTAMP:20260424T044938
CREATED:20220622T040642Z
LAST-MODIFIED:20220622T040642Z
UID:21005-1628760600-1628767800@bkad.slemankab.go.id
SUMMARY:Evaluasi Intensifikasi Penagihan PBB-P2
DESCRIPTION:Pendopo Kapanewon Prambanan
URL:https://bkad.slemankab.go.id/event/evaluasi-intensifikasi-penagihan-pbb-p2-3/
LOCATION:Pendopo Kapanewon Prambanan
END:VEVENT
BEGIN:VEVENT
DTSTART;TZID=Asia/Krasnoyarsk:20210812T093000
DTEND;TZID=Asia/Krasnoyarsk:20210812T120000
DTSTAMP:20260424T044938
CREATED:20220622T013754Z
LAST-MODIFIED:20220622T034250Z
UID:20970-1628760600-1628769600@bkad.slemankab.go.id
SUMMARY:Evaluasi Intensifikasi Penagihan PBB-P2
DESCRIPTION:Pendopo Kapanewon Seyegan
URL:https://bkad.slemankab.go.id/event/evaluasi-intensifikasi-penagihan-pbb-p2-2/
LOCATION:Pendopo Kapanewon Seyegan
END:VEVENT
BEGIN:VEVENT
DTSTART;TZID=Asia/Krasnoyarsk:20210812T100000
DTEND;TZID=Asia/Krasnoyarsk:20210812T100000
DTSTAMP:20260424T044938
CREATED:20220622T013907Z
LAST-MODIFIED:20220622T013907Z
UID:20973-1628762400-1628762400@bkad.slemankab.go.id
SUMMARY:Evaluasi Pendaftaran Wajib Pajak Reklame dan Restoran
DESCRIPTION:RR Bidang Dafdatap
URL:https://bkad.slemankab.go.id/event/evaluasi-pendaftaran-wajib-pajak-reklame-dan-restoran/
LOCATION:Ruang Rapat Bidang Dafdatap
END:VEVENT
BEGIN:VEVENT
DTSTART;TZID=Asia/Krasnoyarsk:20210812T120000
DTEND;TZID=Asia/Krasnoyarsk:20210812T140000
DTSTAMP:20260424T044938
CREATED:20220622T024848Z
LAST-MODIFIED:20220622T034144Z
UID:20977-1628769600-1628776800@bkad.slemankab.go.id
SUMMARY:Evaluasi Pelaporan dan Pemungutan Pajak MBLB
DESCRIPTION:RR Bidang Dafdatap
URL:https://bkad.slemankab.go.id/event/evaluasi-pelaporan-dan-pemungutan-pajak-mblb/
LOCATION:Ruang Rapat Bidang Dafdatap
END:VEVENT
BEGIN:VEVENT
DTSTART;TZID=Asia/Krasnoyarsk:20210813T100000
DTEND;TZID=Asia/Krasnoyarsk:20210813T120000
DTSTAMP:20260424T044938
CREATED:20220622T040816Z
LAST-MODIFIED:20220622T040816Z
UID:21008-1628848800-1628856000@bkad.slemankab.go.id
SUMMARY:Evaluasi Cek Lapangan BPHTB
DESCRIPTION:RR Bidang Dafdatap
URL:https://bkad.slemankab.go.id/event/evaluasi-cek-lapangan-bphtb/
LOCATION:Ruang Rapat Bidang Dafdatap
END:VEVENT
BEGIN:VEVENT
DTSTART;TZID=Asia/Krasnoyarsk:20210816T090000
DTEND;TZID=Asia/Krasnoyarsk:20210816T110000
DTSTAMP:20260424T044938
CREATED:20220622T040949Z
LAST-MODIFIED:20220622T040949Z
UID:21010-1629104400-1629111600@bkad.slemankab.go.id
SUMMARY:Rapat Koordinasi Membahas Insentif Tenaga Kesehatan
DESCRIPTION:RR III A BKAD
URL:https://bkad.slemankab.go.id/event/rapat-koordinasi-membahas-insentif-tenaga-kesehatan/
LOCATION:Ruang Rapat IIIA BKAD
END:VEVENT
BEGIN:VEVENT
DTSTART;TZID=Asia/Krasnoyarsk:20210816T090000
DTEND;TZID=Asia/Krasnoyarsk:20210816T110000
DTSTAMP:20260424T044938
CREATED:20220622T041525Z
LAST-MODIFIED:20220622T041525Z
UID:21012-1629104400-1629111600@bkad.slemankab.go.id
SUMMARY:Koordinasi Pelaporan Pajak MBLB
DESCRIPTION:RR Dafdatap
URL:https://bkad.slemankab.go.id/event/koordinasi-pelaporan-pajak-mblb/
LOCATION:Ruang Rapat Bidang Dafdatap
END:VEVENT
BEGIN:VEVENT
DTSTART;TZID=Asia/Krasnoyarsk:20210818T080000
DTEND;TZID=Asia/Krasnoyarsk:20210818T100000
DTSTAMP:20260424T044938
CREATED:20220622T041906Z
LAST-MODIFIED:20220622T041906Z
UID:21016-1629273600-1629280800@bkad.slemankab.go.id
SUMMARY:Sinkronisasi Data Aset Dinas Kesehatan pada SIM ASET
DESCRIPTION:RR Bidang Akuntansi
URL:https://bkad.slemankab.go.id/event/sinkronisasi-data-aset-dinas-kesehatan-pada-sim-aset/
LOCATION:Ruang Rapat Bidang Akuntansi
END:VEVENT
BEGIN:VEVENT
DTSTART;TZID=Asia/Krasnoyarsk:20210818T130000
DTEND;TZID=Asia/Krasnoyarsk:20210818T150000
DTSTAMP:20260424T044938
CREATED:20220622T041749Z
LAST-MODIFIED:20220622T041749Z
UID:21014-1629291600-1629298800@bkad.slemankab.go.id
SUMMARY:Rapat Koordinasi Penelitian RKA P APBD TA 2021
DESCRIPTION:RR III A BKAD
URL:https://bkad.slemankab.go.id/event/rapat-koordinasi-penelitian-rka-p-apbd-ta-2021/
LOCATION:Ruang Rapat IIIA BKAD
END:VEVENT
BEGIN:VEVENT
DTSTART;TZID=Asia/Krasnoyarsk:20210819T090000
DTEND;TZID=Asia/Krasnoyarsk:20210819T110000
DTSTAMP:20260424T044938
CREATED:20220622T042045Z
LAST-MODIFIED:20220622T042045Z
UID:21018-1629363600-1629370800@bkad.slemankab.go.id
SUMMARY:Evaluasi Insentifikasi PBB P2 dan Pengamanan Target PBB P2
DESCRIPTION:RR Kapanewon Tempel
URL:https://bkad.slemankab.go.id/event/evaluasi-insentifikasi-pbb-p2-dan-pengamanan-target-pbb-p2/
LOCATION:RR Kapanewon Tempel
END:VEVENT
BEGIN:VEVENT
DTSTART;TZID=Asia/Krasnoyarsk:20210819T090000
DTEND;TZID=Asia/Krasnoyarsk:20210819T110000
DTSTAMP:20260424T044938
CREATED:20220622T042148Z
LAST-MODIFIED:20220622T042148Z
UID:21021-1629363600-1629370800@bkad.slemankab.go.id
SUMMARY:Rakor Lanjutan : HSGBN\, Biaya Pengelolaan Anggaran Fisik Konstruksi dan ASB
DESCRIPTION:RR III A BKAD
URL:https://bkad.slemankab.go.id/event/rakor-lanjutan-hsgbn-biaya-pengelolaan-anggaran-fisik-konstruksi-dan-asb/
LOCATION:Ruang Rapat IIIB BKAD Sleman
END:VEVENT
BEGIN:VEVENT
DTSTART;TZID=Asia/Krasnoyarsk:20210819T130000
DTEND;TZID=Asia/Krasnoyarsk:20210819T150000
DTSTAMP:20260424T044938
CREATED:20220622T042245Z
LAST-MODIFIED:20220622T042245Z
UID:21023-1629378000-1629385200@bkad.slemankab.go.id
SUMMARY:Penandatanganan Kontrak Pemeriksaan Pajak Daerah Tahun 2021
DESCRIPTION:RR Bidang Dafdatap
URL:https://bkad.slemankab.go.id/event/penandatanganan-kontrak-pemeriksaan-pajak-daerah-tahun-2021/
LOCATION:Ruang Rapat Bidang Dafdatap
END:VEVENT
BEGIN:VEVENT
DTSTART;TZID=Asia/Krasnoyarsk:20210820T090000
DTEND;TZID=Asia/Krasnoyarsk:20210820T113000
DTSTAMP:20260424T044938
CREATED:20220622T042436Z
LAST-MODIFIED:20220622T042436Z
UID:21025-1629450000-1629459000@bkad.slemankab.go.id
SUMMARY:Koordinasi Tindak Lanjut Laporan DPUPKP perihal Bongkaran Reklame
DESCRIPTION:RR Bidang Aset
URL:https://bkad.slemankab.go.id/event/koordinasi-tindak-lanjut-laporan-dpupkp-perihal-bongkaran-reklame/
LOCATION:Ruang Rapat Bidang Aset
END:VEVENT
BEGIN:VEVENT
DTSTART;TZID=Asia/Krasnoyarsk:20210820T100000
DTEND;TZID=Asia/Krasnoyarsk:20210820T120000
DTSTAMP:20260424T044938
CREATED:20220622T042539Z
LAST-MODIFIED:20220622T042539Z
UID:21027-1629453600-1629460800@bkad.slemankab.go.id
SUMMARY:Koordinasi Pemeriksaan Pajak Daerah Tahun 2021
DESCRIPTION:Zoom Meeting
URL:https://bkad.slemankab.go.id/event/koordinasi-pemeriksaan-pajak-daerah-tahun-2021/
LOCATION:Zoom Meeting
END:VEVENT
BEGIN:VEVENT
DTSTART;TZID=Asia/Krasnoyarsk:20210823T090000
DTEND;TZID=Asia/Krasnoyarsk:20210823T113000
DTSTAMP:20260424T044938
CREATED:20220622T043102Z
LAST-MODIFIED:20220622T043257Z
UID:21031-1629709200-1629718200@bkad.slemankab.go.id
SUMMARY:Evaluasi Intensifikasi Penagihan PBB P2 dan Pengamanan Target PBB P2
DESCRIPTION:RR Kapanewon Pakem
URL:https://bkad.slemankab.go.id/event/evaluasi-intensifikasi-penagihan-pbb-p2-dan-pengamanan-target-pbb-p2/
LOCATION:RR Kapanewon Pakem
END:VEVENT
BEGIN:VEVENT
DTSTART;TZID=Asia/Krasnoyarsk:20210823T100000
DTEND;TZID=Asia/Krasnoyarsk:20210823T120000
DTSTAMP:20260424T044938
CREATED:20220622T042702Z
LAST-MODIFIED:20220622T042702Z
UID:21029-1629712800-1629720000@bkad.slemankab.go.id
SUMMARY:Koordinasi Penerapan PBG (Persetujuan Bangunan Gedung)
DESCRIPTION:RR Bidang Penagihan
URL:https://bkad.slemankab.go.id/event/koordinasi-penerapan-pbg-persetujuan-bangunan-gedung/
LOCATION:Ruang Rapat Bidang Penagihan
END:VEVENT
BEGIN:VEVENT
DTSTART;TZID=Asia/Krasnoyarsk:20210824T100000
DTEND;TZID=Asia/Krasnoyarsk:20210824T120000
DTSTAMP:20260424T044938
CREATED:20220622T043427Z
LAST-MODIFIED:20220622T043427Z
UID:21034-1629799200-1629806400@bkad.slemankab.go.id
SUMMARY:Koordinasi Penyusunan Jawaban Atas PUF DPRD tentang R P APBD Tahun Anggaran 2021
DESCRIPTION:RR III A BKAD
URL:https://bkad.slemankab.go.id/event/koordinasi-penyusunan-jawaban-atas-puf-dprd-tentang-r-p-apbd-tahun-anggaran-2021/
LOCATION:Ruang Rapat IIIA BKAD
END:VEVENT
BEGIN:VEVENT
DTSTART;TZID=Asia/Krasnoyarsk:20210825T100000
DTEND;TZID=Asia/Krasnoyarsk:20210825T120000
DTSTAMP:20260424T044938
CREATED:20220622T044018Z
LAST-MODIFIED:20220622T044018Z
UID:21041-1629885600-1629892800@bkad.slemankab.go.id
SUMMARY:Evaluasi Permohonan Berkas PBB Online
DESCRIPTION:RR Bidang Dafdatap
URL:https://bkad.slemankab.go.id/event/evaluasi-permohonan-berkas-pbb-online/
LOCATION:Ruang Rapat Bidang Dafdatap
END:VEVENT
BEGIN:VEVENT
DTSTART;TZID=Asia/Krasnoyarsk:20210825T130000
DTEND;TZID=Asia/Krasnoyarsk:20210825T150000
DTSTAMP:20260424T044938
CREATED:20220622T043622Z
LAST-MODIFIED:20220622T043622Z
UID:21037-1629896400-1629903600@bkad.slemankab.go.id
SUMMARY:Evaluasi SIMPAD
DESCRIPTION:RR Bidang Dafdatap
URL:https://bkad.slemankab.go.id/event/evaluasi-simpad/
LOCATION:Ruang Rapat Bidang Dafdatap
END:VEVENT
BEGIN:VEVENT
DTSTART;TZID=Asia/Krasnoyarsk:20210826T090000
DTEND;TZID=Asia/Krasnoyarsk:20210826T120000
DTSTAMP:20260424T044938
CREATED:20220622T043730Z
LAST-MODIFIED:20220622T043730Z
UID:21039-1629968400-1629979200@bkad.slemankab.go.id
SUMMARY:Rakor terkait : 1.	 Permohonan Data Produksi Rokok dan Cukai serta Luas Wilayah Perkebunan Tembakau dan Produksinya sampai dengan Tahun 2020  2.	Pedoman Petunjuk Pelaksanaan Penyaluran BLT DBH CHT pada Kabupaten Sleman
DESCRIPTION:RR III A BKAD
URL:https://bkad.slemankab.go.id/event/rakor-terkait-1-permohonan-data-produksi-rokok-dan-cukai-serta-luas-wilayah-perkebunan-tembakau-dan-produksinya-sampai-dengan-tahun-2020-2-pedoman-petunjuk-pelaksanaan-penyaluran-blt-dbh-cht-pad/
LOCATION:Ruang Rapat IIIA BKAD
END:VEVENT
BEGIN:VEVENT
DTSTART;TZID=Asia/Krasnoyarsk:20210827T090000
DTEND;TZID=Asia/Krasnoyarsk:20210827T110000
DTSTAMP:20260424T044938
CREATED:20220622T044340Z
LAST-MODIFIED:20220622T044340Z
UID:21045-1630054800-1630062000@bkad.slemankab.go.id
SUMMARY:Evaluasi Pelaksanaan Pemungutan BPHTB dan PBB
DESCRIPTION:RR Bidang Penagihan
URL:https://bkad.slemankab.go.id/event/evaluasi-pelaksanaan-pemungutan-bphtb-dan-pbb/
LOCATION:Ruang Rapat Bidang Penagihan
END:VEVENT
BEGIN:VEVENT
DTSTART;TZID=Asia/Krasnoyarsk:20210827T140000
DTEND;TZID=Asia/Krasnoyarsk:20210827T160000
DTSTAMP:20260424T044938
CREATED:20220622T044232Z
LAST-MODIFIED:20220622T044232Z
UID:21043-1630072800-1630080000@bkad.slemankab.go.id
SUMMARY:Penandatanganan Berita Acara Rekonsiliasi Penyetoran Pajak Pusat Semester I Tahun 2021
DESCRIPTION:RR III A BKAD
URL:https://bkad.slemankab.go.id/event/penandatanganan-berita-acara-rekonsiliasi-penyetoran-pajak-pusat-semester-i-tahun-2021/
LOCATION:Ruang Rapat IIIA BKAD
END:VEVENT
BEGIN:VEVENT
DTSTART;TZID=Asia/Krasnoyarsk:20210830T100000
DTEND;TZID=Asia/Krasnoyarsk:20210830T120000
DTSTAMP:20260424T044938
CREATED:20220622T073208Z
LAST-MODIFIED:20220622T073208Z
UID:21049-1630317600-1630324800@bkad.slemankab.go.id
SUMMARY:Koordinasi Pendaftaran Wajib Pajak Restoran
DESCRIPTION:RR Bidang Dafdatap
URL:https://bkad.slemankab.go.id/event/koordinasi-pendaftaran-wajib-pajak-restoran/
LOCATION:Ruang Rapat Bidang Dafdatap
END:VEVENT
BEGIN:VEVENT
DTSTART;TZID=Asia/Krasnoyarsk:20210830T100000
DTEND;TZID=Asia/Krasnoyarsk:20210830T120000
DTSTAMP:20260424T044938
CREATED:20220622T073340Z
LAST-MODIFIED:20220622T073340Z
UID:21051-1630317600-1630324800@bkad.slemankab.go.id
SUMMARY:Rapat Koordinasi dan Pembinaan Pegawai Non PNS
DESCRIPTION:RR III A BKAD
URL:https://bkad.slemankab.go.id/event/rapat-koordinasi-dan-pembinaan-pegawai-non-pns/
LOCATION:Ruang Rapat IIIA BKAD
END:VEVENT
BEGIN:VEVENT
DTSTART;TZID=Asia/Krasnoyarsk:20210830T130000
DTEND;TZID=Asia/Krasnoyarsk:20210830T150000
DTSTAMP:20260424T044938
CREATED:20220622T044503Z
LAST-MODIFIED:20220622T044503Z
UID:21047-1630328400-1630335600@bkad.slemankab.go.id
SUMMARY:Rakor Perjanjian Kerjasama dengan BSI (ex BRI Syariah)
DESCRIPTION:RR Bidang Penagihan
URL:https://bkad.slemankab.go.id/event/rakor-perjanjian-kerjasama-dengan-bsi-ex-bri-syariah/
LOCATION:Ruang Rapat Bidang Penagihan
END:VEVENT
BEGIN:VEVENT
DTSTART;TZID=Asia/Krasnoyarsk:20210831T090000
DTEND;TZID=Asia/Krasnoyarsk:20210831T110000
DTSTAMP:20260424T044938
CREATED:20220622T073843Z
LAST-MODIFIED:20220622T073843Z
UID:21057-1630400400-1630407600@bkad.slemankab.go.id
SUMMARY:Rapat Koordinasi : Harga Satuan Bangunan Gedung Negara (HSGBN)\, Biaya Pengelolaan Anggaran Fisik Konstruksi dan Analisis Standar Belanja
DESCRIPTION:RR III A BKAD
URL:https://bkad.slemankab.go.id/event/rapat-koordinasi-harga-satuan-bangunan-gedung-negara-hsgbn-biaya-pengelolaan-anggaran-fisik-konstruksi-dan-analisis-standar-belanja/
LOCATION:Ruang Rapat IIIA BKAD
END:VEVENT
END:VCALENDAR