BEGIN:VCALENDAR
VERSION:2.0
PRODID:-//Badan Keuangan dan Aset Daerah - ECPv6.15.16//NONSGML v1.0//EN
CALSCALE:GREGORIAN
METHOD:PUBLISH
X-WR-CALNAME:Badan Keuangan dan Aset Daerah
X-ORIGINAL-URL:https://bkad.slemankab.go.id
X-WR-CALDESC:Events for Badan Keuangan dan Aset Daerah
REFRESH-INTERVAL;VALUE=DURATION:PT1H
X-Robots-Tag:noindex
X-PUBLISHED-TTL:PT1H
BEGIN:VTIMEZONE
TZID:Asia/Krasnoyarsk
BEGIN:STANDARD
TZOFFSETFROM:+0700
TZOFFSETTO:+0700
TZNAME:+07
DTSTART:20210101T000000
END:STANDARD
END:VTIMEZONE
BEGIN:VEVENT
DTSTART;TZID=Asia/Krasnoyarsk:20220425T090000
DTEND;TZID=Asia/Krasnoyarsk:20220425T090000
DTSTAMP:20260425T113616
CREATED:20220425T012337Z
LAST-MODIFIED:20220425T012337Z
UID:19981-1650877200-1650877200@bkad.slemankab.go.id
SUMMARY:Rakor Pembahasan Anggaran DED STA Tahap 2 Tahun 2022
DESCRIPTION:Ruang Rapat Wakil Bupati Sleman
URL:https://bkad.slemankab.go.id/event/rakor-pembahasan-anggaran-ded-sta-tahap-2-tahun-2022/
LOCATION:Ruang Rapat Wakil Bupati Sleman
END:VEVENT
BEGIN:VEVENT
DTSTART;TZID=Asia/Krasnoyarsk:20220425T090000
DTEND;TZID=Asia/Krasnoyarsk:20220425T090000
DTSTAMP:20260425T113616
CREATED:20220425T012136Z
LAST-MODIFIED:20220425T012136Z
UID:19978-1650877200-1650877200@bkad.slemankab.go.id
SUMMARY:Rapat Klarifikasi Pertanggungjawaban APBD Kab Sleman TA 2021
DESCRIPTION:Ruang Rapat B Bid.BKAD DIY Lt.2
URL:https://bkad.slemankab.go.id/event/rapat-klarifikasi-pertanggungjawaban-apbd-kab-sleman-ta-2021/
LOCATION:Ruang Rapat B Bid.BKAD DIY Lt.2
END:VEVENT
BEGIN:VEVENT
DTSTART;TZID=Asia/Krasnoyarsk:20220425T090000
DTEND;TZID=Asia/Krasnoyarsk:20220425T090000
DTSTAMP:20260425T113616
CREATED:20220425T011853Z
LAST-MODIFIED:20220425T011853Z
UID:19976-1650877200-1650877200@bkad.slemankab.go.id
SUMMARY:Rakor Penataan Anggaran Hibah Keagamaan Tahun 2023 Tindaklanjut Permendagri 27 Tahun 2021\, Rakor Permohonan Hibah Terus Menerus dari PGRI dan Dewan Pendidikan
DESCRIPTION:Ruang Rapat Praja I
URL:https://bkad.slemankab.go.id/event/rakor-penataan-anggaran-hibah-keagamaan-tahun-2023-tindaklanjut-permendagri-27-tahun-2021-rakor-permohonan-hibah-terus-menerus-dari-pgri-dan-dewan-pendidikan/
LOCATION:Ruang Rapat Praja I
END:VEVENT
BEGIN:VEVENT
DTSTART;TZID=Asia/Krasnoyarsk:20220425T090000
DTEND;TZID=Asia/Krasnoyarsk:20220425T090000
DTSTAMP:20260425T113616
CREATED:20220425T011004Z
LAST-MODIFIED:20220425T011004Z
UID:19971-1650877200-1650877200@bkad.slemankab.go.id
SUMMARY:Koordinasi Permohonan Hibah Berupa Senjata Api dari Satpol PP ke Polres Sleman
DESCRIPTION:Ruang Rapat Bidang Aset
URL:https://bkad.slemankab.go.id/event/koordinasi-permohonan-hibah-berupa-senjata-api-dari-satpol-pp-ke-polres-sleman/
LOCATION:Ruang Rapat Bidang Aset BKAD Sleman
END:VEVENT
BEGIN:VEVENT
DTSTART;TZID=Asia/Krasnoyarsk:20220425T073000
DTEND;TZID=Asia/Krasnoyarsk:20220425T200000
DTSTAMP:20260425T113616
CREATED:20220425T010512Z
LAST-MODIFIED:20220425T010512Z
UID:19969-1650871800-1650916800@bkad.slemankab.go.id
SUMMARY:Apel Pagi
DESCRIPTION:Halaman Depan BKAD Sleman
URL:https://bkad.slemankab.go.id/event/apel-pagi-6/
LOCATION:Halaman Depan BKAD
END:VEVENT
BEGIN:VEVENT
DTSTART;TZID=Asia/Krasnoyarsk:20220422T130000
DTEND;TZID=Asia/Krasnoyarsk:20220422T130000
DTSTAMP:20260425T113616
CREATED:20220422T013127Z
LAST-MODIFIED:20220422T013127Z
UID:19966-1650632400-1650632400@bkad.slemankab.go.id
SUMMARY:Rakor Peringatan Hari Jadi ke-106 Kabupaten Sleman
DESCRIPTION:Ruang Rapat Sembada Sekretariat Daerah
URL:https://bkad.slemankab.go.id/event/rakor-peringatan-hari-jadi-ke-106-kabupaten-sleman/
LOCATION:Ruang Rapat Sembada Sekretariat Daerah
END:VEVENT
BEGIN:VEVENT
DTSTART;TZID=Asia/Krasnoyarsk:20220422T130000
DTEND;TZID=Asia/Krasnoyarsk:20220422T130000
DTSTAMP:20260425T113616
CREATED:20220422T012753Z
LAST-MODIFIED:20220422T012753Z
UID:19963-1650632400-1650632400@bkad.slemankab.go.id
SUMMARY:Rapat Teknis Rencana Pendampingan Kejaksaan Negeri Sleman pada Perangkat Daerah
DESCRIPTION:Aula Lantai 3 Gedung Sekda Sleman
URL:https://bkad.slemankab.go.id/event/rapat-teknis-rencana-pendampingan-kejaksaan-negeri-sleman-pada-perangkat-daerah/
LOCATION:Aula Lantai 3 Gedung Sekda Sleman
END:VEVENT
BEGIN:VEVENT
DTSTART;TZID=Asia/Krasnoyarsk:20220422T090000
DTEND;TZID=Asia/Krasnoyarsk:20220422T090000
DTSTAMP:20260425T113616
CREATED:20220422T012422Z
LAST-MODIFIED:20220422T012422Z
UID:19960-1650618000-1650618000@bkad.slemankab.go.id
SUMMARY:Rakor Pengadaan Pakaian Upacara Bagi Tim Drumband (GBS) Kab Sleman
DESCRIPTION:Ruang Rapat Kepala Dispora
URL:https://bkad.slemankab.go.id/event/rakor-pengadaan-pakaian-upacara-bagi-tim-drumband-gbs-kab-sleman/
LOCATION:Ruang Rapat Kepala Dispora
END:VEVENT
BEGIN:VEVENT
DTSTART;TZID=Asia/Krasnoyarsk:20220422T090000
DTEND;TZID=Asia/Krasnoyarsk:20220422T090000
DTSTAMP:20260425T113616
CREATED:20220422T010546Z
LAST-MODIFIED:20220422T010546Z
UID:19950-1650618000-1650618000@bkad.slemankab.go.id
SUMMARY:Koordinasi Tunggakan Pajak Air Tanah\, Hotel\, dan Restoran
DESCRIPTION:Ruang Rapat Bidang Penagihan
URL:https://bkad.slemankab.go.id/event/koordinasi-tunggakan-pajak-air-tanah-hotel-dan-restoran/
LOCATION:Ruang Rapat Bidang Penagihan
END:VEVENT
BEGIN:VEVENT
DTSTART;TZID=Asia/Krasnoyarsk:20220422T090000
DTEND;TZID=Asia/Krasnoyarsk:20220422T090000
DTSTAMP:20260425T113616
CREATED:20220422T010317Z
LAST-MODIFIED:20220422T010317Z
UID:19948-1650618000-1650618000@bkad.slemankab.go.id
SUMMARY:Rakor Persiapan Peminatan Program Hibah Air Minum Tahun 2023
DESCRIPTION:Ruang Rapat IIA BKAD Sleman
URL:https://bkad.slemankab.go.id/event/rakor-persiapan-peminatan-program-hibah-air-minum-tahun-2023/
LOCATION:Ruang Rapat IIA BKAD Sleman
END:VEVENT
BEGIN:VEVENT
DTSTART;TZID=Asia/Krasnoyarsk:20220422T083000
DTEND;TZID=Asia/Krasnoyarsk:20220422T083000
DTSTAMP:20260425T113616
CREATED:20220422T012046Z
LAST-MODIFIED:20220422T012046Z
UID:19958-1650616200-1650616200@bkad.slemankab.go.id
SUMMARY:Koordinasi Pelaksanaan Padat Karya
DESCRIPTION:Ruang Rapat Sekda
URL:https://bkad.slemankab.go.id/event/koordinasi-pelaksanaan-padat-karya/
LOCATION:Ruang Rapat Sekda Sleman
END:VEVENT
BEGIN:VEVENT
DTSTART;TZID=Asia/Krasnoyarsk:20220422T083000
DTEND;TZID=Asia/Krasnoyarsk:20220422T083000
DTSTAMP:20260425T113616
CREATED:20220422T011838Z
LAST-MODIFIED:20220422T011838Z
UID:19954-1650616200-1650616200@bkad.slemankab.go.id
SUMMARY:Pembinaan Rohani Dalam Rangka Perayaan Paskah 2022
DESCRIPTION:Gereja Katolik St.Aloysius Gonzaga Mlati
URL:https://bkad.slemankab.go.id/event/pembinaan-rohani-dalam-rangka-perayaan-paskah-2022/
LOCATION:Gereja Katolik St.Aloysius Gonzaga Mlati
END:VEVENT
BEGIN:VEVENT
DTSTART;TZID=Asia/Krasnoyarsk:20220422T080000
DTEND;TZID=Asia/Krasnoyarsk:20220422T080000
DTSTAMP:20260425T113616
CREATED:20220422T011058Z
LAST-MODIFIED:20220422T011058Z
UID:19952-1650614400-1650614400@bkad.slemankab.go.id
SUMMARY:Workshop dengan Tema Pengadaan Barang dan Jasa Prospektif Hukum Persaingan Usaha dan Indeks Persaingan Usaha
DESCRIPTION:Aula Lantai 3 Gedung Setda Sleman
URL:https://bkad.slemankab.go.id/event/workshop-dengan-tema-pengadaan-barang-dan-jasa-prospektif-hukum-persaingan-usaha-dan-indeks-persaingan-usaha/
LOCATION:Aula Lantai 3 Setda Sleman
END:VEVENT
BEGIN:VEVENT
DTSTART;TZID=Asia/Krasnoyarsk:20220421T130000
DTEND;TZID=Asia/Krasnoyarsk:20220421T130000
DTSTAMP:20260425T113616
CREATED:20220421T011526Z
LAST-MODIFIED:20220421T011526Z
UID:19907-1650546000-1650546000@bkad.slemankab.go.id
SUMMARY:Rakor Penawaran Program Dana Hibah Dikti
DESCRIPTION:Ruang Rapat IIIA BKAD Sleman
URL:https://bkad.slemankab.go.id/event/rakor-penawaran-program-dana-hibah-dikti-2/
LOCATION:Ruang Rapat IIIA BKAD Sleman
END:VEVENT
BEGIN:VEVENT
DTSTART;TZID=Asia/Krasnoyarsk:20220421T103000
DTEND;TZID=Asia/Krasnoyarsk:20220421T103000
DTSTAMP:20260425T113616
CREATED:20220421T014422Z
LAST-MODIFIED:20220421T014422Z
UID:19911-1650537000-1650537000@bkad.slemankab.go.id
SUMMARY:Koordinasi Pencermatan Draft Keputusan Bupati tentang JRA Non Kepegawaian Non Keuangan
DESCRIPTION:Ruang Rapat Dinas Perpustakaan dan Kearsipan
URL:https://bkad.slemankab.go.id/event/koordinasi-pencermatan-draft-keputusan-bupati-tentang-jra-non-kepegawaian-non-keuangan/
LOCATION:Ruang Rapat Dinas Perpustakaan dan Kearsipan
END:VEVENT
BEGIN:VEVENT
DTSTART;TZID=Asia/Krasnoyarsk:20220421T100000
DTEND;TZID=Asia/Krasnoyarsk:20220421T100000
DTSTAMP:20260425T113616
CREATED:20220421T011134Z
LAST-MODIFIED:20220421T024241Z
UID:19905-1650535200-1650535200@bkad.slemankab.go.id
SUMMARY:Kunjungan Kerja dari DPRD Kota Padang tentang Prioritas Anggaran dalam Penyusunan KUA PPAS 2023 untuk Antisipasi Dampak Pandemi Covid 19
DESCRIPTION:Ruang Rapat IIIA BKAD Sleman
URL:https://bkad.slemankab.go.id/event/kunjungan-kerja-dari-dprd-kota-padang-tentang-prioritas-anggaran-dalam-penyusunan-kua-ppas-2023-untuk-antisipasi-dampak-pandemi-covid-19/
LOCATION:Ruang Rapat IIIA BKAD Sleman
END:VEVENT
BEGIN:VEVENT
DTSTART;TZID=Asia/Krasnoyarsk:20220421T090000
DTEND;TZID=Asia/Krasnoyarsk:20220421T090000
DTSTAMP:20260425T113616
CREATED:20220421T012244Z
LAST-MODIFIED:20220421T012244Z
UID:19909-1650531600-1650531600@bkad.slemankab.go.id
SUMMARY:Pembahasan Perbup Pemberian THR dan Gaji 13 Kepada Aparatur Negara
DESCRIPTION:Ruang Rapat IIA BKAD Sleman
URL:https://bkad.slemankab.go.id/event/pembahasan-perbup-pemberian-thr-dan-gaji-13-kepada-aparatur-negara/
LOCATION:Ruang Rapat IIA BKAD Sleman
END:VEVENT
BEGIN:VEVENT
DTSTART;TZID=Asia/Krasnoyarsk:20220420T130000
DTEND;TZID=Asia/Krasnoyarsk:20220420T130000
DTSTAMP:20260425T113616
CREATED:20220420T011745Z
LAST-MODIFIED:20220420T011745Z
UID:19886-1650459600-1650459600@bkad.slemankab.go.id
SUMMARY:Pembahasan Raperbup Tata Cara Penagihan Pajak Daerah
DESCRIPTION:Ruang Rapat Bidang Penagihan
URL:https://bkad.slemankab.go.id/event/pembahasan-raperbup-tata-cara-penagihan-pajak-daerah/
LOCATION:Ruang Rapat Bidang Penagihan
END:VEVENT
BEGIN:VEVENT
DTSTART;TZID=Asia/Krasnoyarsk:20220420T110000
DTEND;TZID=Asia/Krasnoyarsk:20220420T110000
DTSTAMP:20260425T113616
CREATED:20220420T010627Z
LAST-MODIFIED:20220420T010627Z
UID:19872-1650452400-1650452400@bkad.slemankab.go.id
SUMMARY:Rakor Evaluasi Hasil Kualitas Air Hibah AMBK
DESCRIPTION:Ruang Rapat IIA BKAD Sleman
URL:https://bkad.slemankab.go.id/event/rakor-evaluasi-hasil-kualitas-air-hibah-ambk/
LOCATION:Ruang Rapat IIA BKAD Sleman
END:VEVENT
BEGIN:VEVENT
DTSTART;TZID=Asia/Krasnoyarsk:20220420T100000
DTEND;TZID=Asia/Krasnoyarsk:20220420T100000
DTSTAMP:20260425T113616
CREATED:20220420T011400Z
LAST-MODIFIED:20220420T011400Z
UID:19877-1650448800-1650448800@bkad.slemankab.go.id
SUMMARY:Koordinasi Rencana Penghapusan Piutang Pajak Daerah
DESCRIPTION:Ruang Rapat IIIA BKAD Sleman
URL:https://bkad.slemankab.go.id/event/koordinasi-rencana-penghapusan-piutang-pajak-daerah/
LOCATION:Ruang Rapat IIIA BKAD Sleman
END:VEVENT
BEGIN:VEVENT
DTSTART;TZID=Asia/Krasnoyarsk:20220420T093000
DTEND;TZID=Asia/Krasnoyarsk:20220420T093000
DTSTAMP:20260425T113616
CREATED:20220420T010110Z
LAST-MODIFIED:20220420T010110Z
UID:19868-1650447000-1650447000@bkad.slemankab.go.id
SUMMARY:Klarifikasi Permohonan Bea Perolehan Hak Atas Tanah dan Bangunan (BPHTB)
DESCRIPTION:Ruang Rapat Bidang Penagihan
URL:https://bkad.slemankab.go.id/event/klarifikasi-permohonan-bea-perolehan-hak-atas-tanah-dan-bangunan-bphtb/
LOCATION:Ruang Rapat Bidang Penagihan
END:VEVENT
BEGIN:VEVENT
DTSTART;TZID=Asia/Krasnoyarsk:20220420T090000
DTEND;TZID=Asia/Krasnoyarsk:20220420T090000
DTSTAMP:20260425T113616
CREATED:20220420T012310Z
LAST-MODIFIED:20220420T012310Z
UID:19891-1650445200-1650445200@bkad.slemankab.go.id
SUMMARY:Pembahasan Rekening Penampungan Pendapatan Retribusi SKPD
DESCRIPTION:Ruang Rapat Bidang Akuntansi
URL:https://bkad.slemankab.go.id/event/pembahasan-rekening-penampungan-pendapatan-retribusi-skpd/
LOCATION:Ruang Rapat Bidang Akuntansi
END:VEVENT
BEGIN:VEVENT
DTSTART;TZID=Asia/Krasnoyarsk:20220420T090000
DTEND;TZID=Asia/Krasnoyarsk:20220420T090000
DTSTAMP:20260425T113616
CREATED:20220420T011046Z
LAST-MODIFIED:20220420T011046Z
UID:19874-1650445200-1650445200@bkad.slemankab.go.id
SUMMARY:Penagihan PBB-P2 dengan rincian tugas: Memberi Pelayanan Perubahan Data\, Memberi Pelayanan Pengurangan dan Keberatan\, Membuka Loket Pembayaran dengan Dibantu oleh Pihak dan Bank BPD DIY Cabang Terdekat
DESCRIPTION:Kalurahan Bimomartani
URL:https://bkad.slemankab.go.id/event/penagihan-pbb-p2-dengan-rincian-tugas-memberi-pelayanan-perubahan-data-memberi-pelayanan-pengurangan-dan-keberatan-membuka-loket-pembayaran-dengan-dibantu-oleh-pihak-dan-bank-bpd-diy-cabang-terdeka/
LOCATION:Kalurahan Bimomartani
END:VEVENT
BEGIN:VEVENT
DTSTART;TZID=Asia/Krasnoyarsk:20220420T090000
DTEND;TZID=Asia/Krasnoyarsk:20220420T090000
DTSTAMP:20260425T113616
CREATED:20220420T010354Z
LAST-MODIFIED:20220420T010354Z
UID:19870-1650445200-1650445200@bkad.slemankab.go.id
SUMMARY:Rakor Usulan SHBJ pada Setwan
DESCRIPTION:Ruang Rapat IIIA BKAD Sleman
URL:https://bkad.slemankab.go.id/event/rakor-usulan-shbj-pada-setwan/
LOCATION:Ruang Rapat IIIA BKAD Sleman
END:VEVENT
BEGIN:VEVENT
DTSTART;TZID=Asia/Krasnoyarsk:20220420T090000
DTEND;TZID=Asia/Krasnoyarsk:20220420T090000
DTSTAMP:20260425T113616
CREATED:20220420T005842Z
LAST-MODIFIED:20220420T005842Z
UID:19865-1650445200-1650445200@bkad.slemankab.go.id
SUMMARY:Klarifikasi Permohonan Pengurangan Pajak Reklame
DESCRIPTION:Ruang Rapat II Bidang Penagihan
URL:https://bkad.slemankab.go.id/event/klarifikasi-permohonan-pengurangan-pajak-reklame-3/
LOCATION:Ruang Rapat II Bidang Penagihan
END:VEVENT
BEGIN:VEVENT
DTSTART;TZID=Asia/Krasnoyarsk:20220419T130000
DTEND;TZID=Asia/Krasnoyarsk:20220419T130000
DTSTAMP:20260425T113616
CREATED:20220419T032351Z
LAST-MODIFIED:20220419T032351Z
UID:19860-1650373200-1650373200@bkad.slemankab.go.id
SUMMARY:Rakor Penanganan Kerusakan Jalan di Kabupaten Sleman
DESCRIPTION:Ruang Rapat Bupati Lantai 3 Gedung Baru
URL:https://bkad.slemankab.go.id/event/rakor-penanganan-kerusakan-jalan-di-kabupaten-sleman/
LOCATION:Ruang Rapat Bupati Lantai 3 Gedung Baru
END:VEVENT
BEGIN:VEVENT
DTSTART;TZID=Asia/Krasnoyarsk:20220419T123000
DTEND;TZID=Asia/Krasnoyarsk:20220419T123000
DTSTAMP:20260425T113616
CREATED:20220419T031845Z
LAST-MODIFIED:20220419T031845Z
UID:19855-1650371400-1650371400@bkad.slemankab.go.id
SUMMARY:Koordinasi Rencana Pemberian THR Bagi Pegawai Non Pegawai ASN di Kabupaten Sleman
DESCRIPTION:Ruang Rapat IIIA BKAD Sleman
URL:https://bkad.slemankab.go.id/event/koordinasi-rencana-pemberian-thr-bagi-pegawai-non-pegawai-asn-di-kabupaten-sleman/
LOCATION:Ruang Rapat IIIA BKAD Sleman
END:VEVENT
BEGIN:VEVENT
DTSTART;TZID=Asia/Krasnoyarsk:20220419T090000
DTEND;TZID=Asia/Krasnoyarsk:20220419T090000
DTSTAMP:20260425T113616
CREATED:20220419T032146Z
LAST-MODIFIED:20220419T032146Z
UID:19857-1650358800-1650358800@bkad.slemankab.go.id
SUMMARY:Desk Realisasi Capaian Fisik Dana Keistimewaan Cut Off s.d. 11 April 2022
DESCRIPTION:Ruang Rapat Gambuh Bapedda
URL:https://bkad.slemankab.go.id/event/desk-realisasi-capaian-fisik-dana-keistimewaan-cut-off-s-d-11-april-2022/
LOCATION:Ruang Rapat Gambuh Bapedda
END:VEVENT
BEGIN:VEVENT
DTSTART;TZID=Asia/Krasnoyarsk:20220419T090000
DTEND;TZID=Asia/Krasnoyarsk:20220419T090000
DTSTAMP:20260425T113616
CREATED:20220419T031646Z
LAST-MODIFIED:20220419T031646Z
UID:19852-1650358800-1650358800@bkad.slemankab.go.id
SUMMARY:Koordinasi Penagihan Tunggakan Pajak Air Tanah ke Lapangan
DESCRIPTION:Ruang Rapat IB Bidang Penagihan
URL:https://bkad.slemankab.go.id/event/koordinasi-penagihan-tunggakan-pajak-air-tanah-ke-lapangan/
LOCATION:Ruang Rapat IB Bidang Penagihan
END:VEVENT
BEGIN:VEVENT
DTSTART;TZID=Asia/Krasnoyarsk:20220419T090000
DTEND;TZID=Asia/Krasnoyarsk:20220419T090000
DTSTAMP:20260425T113616
CREATED:20220419T031241Z
LAST-MODIFIED:20220419T031241Z
UID:19847-1650358800-1650358800@bkad.slemankab.go.id
SUMMARY:Rakor Penawaran Dana Hibah Dikti
DESCRIPTION:Ruang Rapat IIA BKAD Sleman
URL:https://bkad.slemankab.go.id/event/rakor-penawaran-dana-hibah-dikti/
LOCATION:Ruang Rapat IIA BKAD Sleman
END:VEVENT
END:VCALENDAR