BEGIN:VCALENDAR
VERSION:2.0
PRODID:-//Badan Keuangan dan Aset Daerah - ECPv6.15.16//NONSGML v1.0//EN
CALSCALE:GREGORIAN
METHOD:PUBLISH
X-WR-CALNAME:Badan Keuangan dan Aset Daerah
X-ORIGINAL-URL:https://bkad.slemankab.go.id
X-WR-CALDESC:Events for Badan Keuangan dan Aset Daerah
REFRESH-INTERVAL;VALUE=DURATION:PT1H
X-Robots-Tag:noindex
X-PUBLISHED-TTL:PT1H
BEGIN:VTIMEZONE
TZID:Asia/Krasnoyarsk
BEGIN:STANDARD
TZOFFSETFROM:+0700
TZOFFSETTO:+0700
TZNAME:+07
DTSTART:20210101T000000
END:STANDARD
END:VTIMEZONE
BEGIN:VEVENT
DTSTART;TZID=Asia/Krasnoyarsk:20220407T090000
DTEND;TZID=Asia/Krasnoyarsk:20220407T090000
DTSTAMP:20260423T184036
CREATED:20220407T013716Z
LAST-MODIFIED:20220407T013716Z
UID:19663-1649322000-1649322000@bkad.slemankab.go.id
SUMMARY:Kegiatan Sosialisasi dan Implementasi Web Based di Kabupaten Sleman
DESCRIPTION:Ruang Rapat IIIA BKAD Sleman
URL:https://bkad.slemankab.go.id/event/kegiatan-sosialisasi-dan-implementasi-web-based-di-kabupaten-sleman/
LOCATION:Ruang Rapat IIIA BKAD Sleman
END:VEVENT
BEGIN:VEVENT
DTSTART;TZID=Asia/Krasnoyarsk:20220407T090000
DTEND;TZID=Asia/Krasnoyarsk:20220407T090000
DTSTAMP:20260423T184036
CREATED:20220407T015928Z
LAST-MODIFIED:20220407T015928Z
UID:19668-1649322000-1649322000@bkad.slemankab.go.id
SUMMARY:Rapat Koordinasi Usulan Standar Harga Satuan Barang dan Jasa
DESCRIPTION:Ruang Rapat IIA BKAD Sl
URL:https://bkad.slemankab.go.id/event/rapat-koordinasi-usulan-standar-harga-satuan-barang-dan-jasa-2/
LOCATION:Ruang Rapat IIA BKAD Sleman
END:VEVENT
BEGIN:VEVENT
DTSTART;TZID=Asia/Krasnoyarsk:20220407T130000
DTEND;TZID=Asia/Krasnoyarsk:20220407T130000
DTSTAMP:20260423T184036
CREATED:20220407T015136Z
LAST-MODIFIED:20220407T015136Z
UID:19665-1649336400-1649336400@bkad.slemankab.go.id
SUMMARY:Koordinasi Persiapan Kegiatan Penyuluhan Kepada Wajib Pajak Parkir
DESCRIPTION:Ruang Rapat Bidang Penagihan
URL:https://bkad.slemankab.go.id/event/koordinasi-persiapan-kegiatan-penyuluhan-kepada-wajib-pajak-parkir/
LOCATION:Ruang Rapat Bidang Penagihan
END:VEVENT
BEGIN:VEVENT
DTSTART;TZID=Asia/Krasnoyarsk:20220408T090000
DTEND;TZID=Asia/Krasnoyarsk:20220408T090000
DTSTAMP:20260423T184036
CREATED:20220408T011320Z
LAST-MODIFIED:20220408T011320Z
UID:19671-1649408400-1649408400@bkad.slemankab.go.id
SUMMARY:Sosialisasi dan Implementasi SIM Gaji Berbasis Web Based Bagi Pengelola Gaji Kabupaten Sleman
DESCRIPTION:Ruang Rapat IIIA BKAD Sleman
URL:https://bkad.slemankab.go.id/event/sosialisasi-dan-implementasi-sim-gaji-berbasis-web-based-bagi-pengelola-gaji-kabupaten-sleman-2/
LOCATION:Ruang Rapat IIIA BKAD Sleman
END:VEVENT
BEGIN:VEVENT
DTSTART;TZID=Asia/Krasnoyarsk:20220408T090000
DTEND;TZID=Asia/Krasnoyarsk:20220408T090000
DTSTAMP:20260423T184036
CREATED:20220408T012204Z
LAST-MODIFIED:20220408T012204Z
UID:19675-1649408400-1649408400@bkad.slemankab.go.id
SUMMARY:Musyawarah Harga Calon Tanah Pengganti Tanah Kas Desa Kalurahan Glagaharjo Kapanewon Cangkringan
DESCRIPTION:Ruang Rapat Merti Bumi Dipertaru
URL:https://bkad.slemankab.go.id/event/musyawarah-harga-calon-tanah-pengganti-tanah-kas-desa-kalurahan-glagaharjo-kapanewon-cangkringan/
LOCATION:Ruang Rapat Merti Bumi Dipertaru
END:VEVENT
BEGIN:VEVENT
DTSTART;TZID=Asia/Krasnoyarsk:20220408T090000
DTEND;TZID=Asia/Krasnoyarsk:20220408T090000
DTSTAMP:20260423T184036
CREATED:20220408T012914Z
LAST-MODIFIED:20220408T012914Z
UID:19681-1649408400-1649408400@bkad.slemankab.go.id
SUMMARY:Rapat Koordinasi Rencana Pengadaan Material Jalur Evakuasi pada Sub Kegiatan Penguatan Kapasitas Kawasan untuk Pencegahan dan Kesiapsiagaan
DESCRIPTION:Ruang Rapat B BPBD Kab.Sleman
URL:https://bkad.slemankab.go.id/event/rapat-koordinasi-rencana-pengadaan-material-jalur-evakuasi-pada-sub-kegiatan-penguatan-kapasitas-kawasan-untuk-pencegahan-dan-kesiapsiagaan/
LOCATION:Ruang Rapat B BPBD Kab.Sleman
END:VEVENT
BEGIN:VEVENT
DTSTART;TZID=Asia/Krasnoyarsk:20220408T123000
DTEND;TZID=Asia/Krasnoyarsk:20220408T123000
DTSTAMP:20260423T184036
CREATED:20220408T012536Z
LAST-MODIFIED:20220408T012536Z
UID:19678-1649421000-1649421000@bkad.slemankab.go.id
SUMMARY:Rakor Menanggapi Rencana Monitoring Program Pencegahan Korupsi Terkait Barang dan Jasa dari Dit.Korsup III KPK
DESCRIPTION:Ruang Rapat Sembada Setda Kab.Sleman
URL:https://bkad.slemankab.go.id/event/rakor-menanggapi-rencana-monitoring-program-pencegahan-korupsi-terkait-barang-dan-jasa-dari-dit-korsup-iii-kpk/
LOCATION:Ruang Rapat Sembada Setda Kab.Sleman
END:VEVENT
BEGIN:VEVENT
DTSTART;TZID=Asia/Krasnoyarsk:20220408T130000
DTEND;TZID=Asia/Krasnoyarsk:20220408T130000
DTSTAMP:20260423T184036
CREATED:20220408T011907Z
LAST-MODIFIED:20220408T011907Z
UID:19673-1649422800-1649422800@bkad.slemankab.go.id
SUMMARY:Penyampaian Hasil Rapat Kerja dalam Sinkronisasi Jawaban Bupati atas PUF Terhadap Raperda\, Permintaan Persetujuan DPRD\, Penandatanganan MOU Raperda Pertanggungjawaban APBD TA 2021 dan Pendapat Akhir Bupati
DESCRIPTION:Ruang Rapat Paripurna DPRD Kabupaten Sleman
URL:https://bkad.slemankab.go.id/event/penyampaian-hasil-rapat-kerja-dalam-sinkronisasi-jawaban-bupati-atas-puf-terhadap-raperda-permintaan-persetujuan-dprd-penandatanganan-mou-raperda-pertanggungjawaban-apbd-ta-2021-dan-pendapat-akhir-b/
LOCATION:Ruang Rapat Paripurna DPRD Kabupaten Sleman
END:VEVENT
BEGIN:VEVENT
DTSTART;TZID=Asia/Krasnoyarsk:20220411T073000
DTEND;TZID=Asia/Krasnoyarsk:20220411T080000
DTSTAMP:20260423T184036
CREATED:20220411T011403Z
LAST-MODIFIED:20220411T011403Z
UID:19694-1649662200-1649664000@bkad.slemankab.go.id
SUMMARY:Apel Pagi
DESCRIPTION:Halaman BKAD Sleman
URL:https://bkad.slemankab.go.id/event/apel-pagi-4/
LOCATION:Halaman Depan BKAD
END:VEVENT
BEGIN:VEVENT
DTSTART;TZID=Asia/Krasnoyarsk:20220411T090000
DTEND;TZID=Asia/Krasnoyarsk:20220411T090000
DTSTAMP:20260423T184036
CREATED:20220411T012313Z
LAST-MODIFIED:20220411T012313Z
UID:19697-1649667600-1649667600@bkad.slemankab.go.id
SUMMARY:Entry Revisi APBD Tahun Anggaran 2022
DESCRIPTION:Ruang Rapat IIIB BKAD Sleman
URL:https://bkad.slemankab.go.id/event/entry-revisi-apbd-tahun-anggaran-2022/
LOCATION:Ruang Rapat IIIB BKAD Sleman
END:VEVENT
BEGIN:VEVENT
DTSTART;TZID=Asia/Krasnoyarsk:20220411T090000
DTEND;TZID=Asia/Krasnoyarsk:20220411T090000
DTSTAMP:20260423T184036
CREATED:20220411T014646Z
LAST-MODIFIED:20220411T014646Z
UID:19705-1649667600-1649667600@bkad.slemankab.go.id
SUMMARY:Evaluasi Rekon Aset Tetap dan Persediaan Bulan Januari\, Februari\, dan Maret 2022
DESCRIPTION:Ruang Rapat Bidang Aset
URL:https://bkad.slemankab.go.id/event/evaluasi-rekon-aset-tetap-dan-persediaan-bulan-januari-februari-dan-maret-2022/
LOCATION:Ruang Rapat Bid. Aset
END:VEVENT
BEGIN:VEVENT
DTSTART;TZID=Asia/Krasnoyarsk:20220411T090000
DTEND;TZID=Asia/Krasnoyarsk:20220411T090000
DTSTAMP:20260423T184036
CREATED:20220411T015302Z
LAST-MODIFIED:20220411T015302Z
UID:19707-1649667600-1649667600@bkad.slemankab.go.id
SUMMARY:Kunjungan Kerja Sekretariat Daerah Kabupaten Kapuas Terkait Pemberian Hibah dan Bantuan Sosial yang Bersumber dari APBD
DESCRIPTION:Ruang Rapat IIIA BKAD Sleman
URL:https://bkad.slemankab.go.id/event/kunjungan-kerja-sekretariat-daerah-kabupaten-kapuas-terkait-pemberian-hibah-dan-bantuan-sosial-yang-bersumber-dari-apbd/
LOCATION:Ruang Rapat IIIA BKAD Sleman
END:VEVENT
BEGIN:VEVENT
DTSTART;TZID=Asia/Krasnoyarsk:20220411T123000
DTEND;TZID=Asia/Krasnoyarsk:20220411T123000
DTSTAMP:20260423T184036
CREATED:20220411T012435Z
LAST-MODIFIED:20220411T012435Z
UID:19699-1649680200-1649680200@bkad.slemankab.go.id
SUMMARY:Rakor Penyusunan ASB
DESCRIPTION:Ruang Rapat IIIB BKAD Sleman
URL:https://bkad.slemankab.go.id/event/rakor-penyusunan-asb/
LOCATION:Ruang Rapat IIIB BKAD Sleman
END:VEVENT
BEGIN:VEVENT
DTSTART;TZID=Asia/Krasnoyarsk:20220411T130000
DTEND;TZID=Asia/Krasnoyarsk:20220411T130000
DTSTAMP:20260423T184036
CREATED:20220411T012728Z
LAST-MODIFIED:20220411T012953Z
UID:19701-1649682000-1649682000@bkad.slemankab.go.id
SUMMARY:Pemaparan Sistem Informasi Retribusi Daerah
DESCRIPTION:Ruang Rapat IIIA BKAD Sleman
URL:https://bkad.slemankab.go.id/event/pemaparan-sistem-informasi-retribusi-daerah/
LOCATION:Ruang Rapat IIIA BKAD Sleman
END:VEVENT
BEGIN:VEVENT
DTSTART;TZID=Asia/Krasnoyarsk:20220411T130000
DTEND;TZID=Asia/Krasnoyarsk:20220411T130000
DTSTAMP:20260423T184036
CREATED:20220411T013457Z
LAST-MODIFIED:20220411T013457Z
UID:19703-1649682000-1649682000@bkad.slemankab.go.id
SUMMARY:Kunjungan Kerja Komisi C DPRD Kabupaten Tulungagung terkait Optimalisasi Pendapatan Asli Daerah
DESCRIPTION:Ruang Rapat IIA BKAD Sleman
URL:https://bkad.slemankab.go.id/event/kunjungan-kerja-komisi-c-dprd-kabupaten-tulungagung-terkait-optimalisasi-pendapatan-asli-daerah/
LOCATION:Ruang Rapat IIA BKAD Sleman
END:VEVENT
BEGIN:VEVENT
DTSTART;TZID=Asia/Krasnoyarsk:20220412T083000
DTEND;TZID=Asia/Krasnoyarsk:20220412T083000
DTSTAMP:20260423T184036
CREATED:20220412T012934Z
LAST-MODIFIED:20220412T012934Z
UID:19726-1649752200-1649752200@bkad.slemankab.go.id
SUMMARY:Rapat Pleno Peringatan Hari Jadi ke-106 Kabupaten Sleman
DESCRIPTION:Aula Lantai 3 Setda Sleman
URL:https://bkad.slemankab.go.id/event/rapat-pleno-peringatan-hari-jadi-ke-106-kabupaten-sleman/
LOCATION:Aula Lantai 3 Setda Sleman
END:VEVENT
BEGIN:VEVENT
DTSTART;TZID=Asia/Krasnoyarsk:20220412T090000
DTEND;TZID=Asia/Krasnoyarsk:20220412T090000
DTSTAMP:20260423T184036
CREATED:20220412T010524Z
LAST-MODIFIED:20220412T010524Z
UID:19713-1649754000-1649754000@bkad.slemankab.go.id
SUMMARY:Pembahasan Perbub Penghargaan Kinerja PBB Kalurahan
DESCRIPTION:Ruang Rapat Bidang Penagihan
URL:https://bkad.slemankab.go.id/event/pembahasan-perbub-penghargaan-kinerja-pbb-kalurahan/
LOCATION:Ruang Rapat Bidang Penagihan
END:VEVENT
BEGIN:VEVENT
DTSTART;TZID=Asia/Krasnoyarsk:20220412T090000
DTEND;TZID=Asia/Krasnoyarsk:20220412T090000
DTSTAMP:20260423T184036
CREATED:20220412T010725Z
LAST-MODIFIED:20220412T010725Z
UID:19715-1649754000-1649754000@bkad.slemankab.go.id
SUMMARY:Rakor Persiapan Penyusunan Dokumen KUA-PPAS Tahun 2023
DESCRIPTION:Ruang Rapat IIA BKAD Sleman
URL:https://bkad.slemankab.go.id/event/rakor-persiapan-penyusunan-dokumen-kua-ppas-tahun-2023/
LOCATION:Ruang Rapat IIA BKAD Sleman
END:VEVENT
BEGIN:VEVENT
DTSTART;TZID=Asia/Krasnoyarsk:20220412T090000
DTEND;TZID=Asia/Krasnoyarsk:20220412T090000
DTSTAMP:20260423T184036
CREATED:20220412T011359Z
LAST-MODIFIED:20220412T011359Z
UID:19717-1649754000-1649754000@bkad.slemankab.go.id
SUMMARY:Koordinasi Permohonan Pengurangan SKPDB Pajak Restoran Mie Gacoan\, Permohonan Pengurangan BPHTB PT.LPP Agro Nusantara
DESCRIPTION:Ruang Rapat II Bidang Penagihan BKAD Sleman
URL:https://bkad.slemankab.go.id/event/koordinasi-permohonan-pengurangan-skpdb-pajak-restoran-mie-gacoan-permohonan-pengurangan-bphtb-pt-lpp-agro-nusantara/
LOCATION:Ruang Rapat II Bidang Penagihan BKAD Sleman
END:VEVENT
BEGIN:VEVENT
DTSTART;TZID=Asia/Krasnoyarsk:20220412T090000
DTEND;TZID=Asia/Krasnoyarsk:20220412T090000
DTSTAMP:20260423T184036
CREATED:20220412T012735Z
LAST-MODIFIED:20220412T012735Z
UID:19722-1649754000-1649754000@bkad.slemankab.go.id
SUMMARY:Kunjungan Kerja dari Badan Keuangan Daerah Kabupaten Kaur Terkait Kedudukan\, Susunan Organisas\, Tugas dan Fungsi serta Tata Kerja BKAD
DESCRIPTION:Ruang Rapat IIB (VIP) BKAD Sleman
URL:https://bkad.slemankab.go.id/event/kunjungan-kerja-dari-badan-keuangan-daerah-kabupaten-kaur-terkait-kedudukan-susunan-organisas-tugas-dan-fungsi-serta-tata-kerja-bkad/
LOCATION:Ruang Rapat IIB (VIP) BKAD Sleman
END:VEVENT
BEGIN:VEVENT
DTSTART;TZID=Asia/Krasnoyarsk:20220412T093000
DTEND;TZID=Asia/Krasnoyarsk:20220412T093000
DTSTAMP:20260423T184036
CREATED:20220412T012244Z
LAST-MODIFIED:20220412T023447Z
UID:19720-1649755800-1649755800@bkad.slemankab.go.id
SUMMARY:Studi Banding dari DPRD Kabupaten Banyuwangi dalam Rangka Raperda Tentang Pokok-Pokok Pengelolaan Keuangan Daerah
DESCRIPTION:Ruang Rapat IIIA BKAD Sleman
URL:https://bkad.slemankab.go.id/event/studi-banding-dari-dprd-kabupaten-banyuwangi-dalam-rangka-raperda-tentang-pokok-pokok-pengelolaan-keuangan-daerah/
LOCATION:Ruang Rapat IIIA BKAD Sleman
END:VEVENT
BEGIN:VEVENT
DTSTART;TZID=Asia/Krasnoyarsk:20220412T100000
DTEND;TZID=Asia/Krasnoyarsk:20220412T100000
DTSTAMP:20260423T184036
CREATED:20220412T010035Z
LAST-MODIFIED:20220412T010233Z
UID:19710-1649757600-1649757600@bkad.slemankab.go.id
SUMMARY:Rakor Gaji Bulan Mei 2022 Terkait Cuti Bersama Hari Raya Idul Fitri 2022
DESCRIPTION:Ruang Rapat IIC BKAD Sleman
URL:https://bkad.slemankab.go.id/event/rakor-gaji-bulan-mei-2022-terkait-cuti-bersama-hari-raya-idul-fitri-2022/
LOCATION:Ruang Rapat IIC BKAD Sleman
END:VEVENT
BEGIN:VEVENT
DTSTART;TZID=Asia/Krasnoyarsk:20220413T083000
DTEND;TZID=Asia/Krasnoyarsk:20220413T083000
DTSTAMP:20260423T184036
CREATED:20220413T013404Z
LAST-MODIFIED:20220413T013404Z
UID:19745-1649838600-1649838600@bkad.slemankab.go.id
SUMMARY:Optimalisasi Pembayaran Zakat dari gaji PNS dan BUMD Kabupaten Sleman
DESCRIPTION:Ruang Rapat Setda Kabupaten Sleman
URL:https://bkad.slemankab.go.id/event/optimalisasi-pembayaran-zakat-dari-gaji-pns-dan-bumd-kabupaten-sleman/
LOCATION:Ruang Rapat Setda Kabupaten Sleman
END:VEVENT
BEGIN:VEVENT
DTSTART;TZID=Asia/Krasnoyarsk:20220413T090000
DTEND;TZID=Asia/Krasnoyarsk:20220413T090000
DTSTAMP:20260423T184036
CREATED:20220413T012552Z
LAST-MODIFIED:20220413T012552Z
UID:19743-1649840400-1649840400@bkad.slemankab.go.id
SUMMARY:Koordinasi Kegiatan Basis Data
DESCRIPTION:Ruang Rapat IIIB BKAD Sleman
URL:https://bkad.slemankab.go.id/event/koordinasi-kegiatan-basis-data/
LOCATION:Ruang Rapat IIIB BKAD Sleman
END:VEVENT
BEGIN:VEVENT
DTSTART;TZID=Asia/Krasnoyarsk:20220413T100000
DTEND;TZID=Asia/Krasnoyarsk:20220413T100000
DTSTAMP:20260423T184036
CREATED:20220413T010406Z
LAST-MODIFIED:20220413T010406Z
UID:19739-1649844000-1649844000@bkad.slemankab.go.id
SUMMARY:Rekonsiliasi Barang Persediaan BKAD
DESCRIPTION:Ruang Rapat IIIA BKAD Sleman
URL:https://bkad.slemankab.go.id/event/rekonsiliasi-barang-persediaan-bkad/
LOCATION:Ruang Rapat IIIA BKAD Sleman
END:VEVENT
BEGIN:VEVENT
DTSTART;TZID=Asia/Krasnoyarsk:20220413T100000
DTEND;TZID=Asia/Krasnoyarsk:20220413T100000
DTSTAMP:20260423T184036
CREATED:20220413T012216Z
LAST-MODIFIED:20220413T012216Z
UID:19741-1649844000-1649844000@bkad.slemankab.go.id
SUMMARY:Pembahasan Laporan Hasil Reviu Penghapusan Piutang PBB P2 pada BKAD Kabupaten Sleman Tahun 2021
DESCRIPTION:Ruang Rapat Bidang Penagihan
URL:https://bkad.slemankab.go.id/event/pembahasan-laporan-hasil-reviu-penghapusan-piutang-pbb-p2-pada-bkad-kabupaten-sleman-tahun-2021/
LOCATION:Ruang Rapat Bidang Penagihan
END:VEVENT
BEGIN:VEVENT
DTSTART;TZID=Asia/Krasnoyarsk:20220414T083000
DTEND;TZID=Asia/Krasnoyarsk:20220414T083000
DTSTAMP:20260423T184036
CREATED:20220414T012437Z
LAST-MODIFIED:20220414T012437Z
UID:19755-1649925000-1649925000@bkad.slemankab.go.id
SUMMARY:Rakor Penawaran Program Dana Hibah Dikti
DESCRIPTION:Ruang Rapat IIC BKAD Sleman
URL:https://bkad.slemankab.go.id/event/rakor-penawaran-program-dana-hibah-dikti/
LOCATION:Ruang Rapat IIC BKAD Sleman
END:VEVENT
BEGIN:VEVENT
DTSTART;TZID=Asia/Krasnoyarsk:20220414T090000
DTEND;TZID=Asia/Krasnoyarsk:20220414T090000
DTSTAMP:20260423T184036
CREATED:20220414T012656Z
LAST-MODIFIED:20220414T012656Z
UID:19757-1649926800-1649926800@bkad.slemankab.go.id
SUMMARY:Rekon Realisasi Tahap I Dana Keistimewaan Tahun 2022
DESCRIPTION:Ruang Rapat IIIA BKAD Sleman
URL:https://bkad.slemankab.go.id/event/rekon-realisasi-tahap-i-dana-keistimewaan-tahun-2022/
LOCATION:Ruang Rapat IIIA BKAD Sleman
END:VEVENT
BEGIN:VEVENT
DTSTART;TZID=Asia/Krasnoyarsk:20220414T090000
DTEND;TZID=Asia/Krasnoyarsk:20220414T090000
DTSTAMP:20260423T184036
CREATED:20220414T012924Z
LAST-MODIFIED:20220414T012924Z
UID:19759-1649926800-1649926800@bkad.slemankab.go.id
SUMMARY:Rapat Permohonan Penyelesaian Pembayaran Sewa Lahan Tanah terkait Serah Terima Resto PKL Mrican dan Pasar Manggung
DESCRIPTION:Ruang Rapat Bidang Aset
URL:https://bkad.slemankab.go.id/event/rapat-permohonan-penyelesaian-pembayaran-sewa-lahan-tanah-terkait-serah-terima-resto-pkl-mrican-dan-pasar-manggung/
LOCATION:Ruang Rapat Bidang Aset BKAD Sleman
END:VEVENT
BEGIN:VEVENT
DTSTART;TZID=Asia/Krasnoyarsk:20220414T093000
DTEND;TZID=Asia/Krasnoyarsk:20220414T093000
DTSTAMP:20260423T184036
CREATED:20220414T013228Z
LAST-MODIFIED:20220414T013228Z
UID:19761-1649928600-1649928600@bkad.slemankab.go.id
SUMMARY:Klarifikasi Permohonan Pengurangan Pajak Reklame
DESCRIPTION:Ruang Rapat 2 (Bidang Penagihan dan Pengembangan)
URL:https://bkad.slemankab.go.id/event/klarifikasi-permohonan-pengurangan-pajak-reklame-2/
LOCATION:Ruang Rapat 2 (Bidang Penagihan dan Pengembangan)
END:VEVENT
END:VCALENDAR