BEGIN:VCALENDAR
VERSION:2.0
PRODID:-//Badan Keuangan dan Aset Daerah - ECPv6.15.16//NONSGML v1.0//EN
CALSCALE:GREGORIAN
METHOD:PUBLISH
X-WR-CALNAME:Badan Keuangan dan Aset Daerah
X-ORIGINAL-URL:https://bkad.slemankab.go.id
X-WR-CALDESC:Events for Badan Keuangan dan Aset Daerah
REFRESH-INTERVAL;VALUE=DURATION:PT1H
X-Robots-Tag:noindex
X-PUBLISHED-TTL:PT1H
BEGIN:VTIMEZONE
TZID:Asia/Krasnoyarsk
BEGIN:STANDARD
TZOFFSETFROM:+0700
TZOFFSETTO:+0700
TZNAME:+07
DTSTART:20190101T000000
END:STANDARD
END:VTIMEZONE
BEGIN:VEVENT
DTSTART;TZID=Asia/Krasnoyarsk:20200310T083000
DTEND;TZID=Asia/Krasnoyarsk:20200310T113000
DTSTAMP:20260425T092012
CREATED:20200626T070925Z
LAST-MODIFIED:20200626T071116Z
UID:2894-1583829000-1583839800@bkad.slemankab.go.id
SUMMARY:Sosialisasi Permenkeu RI No.130/PMK.07/2019
DESCRIPTION:Tentang Pengelolaan Dana Alokasi Khusus Fisik\nRuang Rapat IIIA Lantai 3 BKAD Sleman
URL:https://bkad.slemankab.go.id/event/sosialisasi-permenkeu-ri-no-130-pmk-07-2019/
LOCATION:Kantor BKAD\, Jl Parasamya No.05\, Sleman\, Yogyakarta\, Indonesia
END:VEVENT
BEGIN:VEVENT
DTSTART;TZID=Asia/Krasnoyarsk:20200310T083000
DTEND;TZID=Asia/Krasnoyarsk:20200310T113000
DTSTAMP:20260425T092012
CREATED:20200626T071042Z
LAST-MODIFIED:20200626T071300Z
UID:2896-1583829000-1583839800@bkad.slemankab.go.id
SUMMARY:Pelaksanaan Rekaman Data dan Laporan DAK Fisik melalui OMSPAN
DESCRIPTION:Ruang Rapat IIIB Lantai 3 BKAD Sleman
URL:https://bkad.slemankab.go.id/event/pelaksanaan-rekaman-data-dan-laporan-dak-fisik-melalui-omspan/
LOCATION:Kantor BKAD\, Jl Parasamya No.05\, Sleman\, Yogyakarta\, Indonesia
END:VEVENT
END:VCALENDAR