BEGIN:VCALENDAR
VERSION:2.0
PRODID:-//Badan Keuangan dan Aset Daerah - ECPv6.15.16//NONSGML v1.0//EN
CALSCALE:GREGORIAN
METHOD:PUBLISH
X-WR-CALNAME:Badan Keuangan dan Aset Daerah
X-ORIGINAL-URL:https://bkad.slemankab.go.id
X-WR-CALDESC:Events for Badan Keuangan dan Aset Daerah
REFRESH-INTERVAL;VALUE=DURATION:PT1H
X-Robots-Tag:noindex
X-PUBLISHED-TTL:PT1H
BEGIN:VTIMEZONE
TZID:Asia/Krasnoyarsk
BEGIN:STANDARD
TZOFFSETFROM:+0700
TZOFFSETTO:+0700
TZNAME:+07
DTSTART:20200101T000000
END:STANDARD
END:VTIMEZONE
BEGIN:VEVENT
DTSTART;TZID=Asia/Krasnoyarsk:20210505T090000
DTEND;TZID=Asia/Krasnoyarsk:20210505T110000
DTSTAMP:20260424T053959
CREATED:20210618T075146Z
LAST-MODIFIED:20210618T075146Z
UID:17688-1620205200-1620212400@bkad.slemankab.go.id
SUMMARY:Rapat Koordinasi Penyusunan ABK
DESCRIPTION:Ruang Rapat IIB Lantai 2
URL:https://bkad.slemankab.go.id/event/rapat-koordinasi-penyusunan-abk/
END:VEVENT
BEGIN:VEVENT
DTSTART;TZID=Asia/Krasnoyarsk:20210505T090000
DTEND;TZID=Asia/Krasnoyarsk:20210505T110000
DTSTAMP:20260424T053959
CREATED:20210618T075343Z
LAST-MODIFIED:20210618T075343Z
UID:17690-1620205200-1620212400@bkad.slemankab.go.id
SUMMARY:Rekonsiliasi Pembayaran PBB-P2 Kabupaten Sleman Periode Bulan April 2021
DESCRIPTION:Ruang Rapat Bidang Penagihan
URL:https://bkad.slemankab.go.id/event/rekonsiliasi-pembayaran-pbb-p2-kabupaten-sleman-periode-bulan-april-2021/
END:VEVENT
BEGIN:VEVENT
DTSTART;TZID=Asia/Krasnoyarsk:20210505T100000
DTEND;TZID=Asia/Krasnoyarsk:20210505T120000
DTSTAMP:20260424T053959
CREATED:20210618T075015Z
LAST-MODIFIED:20210618T075015Z
UID:17686-1620208800-1620216000@bkad.slemankab.go.id
SUMMARY:Koordinasi Cek Lapangan BPHTB
DESCRIPTION:Ruang Rapat Dafdatap
URL:https://bkad.slemankab.go.id/event/koordinasi-cek-lapangan-bphtb/
END:VEVENT
BEGIN:VEVENT
DTSTART;TZID=Asia/Krasnoyarsk:20210507T100000
DTEND;TZID=Asia/Krasnoyarsk:20210507T113000
DTSTAMP:20260424T053959
CREATED:20210618T074907Z
LAST-MODIFIED:20210618T074907Z
UID:17684-1620381600-1620387000@bkad.slemankab.go.id
SUMMARY:Koordinasi Pemasangan Alat Perekam Transaksi Online
DESCRIPTION:Ruang Rapat Dafdatap
URL:https://bkad.slemankab.go.id/event/koordinasi-pemasangan-alat-perekam-transaksi-online/
END:VEVENT
BEGIN:VEVENT
DTSTART;TZID=Asia/Krasnoyarsk:20210507T130000
DTEND;TZID=Asia/Krasnoyarsk:20210507T143000
DTSTAMP:20260424T053959
CREATED:20210618T074724Z
LAST-MODIFIED:20210618T074724Z
UID:17682-1620392400-1620397800@bkad.slemankab.go.id
SUMMARY:Koordinasi Realisasi Keuangan Tahap I Dana Keistimewaan
DESCRIPTION:Ruang Rapat IIA Lantai 2
URL:https://bkad.slemankab.go.id/event/koordinasi-realisasi-keuangan-tahap-i-dana-keistimewaan/
END:VEVENT
BEGIN:VEVENT
DTSTART;TZID=Asia/Krasnoyarsk:20210518T090000
DTEND;TZID=Asia/Krasnoyarsk:20210518T103000
DTSTAMP:20260424T053959
CREATED:20210618T074223Z
LAST-MODIFIED:20210618T074223Z
UID:17677-1621328400-1621333800@bkad.slemankab.go.id
SUMMARY:Mekanisme Pencatatan Belanja Hibah
DESCRIPTION:Ruang Rapat Bidang Akuntansi
URL:https://bkad.slemankab.go.id/event/mekanisme-pencatatan-belanja-hibah/
END:VEVENT
BEGIN:VEVENT
DTSTART;TZID=Asia/Krasnoyarsk:20210519T090000
DTEND;TZID=Asia/Krasnoyarsk:20210520T110000
DTSTAMP:20260424T053959
CREATED:20210618T074003Z
LAST-MODIFIED:20210618T074003Z
UID:17673-1621414800-1621508400@bkad.slemankab.go.id
SUMMARY:Rekonsiliasi Aset dan Persediaan Bulan Januari sampai April 2021
DESCRIPTION:Ruang Rapat IIIA Lantai 3
URL:https://bkad.slemankab.go.id/event/rekonsiliasi-aset-dan-persediaan-bulan-januari-sampai-april-2021/
END:VEVENT
BEGIN:VEVENT
DTSTART;TZID=Asia/Krasnoyarsk:20210520T100000
DTEND;TZID=Asia/Krasnoyarsk:20210520T113000
DTSTAMP:20260424T053959
CREATED:20210618T073802Z
LAST-MODIFIED:20210618T073802Z
UID:17671-1621504800-1621510200@bkad.slemankab.go.id
SUMMARY:Koordinasi Pendataan Ruas Jalan
DESCRIPTION:Ruang Rapat Dafdatap
URL:https://bkad.slemankab.go.id/event/koordinasi-pendataan-ruas-jalan/
END:VEVENT
BEGIN:VEVENT
DTSTART;TZID=Asia/Krasnoyarsk:20210521T130000
DTEND;TZID=Asia/Krasnoyarsk:20210521T143000
DTSTAMP:20260424T053959
CREATED:20210618T073629Z
LAST-MODIFIED:20210618T073629Z
UID:17669-1621602000-1621607400@bkad.slemankab.go.id
SUMMARY:Koordinasi Penyusunan Jadwal PAPBD TA 2021 dan APBD TA 2022
DESCRIPTION:Ruang Rapat IIA Lantai 2
URL:https://bkad.slemankab.go.id/event/koordinasi-penyusunan-jadwal-papbd-ta-2021-dan-apbd-ta-2022/
END:VEVENT
BEGIN:VEVENT
DTSTART;TZID=Asia/Krasnoyarsk:20210524T090000
DTEND;TZID=Asia/Krasnoyarsk:20210524T110000
DTSTAMP:20260424T053959
CREATED:20210618T074131Z
LAST-MODIFIED:20210618T074131Z
UID:17675-1621846800-1621854000@bkad.slemankab.go.id
SUMMARY:Rekonsiliasi Aset dan Persediaan Bulan Januari sampai April 2021
DESCRIPTION:Ruang Rapat IIIA Lantai 3
URL:https://bkad.slemankab.go.id/event/rekonsiliasi-aset-dan-persediaan-bulan-januari-sampai-april-2021-2/
END:VEVENT
BEGIN:VEVENT
DTSTART;TZID=Asia/Krasnoyarsk:20210528T080000
DTEND;TZID=Asia/Krasnoyarsk:20210528T100000
DTSTAMP:20260424T053959
CREATED:20210618T073358Z
LAST-MODIFIED:20210618T073358Z
UID:17667-1622188800-1622196000@bkad.slemankab.go.id
SUMMARY:Koordinasi Target RPJMD Tahun 2021-2026 (Indeks Pengelolaan Keuangan Daerah)
DESCRIPTION:
URL:https://bkad.slemankab.go.id/event/koordinasi-target-rpjmd-tahun-2021-2026-indeks-pengelolaan-keuangan-daerah/
END:VEVENT
BEGIN:VEVENT
DTSTART;TZID=Asia/Krasnoyarsk:20210531T100000
DTEND;TZID=Asia/Krasnoyarsk:20210531T113000
DTSTAMP:20260424T053959
CREATED:20210618T073227Z
LAST-MODIFIED:20210618T073227Z
UID:17665-1622455200-1622460600@bkad.slemankab.go.id
SUMMARY:Koordinasi Rencana Pemanfaatan Tanah Pemkab di Lahan Pasar Unggas Prambanan untuk Lokasi PLUT Premium
DESCRIPTION:Ruang Rapat Bidang Aset
URL:https://bkad.slemankab.go.id/event/koordinasi-rencana-pemanfaatan-tanah-pemkab-di-lahan-pasar-unggas-prambanan-untuk-lokasi-plut-premium/
END:VEVENT
END:VCALENDAR