BEGIN:VCALENDAR
VERSION:2.0
PRODID:-//Badan Keuangan dan Aset Daerah - ECPv6.15.16//NONSGML v1.0//EN
CALSCALE:GREGORIAN
METHOD:PUBLISH
X-WR-CALNAME:Badan Keuangan dan Aset Daerah
X-ORIGINAL-URL:https://bkad.slemankab.go.id
X-WR-CALDESC:Events for Badan Keuangan dan Aset Daerah
REFRESH-INTERVAL;VALUE=DURATION:PT1H
X-Robots-Tag:noindex
X-PUBLISHED-TTL:PT1H
BEGIN:VTIMEZONE
TZID:Asia/Krasnoyarsk
BEGIN:STANDARD
TZOFFSETFROM:+0700
TZOFFSETTO:+0700
TZNAME:+07
DTSTART:20210101T000000
END:STANDARD
END:VTIMEZONE
BEGIN:VEVENT
DTSTART;TZID=Asia/Krasnoyarsk:20220301T090000
DTEND;TZID=Asia/Krasnoyarsk:20220301T103000
DTSTAMP:20260423T195230
CREATED:20220301T083638Z
LAST-MODIFIED:20220301T083638Z
UID:19261-1646125200-1646130600@bkad.slemankab.go.id
SUMMARY:Penyusunan Kajian Penyertaan Modal ke Bank Sleman
DESCRIPTION:RR Bidang Aset BKAD Kabupaten Sleman
URL:https://bkad.slemankab.go.id/event/penyusunan-kajian-penyertaan-modal-ke-bank-sleman/
LOCATION:Ruang Rapat Bid. Aset
END:VEVENT
BEGIN:VEVENT
DTSTART;TZID=Asia/Krasnoyarsk:20220301T090000
DTEND;TZID=Asia/Krasnoyarsk:20220301T103000
DTSTAMP:20260423T195230
CREATED:20220301T083752Z
LAST-MODIFIED:20220301T083752Z
UID:19263-1646125200-1646130600@bkad.slemankab.go.id
SUMMARY:Rakor Tunjangan Fungsional Penyuluh Pertanian P3K
DESCRIPTION:RR IIIA Lt.3 BKAD Kabupaten Sleman
URL:https://bkad.slemankab.go.id/event/rakor-tunjangan-fungsional-penyuluh-pertanian-p3k/
LOCATION:Ruang Rapat IIIA Lt.3
END:VEVENT
BEGIN:VEVENT
DTSTART;TZID=Asia/Krasnoyarsk:20220301T090000
DTEND;TZID=Asia/Krasnoyarsk:20220301T140000
DTSTAMP:20260423T195230
CREATED:20220301T083411Z
LAST-MODIFIED:20220301T083411Z
UID:19257-1646125200-1646143200@bkad.slemankab.go.id
SUMMARY:Pemantauan Penyampaian SPPT PBB-P2 Tahun 2022
DESCRIPTION:Kalurahan Harjobinangun\, Selomartani\, Sendangagung\, Sidomoyo
URL:https://bkad.slemankab.go.id/event/pemantauan-penyampaian-sppt-pbb-p2-tahun-2022-14/
END:VEVENT
BEGIN:VEVENT
DTSTART;TZID=Asia/Krasnoyarsk:20220301T130000
DTEND;TZID=Asia/Krasnoyarsk:20220301T143000
DTSTAMP:20260423T195230
CREATED:20220301T083520Z
LAST-MODIFIED:20220301T083520Z
UID:19259-1646139600-1646145000@bkad.slemankab.go.id
SUMMARY:Koordinasi Pelayanan Validasi BPHTB
DESCRIPTION:UC UGM
URL:https://bkad.slemankab.go.id/event/koordinasi-pelayanan-validasi-bphtb-2/
END:VEVENT
BEGIN:VEVENT
DTSTART;TZID=Asia/Krasnoyarsk:20220302T090000
DTEND;TZID=Asia/Krasnoyarsk:20220302T110000
DTSTAMP:20260423T195230
CREATED:20220324T062952Z
LAST-MODIFIED:20220324T062952Z
UID:19454-1646211600-1646218800@bkad.slemankab.go.id
SUMMARY:Rapat Koordinasi Usulan Standar Harga Satuan Barang dan Jasa
DESCRIPTION:RR IIIA Lt.3 BKAD Sleman
URL:https://bkad.slemankab.go.id/event/rapat-koordinasi-usulan-standar-harga-satuan-barang-dan-jasa/
LOCATION:Ruang Rapat IIIA Lt.3
END:VEVENT
BEGIN:VEVENT
DTSTART;TZID=Asia/Krasnoyarsk:20220302T090000
DTEND;TZID=Asia/Krasnoyarsk:20220302T110000
DTSTAMP:20260423T195230
CREATED:20220324T063101Z
LAST-MODIFIED:20220324T063101Z
UID:19456-1646211600-1646218800@bkad.slemankab.go.id
SUMMARY:Rapat Evaluasi Penerimaan Retribusi Daerah
DESCRIPTION:RR IIIB Lt.3 BKAD Sleman
URL:https://bkad.slemankab.go.id/event/rapat-evaluasi-penerimaan-retribusi-daerah/
LOCATION:Ruang Rapat IIIB Lt.3
END:VEVENT
BEGIN:VEVENT
DTSTART;TZID=Asia/Krasnoyarsk:20220302T090000
DTEND;TZID=Asia/Krasnoyarsk:20220302T133000
DTSTAMP:20260423T195230
CREATED:20220324T062707Z
LAST-MODIFIED:20220324T062707Z
UID:19452-1646211600-1646227800@bkad.slemankab.go.id
SUMMARY:Pemantauan Penyampaian SPPT PBB-P2 Tahun 2022
DESCRIPTION:Kalurahan Donoharjo\, Pekembinangun\, Trihanggo
URL:https://bkad.slemankab.go.id/event/pemantauan-penyampaian-sppt-pbb-p2-tahun-2022-17/
END:VEVENT
BEGIN:VEVENT
DTSTART;TZID=Asia/Krasnoyarsk:20220304T090000
DTEND;TZID=Asia/Krasnoyarsk:20220304T103000
DTSTAMP:20260423T195230
CREATED:20220324T063453Z
LAST-MODIFIED:20220324T063453Z
UID:19460-1646384400-1646389800@bkad.slemankab.go.id
SUMMARY:Rekonsiliasi Perizinan Air Tanah dan Perhitungan Pengambilan Volume Air Tanah
DESCRIPTION:RR Bidang Dafdatap BKAD Sleman
URL:https://bkad.slemankab.go.id/event/rekonsiliasi-perizinan-air-tanah-dan-perhitungan-pengambilan-volume-air-tanah-2/
LOCATION:Ruang Rapat Bid. Dafdatap
END:VEVENT
BEGIN:VEVENT
DTSTART;TZID=Asia/Krasnoyarsk:20220304T090000
DTEND;TZID=Asia/Krasnoyarsk:20220304T103000
DTSTAMP:20260423T195230
CREATED:20220324T063730Z
LAST-MODIFIED:20220324T063730Z
UID:19462-1646384400-1646389800@bkad.slemankab.go.id
SUMMARY:Tindak Lanjut Hasil Pembahasan RKP DBH CHT TA 2022
DESCRIPTION:RR IIIA Lt.3 BKAD Sleman
URL:https://bkad.slemankab.go.id/event/tindak-lanjut-hasil-pembahasan-rkp-dbh-cht-ta-2022/
LOCATION:Ruang Rapat IIIA Lt.3
END:VEVENT
BEGIN:VEVENT
DTSTART;TZID=Asia/Krasnoyarsk:20220304T090000
DTEND;TZID=Asia/Krasnoyarsk:20220304T103000
DTSTAMP:20260423T195230
CREATED:20220324T063841Z
LAST-MODIFIED:20220324T063841Z
UID:19464-1646384400-1646389800@bkad.slemankab.go.id
SUMMARY:Koordinasi Penerimaan PAD TA 2022
DESCRIPTION:RR IIA Lt.2 BKAD
URL:https://bkad.slemankab.go.id/event/koordinasi-penerimaan-pad-ta-2022-2/
LOCATION:Ruang Rapat IIA Lt.2
END:VEVENT
BEGIN:VEVENT
DTSTART;TZID=Asia/Krasnoyarsk:20220304T090000
DTEND;TZID=Asia/Krasnoyarsk:20220304T133000
DTSTAMP:20260423T195230
CREATED:20220324T063323Z
LAST-MODIFIED:20220324T063323Z
UID:19458-1646384400-1646400600@bkad.slemankab.go.id
SUMMARY:Pemantauan Penyampaian SPPT PBB-P2 Tahun 2022
DESCRIPTION:Kalurahan Lumbungrejo\, Sendangarum\, Bokoharjo
URL:https://bkad.slemankab.go.id/event/pemantauan-penyampaian-sppt-pbb-p2-tahun-2022-18/
END:VEVENT
BEGIN:VEVENT
DTSTART;TZID=Asia/Krasnoyarsk:20220307T090000
DTEND;TZID=Asia/Krasnoyarsk:20220307T110000
DTSTAMP:20260423T195230
CREATED:20220308T063025Z
LAST-MODIFIED:20220308T063025Z
UID:19281-1646643600-1646650800@bkad.slemankab.go.id
SUMMARY:Finalisasi Perbup Tentang Badan Layanan Umum Daerah (BLUD)
DESCRIPTION:
URL:https://bkad.slemankab.go.id/event/finalisasi-perbup-tentang-badan-layanan-umum-daerah-blud/
LOCATION:Ruang Rapat IIIA Lt.3
END:VEVENT
BEGIN:VEVENT
DTSTART;TZID=Asia/Krasnoyarsk:20220307T090000
DTEND;TZID=Asia/Krasnoyarsk:20220307T110000
DTSTAMP:20260423T195230
CREATED:20220308T063232Z
LAST-MODIFIED:20220308T063851Z
UID:19284-1646643600-1646650800@bkad.slemankab.go.id
SUMMARY:Rekonsiliasi Pendapatan Pajak Daerah Januari 2022
DESCRIPTION:
URL:https://bkad.slemankab.go.id/event/rekonsiliasi-pendapatan-pajak-daerah-januari-2022-2/
LOCATION:Ruang Rapat Bid. Penagihan
END:VEVENT
BEGIN:VEVENT
DTSTART;TZID=Asia/Krasnoyarsk:20220307T090000
DTEND;TZID=Asia/Krasnoyarsk:20220307T170000
DTSTAMP:20260423T195230
CREATED:20220308T063659Z
LAST-MODIFIED:20220308T063759Z
UID:19286-1646643600-1646672400@bkad.slemankab.go.id
SUMMARY:Pemantauan Penyampaian SPPT PBB P2 Tahun 2022
DESCRIPTION:Kalurahan Tirtoadi\, Caturtunggal\, Purwomartani\, Sariharjo\, Sumberharjo\, Margokaton
URL:https://bkad.slemankab.go.id/event/pemantauan-penyampaian-sppt-pbb-p2-tahun-2022-15/
END:VEVENT
BEGIN:VEVENT
DTSTART;TZID=Asia/Krasnoyarsk:20220308T090000
DTEND;TZID=Asia/Krasnoyarsk:20220308T090000
DTSTAMP:20260423T195230
CREATED:20220308T064136Z
LAST-MODIFIED:20220308T064136Z
UID:19288-1646730000-1646730000@bkad.slemankab.go.id
SUMMARY:Pemantauan Penyampaian SPPT PBB P2 Tahun 2022
DESCRIPTION:Kalurahan Harjobinangun\, Kalitirto\, Nogotirto
URL:https://bkad.slemankab.go.id/event/pemantauan-penyampaian-sppt-pbb-p2-tahun-2022-16/
END:VEVENT
BEGIN:VEVENT
DTSTART;TZID=Asia/Krasnoyarsk:20220308T130000
DTEND;TZID=Asia/Krasnoyarsk:20220308T150000
DTSTAMP:20260423T195230
CREATED:20220308T064410Z
LAST-MODIFIED:20220308T064410Z
UID:19290-1646744400-1646751600@bkad.slemankab.go.id
SUMMARY:Rapat Koordinasi Tim Survei Standar Harga Satuan Barang dan Jasa
DESCRIPTION:
URL:https://bkad.slemankab.go.id/event/rapat-koordinasi-tim-survei-standar-harga-satuan-barang-dan-jasa/
LOCATION:Ruang Rapat IIIB Lt.3
END:VEVENT
BEGIN:VEVENT
DTSTART;TZID=Asia/Krasnoyarsk:20220309T090000
DTEND;TZID=Asia/Krasnoyarsk:20220309T090000
DTSTAMP:20260423T195230
CREATED:20220309T033216Z
LAST-MODIFIED:20220309T033216Z
UID:19297-1646816400-1646816400@bkad.slemankab.go.id
SUMMARY:Menerima Kunjungan Kerja Dari Bapenda Pemkot Serang Terkait Pengelolaan Pajak Daerah
DESCRIPTION:
URL:https://bkad.slemankab.go.id/event/menerima-kunjungan-kerja-dari-bapenda-pemkot-serang-terkait-pengelolaan-pajak-daerah/
LOCATION:Ruang Rapat IIA Lt.2
END:VEVENT
BEGIN:VEVENT
DTSTART;TZID=Asia/Krasnoyarsk:20220309T100000
DTEND;TZID=Asia/Krasnoyarsk:20220309T100000
DTSTAMP:20260423T195230
CREATED:20220309T033502Z
LAST-MODIFIED:20220309T033502Z
UID:19299-1646820000-1646820000@bkad.slemankab.go.id
SUMMARY:Pembahasan Mekanisme Penghapusan Piutang Pajak Secara Bersyarat
DESCRIPTION:
URL:https://bkad.slemankab.go.id/event/pembahasan-mekanisme-penghapusan-piutang-pajak-secara-bersyarat/
LOCATION:Ruang Rapat IIIA Lt.3
END:VEVENT
BEGIN:VEVENT
DTSTART;TZID=Asia/Krasnoyarsk:20220309T130000
DTEND;TZID=Asia/Krasnoyarsk:20220309T130000
DTSTAMP:20260423T195230
CREATED:20220309T033004Z
LAST-MODIFIED:20220309T033004Z
UID:19295-1646830800-1646830800@bkad.slemankab.go.id
SUMMARY:Rekonsiliasi Pembayaran PBB P2 Kab.Sleman Periode 1-28 Februari 2022
DESCRIPTION:
URL:https://bkad.slemankab.go.id/event/rekonsiliasi-pembayaran-pbb-p2-kab-sleman-periode-1-28-februari-2022/
LOCATION:Ruang Rapat Bid. Penagihan
END:VEVENT
BEGIN:VEVENT
DTSTART;TZID=Asia/Krasnoyarsk:20220310T083000
DTEND;TZID=Asia/Krasnoyarsk:20220310T083000
DTSTAMP:20260423T195230
CREATED:20220310T023619Z
LAST-MODIFIED:20220310T023619Z
UID:19308-1646901000-1646901000@bkad.slemankab.go.id
SUMMARY:Tindak Lanjut Rekomendasi DPRD atas LKPJ Bupati TA 2002
DESCRIPTION:Ruang Rapat IIA Lt.2 BKAD Sleman
URL:https://bkad.slemankab.go.id/event/tindak-lanjut-rekomendasi-dprd-atas-lkpj-bupati-ta-2002/
LOCATION:Ruang Rapat IIA Lt.2
END:VEVENT
BEGIN:VEVENT
DTSTART;TZID=Asia/Krasnoyarsk:20220310T090000
DTEND;TZID=Asia/Krasnoyarsk:20220310T090000
DTSTAMP:20260423T195230
CREATED:20220310T014138Z
LAST-MODIFIED:20220310T014138Z
UID:19302-1646902800-1646902800@bkad.slemankab.go.id
SUMMARY:Penyusunan SK Anggaran Pemerintah Daerah
DESCRIPTION:
URL:https://bkad.slemankab.go.id/event/penyusunan-sk-anggaran-pemerintah-daerah/
LOCATION:Ruang Rapat IIC BKAD
END:VEVENT
BEGIN:VEVENT
DTSTART;TZID=Asia/Krasnoyarsk:20220310T090000
DTEND;TZID=Asia/Krasnoyarsk:20220310T090000
DTSTAMP:20260423T195230
CREATED:20220310T014432Z
LAST-MODIFIED:20220310T014432Z
UID:19306-1646902800-1646902800@bkad.slemankab.go.id
SUMMARY:Rapat Koordinasi Usulan Penghapusan Bangunan Gedung Kantor Kapanewon Moyudan
DESCRIPTION:
URL:https://bkad.slemankab.go.id/event/rapat-koordinasi-usulan-penghapusan-bangunan-gedung-kantor-kapanewon-moyudan/
LOCATION:Ruang Rapat Bid. Aset
END:VEVENT
BEGIN:VEVENT
DTSTART;TZID=Asia/Krasnoyarsk:20220310T090000
DTEND;TZID=Asia/Krasnoyarsk:20220310T090000
DTSTAMP:20260423T195230
CREATED:20220310T024220Z
LAST-MODIFIED:20220310T024220Z
UID:19311-1646902800-1646902800@bkad.slemankab.go.id
SUMMARY:Rapat Koordinasi Tindak Lanjut Hasil Pembahasan RKP DBH CHT TA 2022 dan Kontribusi Daerah untuk Mendukung Program Jaminan Kesehatan yang Berasal dari Pajak Rokok
DESCRIPTION:Ruang Rapat IIIA Lt.3 BKAD Sleman
URL:https://bkad.slemankab.go.id/event/rapat-koordinasi-tindak-lanjut-hasil-pembahasan-rkp-dbh-cht-ta-2022-dan-kontribusi-daerah-untuk-mendukung-program-jaminan-kesehatan-yang-berasal-dari-pajak-rokok/
LOCATION:Ruang Rapat IIIA Lt.3
END:VEVENT
BEGIN:VEVENT
DTSTART;TZID=Asia/Krasnoyarsk:20220311T090000
DTEND;TZID=Asia/Krasnoyarsk:20220311T103000
DTSTAMP:20260423T195230
CREATED:20220324T064610Z
LAST-MODIFIED:20220324T064610Z
UID:19468-1646989200-1646994600@bkad.slemankab.go.id
SUMMARY:Evaluasi Penagihan Tunggakan PBB-P2 Tahun 2022 dan Himbauan Pembayaran PBB-P2 Panutan
DESCRIPTION:Evaluasi Penagihan Tunggakan PBB-P2 Tahun 2022 wilayah Kalurahan Caturtunggal\, Kapanewon Depok dan Evaluasi Himbauan Pembayaran PBB-P2 Panutan. \nRR Bidang Penagihan BKAD Sleman
URL:https://bkad.slemankab.go.id/event/evaluasi-penagihan-tunggakan-pbb-p2-tahun-2022-dan-himbauan-pembayaran-pbb-p2-panutan/
LOCATION:Ruang Rapat Bid. Penagihan
END:VEVENT
BEGIN:VEVENT
DTSTART;TZID=Asia/Krasnoyarsk:20220311T090000
DTEND;TZID=Asia/Krasnoyarsk:20220311T103000
DTSTAMP:20260423T195230
CREATED:20220324T065031Z
LAST-MODIFIED:20220324T065031Z
UID:19472-1646989200-1646994600@bkad.slemankab.go.id
SUMMARY:Menerima Kunjungan Kerja Bapenda Kab. Kampar terkait PAD Sektor Pajak Daerah
DESCRIPTION:RR IIA Lt.2 BKAD Sleman
URL:https://bkad.slemankab.go.id/event/menerima-kunjungan-kerja-bapenda-kab-kampar-terkait-pad-sektor-pajak-daerah/
LOCATION:Ruang Rapat IIA Lt.2
END:VEVENT
BEGIN:VEVENT
DTSTART;TZID=Asia/Krasnoyarsk:20220311T090000
DTEND;TZID=Asia/Krasnoyarsk:20220311T110000
DTSTAMP:20260423T195230
CREATED:20220324T064822Z
LAST-MODIFIED:20220324T064822Z
UID:19470-1646989200-1646996400@bkad.slemankab.go.id
SUMMARY:Rapat Koordinasi Pencermatan RKB Tanggap Darurat Covid-19 Tahap II
DESCRIPTION:RR IIIB Lt.3 BKAD Sleman
URL:https://bkad.slemankab.go.id/event/rapat-koordinasi-pencermatan-rkb-tanggap-darurat-covid-19-tahap-ii/
LOCATION:Ruang Rapat IIIB Lt.3
END:VEVENT
BEGIN:VEVENT
DTSTART;TZID=Asia/Krasnoyarsk:20220311T130000
DTEND;TZID=Asia/Krasnoyarsk:20220311T150000
DTSTAMP:20260423T195230
CREATED:20220324T064316Z
LAST-MODIFIED:20220324T064316Z
UID:19466-1647003600-1647010800@bkad.slemankab.go.id
SUMMARY:Koordinasi Persiapan Sosialisasi E-Bupot Pajakku
DESCRIPTION:Oleh KPP terkait dengan Pembayaran Pajak Lewat CMS BPD\, Penyediaan Kebutuhan Data Rekon Pajak Pusat melalui CMS BPD. \nRR IIIA Lt.3 BKAD Sleman
URL:https://bkad.slemankab.go.id/event/koordinasi-persiapan-sosialisasi-e-bupot-pajakku/
LOCATION:Ruang Rapat IIIA Lt.3
END:VEVENT
BEGIN:VEVENT
DTSTART;TZID=Asia/Krasnoyarsk:20220314T073000
DTEND;TZID=Asia/Krasnoyarsk:20220314T073000
DTSTAMP:20260423T195230
CREATED:20220314T011714Z
LAST-MODIFIED:20220314T011714Z
UID:19317-1647243000-1647243000@bkad.slemankab.go.id
SUMMARY:Apel Pagi
DESCRIPTION:
URL:https://bkad.slemankab.go.id/event/apel-pagi/
LOCATION:Halaman Depan BKAD
END:VEVENT
BEGIN:VEVENT
DTSTART;TZID=Asia/Krasnoyarsk:20220314T083000
DTEND;TZID=Asia/Krasnoyarsk:20220314T103000
DTSTAMP:20260423T195230
CREATED:20220314T012132Z
LAST-MODIFIED:20220314T012132Z
UID:19320-1647246600-1647253800@bkad.slemankab.go.id
SUMMARY:Rapat Teknis Pelaksanaan Vaksinasi Covid 19 (Booster) di Kalurahan
DESCRIPTION:Lt IIIB BKAD Sleman
URL:https://bkad.slemankab.go.id/event/rapat-teknis-pelaksanaan-vaksinasi-covid-19-booster-di-kalurahan/
LOCATION:Ruang Rapat IIIB Lt.3
END:VEVENT
BEGIN:VEVENT
DTSTART;TZID=Asia/Krasnoyarsk:20220314T090000
DTEND;TZID=Asia/Krasnoyarsk:20220314T090000
DTSTAMP:20260423T195230
CREATED:20220314T070203Z
LAST-MODIFIED:20220314T070203Z
UID:19334-1647248400-1647248400@bkad.slemankab.go.id
SUMMARY:Rapat Persiapan Pencairan TPP Bulan Januari-Februari 2022
DESCRIPTION:Ruang Rapat IIA BKAD Sleman
URL:https://bkad.slemankab.go.id/event/rapat-persiapan-pencairan-tpp-bulan-januari-februari-2022/
LOCATION:Ruang Rapat IIA Lt.2
END:VEVENT
END:VCALENDAR